Shooting information for this photo
Camera: | PENTAX K-5 II s |
Exposure: | 0.008 sec. (1/125) |
Aperture: | f/8.0 |
Focal Length: | 70.0 mm (35 mm equivalent: 105.0 mm) |
Flash: | Off, Did not fire |
Exposure mode: | Aperture-priority AE |
Resolution: | 240 x 240 dpi |
Dimension: | 1500 x 994 pixels |
Original Date: | 2018:08:15 10:44:42 |
Created on: | 2018:08:15 10:44:42 |
Modified on: | 2018:08:24 23:56:24 |
Software: | Adobe Photoshop Elements 13.0 (Macintosh) |
Already Applied | True |
Blue Hue | -15 |
Blue Saturation | +20 |
Brightness | +43 |
Camera Profile | Embedded |
Chromatic Aberration B | 0 |
Chromatic Aberration R | 0 |
Circle Of Confusion | 0.020 mm |
Color Mode | RGB |
Color Noise Reduction | 33 |
Color Space | Uncalibrated |
Color Temperature | 6150 |
Contrast | High |
Convert To Grayscale | False |
Custom Rendered | Normal |
Date Created | 2018:08:15 10:44:42-04:00 |
Exposure | +0.65 |
Exposure Compensation | 0 |
Exposure Mode | Auto |
Field Of View | 19.5 deg |
Fill Light | 17 |
Focal Length In 35mm Format | 105 mm |
Format | image/jpeg |
Green Hue | +17 |
Green Saturation | +13 |
Has Crop | False |
Has Settings | True |
Highlight Recovery | 55 |
Hue Adjustment Aqua | -23 |
Hue Adjustment Blue | +15 |
Hue Adjustment Green | +12 |
Hue Adjustment Magenta | -25 |
Hue Adjustment Orange | +13 |
Hue Adjustment Purple | -20 |
Hue Adjustment Red | +13 |
Hue Adjustment Yellow | +12 |
Hyperfocal Distance | 30.58 m |
ICC Profile Name | Adobe RGB (1998) |
ISO | 800 |
Image Size | 1500x994 |
Light Value | 10.0 |
Luminance Adjustment Aqua | 0 |
Luminance Adjustment Blue | -23 |
Luminance Adjustment Green | +18 |
Luminance Adjustment Magenta | -22 |
Luminance Adjustment Orange | +20 |
Luminance Adjustment Purple | -18 |
Luminance Adjustment Red | -14 |
Luminance Adjustment Yellow | +20 |
Luminance Smoothing | 14 |
Marked | False |
Metering Mode | Center-weighted average |
Parametric Darks | -13 |
Parametric Highlight Split | 75 |
Parametric Highlights | +16 |
Parametric Lights | +13 |
Parametric Midtone Split | 50 |
Parametric Shadow Split | 25 |
Parametric Shadows | +26 |
Photometric Interpretation | RGB |
Rating | 0 |
Raw File Name | IMGP2078.DNG |
Red Hue | +12 |
Red Saturation | +11 |
Samples Per Pixel | 3 |
Saturation | Normal |
Saturation Adjustment Aqua | 0 |
Saturation Adjustment Blue | +20 |
Saturation Adjustment Green | +23 |
Saturation Adjustment Magenta | +15 |
Saturation Adjustment Orange | +12 |
Saturation Adjustment Purple | +17 |
Saturation Adjustment Red | +12 |
Saturation Adjustment Yellow | +23 |
Scale Factor To 35 mm Equivalent | 1.5 |
Scene Capture Type | Standard |
Sensing Method | One-chip color area |
Shadow Tint | -4 |
Shadows | 11 |
Sharpness | Hard |
Split Toning Balance | +33 |
Split Toning Highlight Hue | 41 |
Split Toning Highlight Saturation | 14 |
Split Toning Shadow Hue | 50 |
Split Toning Shadow Saturation | 15 |
Subject Distance Range | Close |
Time Zone Offset | -4 -4 |
Tint | +14 |
Tone Curve | 0, 0, 32, 22, 64, 56, 128, 128, 192, 196, 255, 255 |
Tone Curve Name | Medium Contrast |
Version | 4.0 |
Vibrance | +10 |
Vignette Amount | 0 |
White Balance | Auto |