Shooting information for this photo
Camera: | PENTAX K-5 II s |
Exposure: | 0.0125 sec. (1/80) |
Aperture: | f/7.1 |
Focal Length: | 17.0 mm (35 mm equivalent: 25.0 mm) |
Flash: | Off, Did not fire |
Exposure mode: | Aperture-priority AE |
Resolution: | 240 x 240 dpi |
Dimension: | 1500 x 994 pixels |
Original Date: | 2018:08:14 11:56:52 |
Created on: | 2018:08:14 11:56:52 |
Modified on: | 2018:12:30 11:31:02 |
Software: | Adobe Photoshop Elements 13.0 (Macintosh) |
Already Applied | True |
Blue Hue | +13 |
Blue Saturation | +13 |
Brightness | +48 |
Camera Profile | Embedded |
Chromatic Aberration B | 0 |
Chromatic Aberration R | 0 |
Circle Of Confusion | 0.020 mm |
Color Mode | RGB |
Color Noise Reduction | 0 |
Color Space | Uncalibrated |
Color Temperature | 5500 |
Contrast | High |
Convert To Grayscale | False |
Custom Rendered | Normal |
Date Created | 2018:08:14 11:56:52-04:00 |
Exposure | +0.35 |
Exposure Compensation | 0 |
Exposure Mode | Auto |
Field Of View | 71.5 deg |
Fill Light | 35 |
Focal Length In 35mm Format | 25 mm |
Format | image/jpeg |
Green Hue | +13 |
Green Saturation | +10 |
Has Crop | False |
Has Settings | True |
Highlight Recovery | 42 |
Hue Adjustment Aqua | +23 |
Hue Adjustment Blue | +17 |
Hue Adjustment Green | +22 |
Hue Adjustment Magenta | +20 |
Hue Adjustment Orange | +23 |
Hue Adjustment Purple | +21 |
Hue Adjustment Red | -36 |
Hue Adjustment Yellow | +23 |
Hyperfocal Distance | 1.99 m |
ICC Profile Name | Adobe RGB (1998) |
ISO | 100 |
Image Size | 1500x994 |
Light Value | 12.0 |
Luminance Adjustment Aqua | +13 |
Luminance Adjustment Blue | +13 |
Luminance Adjustment Green | +41 |
Luminance Adjustment Magenta | -26 |
Luminance Adjustment Orange | +16 |
Luminance Adjustment Purple | -26 |
Luminance Adjustment Red | +18 |
Luminance Adjustment Yellow | +15 |
Luminance Smoothing | 0 |
Marked | False |
Metering Mode | Center-weighted average |
Parametric Darks | +15 |
Parametric Highlight Split | 75 |
Parametric Highlights | -23 |
Parametric Lights | +13 |
Parametric Midtone Split | 50 |
Parametric Shadow Split | 25 |
Parametric Shadows | -16 |
Photometric Interpretation | RGB |
Rating | 0 |
Raw File Name | IMGP2023.DNG |
Red Hue | +13 |
Red Saturation | +18 |
Samples Per Pixel | 3 |
Saturation | Normal |
Saturation Adjustment Aqua | +17 |
Saturation Adjustment Blue | +23 |
Saturation Adjustment Green | +18 |
Saturation Adjustment Magenta | +24 |
Saturation Adjustment Orange | +14 |
Saturation Adjustment Purple | +18 |
Saturation Adjustment Red | +32 |
Saturation Adjustment Yellow | +22 |
Scale Factor To 35 mm Equivalent | 1.5 |
Scene Capture Type | Standard |
Sensing Method | One-chip color area |
Shadow Tint | +11 |
Shadows | 5 |
Sharpness | Hard |
Split Toning Balance | +25 |
Split Toning Highlight Hue | 33 |
Split Toning Highlight Saturation | 15 |
Split Toning Shadow Hue | 65 |
Split Toning Shadow Saturation | 10 |
Subject Distance Range | Distant |
Time Zone Offset | -4 -4 |
Tint | +10 |
Tone Curve | 0, 0, 32, 22, 64, 56, 128, 128, 192, 196, 255, 255 |
Tone Curve Name | Medium Contrast |
Version | 4.0 |
Vibrance | +10 |
Vignette Amount | 0 |
White Balance | Auto |