Shooting information for this photo
Camera: | PENTAX K-5 II s |
Exposure: | 0.0125 sec. (1/80) |
Aperture: | f/8.0 |
Focal Length: | 17.0 mm (35 mm equivalent: 25.0 mm) |
Flash: | Off, Did not fire |
Exposure mode: | Aperture-priority AE |
Resolution: | 240 x 240 dpi |
Dimension: | 1500 x 994 pixels |
Original Date: | 2018:08:14 16:07:21 |
Digitized Date: | 2018:08:14 16:07:21-04:00 |
Created on: | 2018:08:14 16:07:21 |
Modified on: | 2018:08:15 12:42:17 |
Software: | Adobe Photoshop CS3 Macintosh |
Already Applied | True |
Blue Hue | -23 |
Blue Saturation | +20 |
Brightness | +51 |
Camera Profile | Embedded |
Chromatic Aberration B | 0 |
Chromatic Aberration R | 0 |
Circle Of Confusion | 0.020 mm |
Color Mode | RGB |
Color Noise Reduction | 0 |
Color Space | Uncalibrated |
Color Temperature | 5500 |
Contrast | High |
Convert To Grayscale | False |
Custom Rendered | Normal |
Exposure | +1.00 |
Exposure Compensation | 0 |
Exposure Mode | Auto |
Field Of View | 71.5 deg |
Fill Light | 54 |
Flash Fired | False |
Flash Function | False |
Flash Mode | Off |
Flash Red Eye Mode | False |
Flash Return | No return detection |
Focal Length In 35mm Format | 25 mm |
Format | image/jpeg |
Green Hue | +28 |
Green Saturation | +14 |
Has Crop | False |
Has Settings | True |
Highlight Recovery | 62 |
Hue Adjustment Aqua | +14 |
Hue Adjustment Blue | +16 |
Hue Adjustment Green | +16 |
Hue Adjustment Magenta | +27 |
Hue Adjustment Orange | +15 |
Hue Adjustment Purple | +28 |
Hue Adjustment Red | +19 |
Hue Adjustment Yellow | +14 |
Hyperfocal Distance | 1.77 m |
ICC Profile Name | Adobe RGB (1998) |
ISO | 100 |
Image Size | 1500x994 |
Light Value | 12.3 |
Luminance Adjustment Aqua | +18 |
Luminance Adjustment Blue | -51 |
Luminance Adjustment Green | +23 |
Luminance Adjustment Magenta | -24 |
Luminance Adjustment Orange | -21 |
Luminance Adjustment Purple | -24 |
Luminance Adjustment Red | -18 |
Luminance Adjustment Yellow | -21 |
Luminance Smoothing | 0 |
Metering Mode | Center-weighted average |
Parametric Darks | +17 |
Parametric Highlight Split | 75 |
Parametric Highlights | +13 |
Parametric Lights | +13 |
Parametric Midtone Split | 50 |
Parametric Shadow Split | 25 |
Parametric Shadows | -10 |
Rating | 0 |
Raw File Name | IMGP2059.DNG |
Red Hue | +12 |
Red Saturation | +12 |
Saturation | Normal |
Saturation Adjustment Aqua | +12 |
Saturation Adjustment Blue | +9 |
Saturation Adjustment Green | +13 |
Saturation Adjustment Magenta | +19 |
Saturation Adjustment Orange | -17 |
Saturation Adjustment Purple | +21 |
Saturation Adjustment Red | -17 |
Saturation Adjustment Yellow | -18 |
Scale Factor To 35 mm Equivalent | 1.5 |
Scene Capture Type | Standard |
Sensing Method | One-chip color area |
Shadow Tint | +10 |
Shadows | 5 |
Sharpness | Hard |
Split Toning Balance | +38 |
Split Toning Highlight Hue | 38 |
Split Toning Highlight Saturation | 14 |
Split Toning Shadow Hue | 224 |
Split Toning Shadow Saturation | 11 |
Subject Distance Range | Close |
Time Zone Offset | -4 -4 |
Tint | +10 |
Tone Curve | 0, 0, 32, 22, 64, 56, 128, 128, 192, 196, 255, 255 |
Tone Curve Name | Medium Contrast |
Version | 4.0 |
Vibrance | +12 |
Vignette Amount | 0 |
White Balance | Auto |