Shooting information for this photo
Camera: | NIKON CORPORATION NIKON D610 |
Exposure: | 0.008 sec. (1/125) |
Aperture: | f/2.8 |
Focal Length: | 34.0 mm (35 mm equivalent: 34.0 mm) |
Flash: | On, Return not detected |
Exposure mode: | Manual |
Max Aperture: | 2.8 |
Resolution: | 240 x 240 dpi |
Original Date: | 2019:04:01 18:16:06 |
Created on: | 2019:04:01 17:16:06.60 |
Modified on: | 2025:04:01 06:22:59 |
Software: | Adobe Photoshop Lightroom Classic 14.2 (Windows) |
Copyright: | Rainer Koerner |
Already Applied | True |
Approximate Focus Distance | 2 |
Artist | Rainer Koerner |
Auto Lateral CA | 1 |
Blacks 2012 | -33 |
Blue Hue | 0 |
Blue Saturation | 0 |
CFA Pattern | [Red,Green][Green,Blue] |
Camera Profile | Adobe Standard |
Circle Of Confusion | 0.030 mm |
Clarity 2012 | 0 |
Color Grade Blending | 50 |
Color Grade Global Hue | 0 |
Color Grade Global Lum | 0 |
Color Grade Global Sat | 0 |
Color Grade Highlight Lum | 0 |
Color Grade Midtone Hue | 0 |
Color Grade Midtone Lum | 0 |
Color Grade Midtone Sat | 0 |
Color Grade Shadow Lum | 0 |
Color Noise Reduction | 0 |
Color Space | sRGB |
Color Temperature | 5350 |
Compatible Version | 268435456 |
Contrast | Normal |
Contrast 2012 | +6 |
Creator | Rainer Koerner |
Crop Angle | 0 |
Crop Bottom | 0.946933 |
Crop Constrain To Warp | 0 |
Crop Left | 0 |
Crop Right | 0.946933 |
Crop Top | 0 |
Custom Rendered | Normal |
Date Created | 2019:04:01 18:16:06 |
Defringe Green Amount | 0 |
Defringe Green Hue Hi | 60 |
Defringe Green Hue Lo | 40 |
Defringe Purple Amount | 0 |
Defringe Purple Hue Hi | 70 |
Defringe Purple Hue Lo | 30 |
Dehaze | 0 |
Digital Zoom Ratio | 1 |
Distortion Correction Already Applied | True |
Exposure 2012 | +0.60 |
Exposure Compensation | 0 |
Exposure Mode | Manual |
Field Of View | 55.8 deg |
Focal Length In 35mm Format | 34 mm |
Format | image/jpeg |
Gain Control | Low gain up |
Grain Amount | 0 |
Green Hue | 0 |
Green Saturation | 0 |
HDR Edit Mode | 0 |
Has Crop | True |
Has Settings | True |
Highlights 2012 | -63 |
Hue Adjustment Aqua | 0 |
Hue Adjustment Blue | 0 |
Hue Adjustment Green | 0 |
Hue Adjustment Magenta | 0 |
Hue Adjustment Orange | 0 |
Hue Adjustment Purple | 0 |
Hue Adjustment Red | 0 |
Hue Adjustment Yellow | 0 |
Hyperfocal Distance | 13.74 m |
ISO | 400 |
Image Number | 25179 |
Image Size | 1402x2100 |
Lateral Chromatic Aberration Correction Already Applied | True |
Lens | TAMRON SP 24-70mm F2.8 Di VC USD A007N |
Lens ID | Tamron SP 24-70mm f/2.8 Di VC USD |
Lens Info | 24-70mm f/2.8 |
Lens Manual Distortion Amount | 0 |
Lens Model | TAMRON SP 24-70mm F2.8 Di VC USD A007N |
Lens Profile Distortion Scale | 100 |
Lens Profile Enable | 1 |
Lens Profile Filename | NIKON CORPORATION (TAMRON SP 24-70mm F_2.8 Di VC USD A007N) - RAW.lcp |
Lens Profile Is Embedded | False |
Lens Profile Name | Adobe (TAMRON SP 24-70mm F2.8 Di VC USD A007N, NIKON CORPORATION) |
Lens Profile Setup | LensDefaults |
Lens Profile Vignetting Scale | 100 |
Light Source | Unknown |
Light Value | 7.9 |
Look Amount | 1 |
Look Cluster | Adobe |
Look Group | Artistic |
Look Name | Artistic 05 |
Look Parameters Convert To Grayscale | False |
Look Parameters Look Table | E1095149FDB39D7A057BAB208837E2 E1 |
Look Parameters Process Version | 15.4 |
Look Parameters RGB Table | 887848C4E24524268E17603B26A576 B3 |
Look Parameters RGB Table Amount | 0.25 |
Look Parameters Version | 17.2 |
Look Supports Monochrome | false |
Luminance Adjustment Aqua | 0 |
Luminance Adjustment Blue | 0 |
Luminance Adjustment Green | 0 |
Luminance Adjustment Magenta | 0 |
Luminance Adjustment Orange | 0 |
Luminance Adjustment Purple | 0 |
Luminance Adjustment Red | 0 |
Luminance Adjustment Yellow | 0 |
Luminance Smoothing | 0 |
Metering Mode | Spot |
Override Look Vignette | False |
Parametric Darks | 0 |
Parametric Highlight Split | 75 |
Parametric Highlights | 0 |
Parametric Lights | 0 |
Parametric Midtone Split | 50 |
Parametric Shadow Split | 25 |
Parametric Shadows | 0 |
Perspective Aspect | 0 |
Perspective Horizontal | 0 |
Perspective Rotate | 0.0 |
Perspective Scale | 100 |
Perspective Upright | 1 |
Perspective Vertical | 0 |
Perspective X | 0.00 |
Perspective Y | 0.00 |
Pick | 0 |
Point Colors | -1.000000, -1.000000, -1.000000, -1.000000, -1.000000, -1.000000, -1.000000, -1.000000, -1.000000, -1.000000, -1.000000, -1.000000, -1.000000, -1.000000, -1.000000, -1.000000, -1.000000, -1.000000, -1.000000 |
Post Crop Vignette Amount | 0 |
Process Version | 15.4 |
Raw File Name | _DSC7430.NEF |
Red Hue | 0 |
Red Saturation | 0 |
Region Applied To Dimensions H | 5697 |
Region Applied To Dimensions Unit | pixel |
Region Applied To Dimensions W | 3803 |
Region Area H | 0.08748 |
Region Area W | 0.13124 |
Region Area X | 0.52614 |
Region Area Y | 0.12984 |
Region Rotation | -1.57080 |
Region Type | Face |
Rights | Rainer Koerner |
Saturation | Normal |
Saturation Adjustment Aqua | 0 |
Saturation Adjustment Blue | 0 |
Saturation Adjustment Green | 0 |
Saturation Adjustment Magenta | 0 |
Saturation Adjustment Orange | 0 |
Saturation Adjustment Purple | 0 |
Saturation Adjustment Red | 0 |
Saturation Adjustment Yellow | 0 |
Scale Factor To 35 mm Equivalent | 1.0 |
Scene Capture Type | Standard |
Scene Type | Directly photographed |
Sensing Method | One-chip color area |
Sensitivity Type | Recommended Exposure Index |
Shadow Tint | 0 |
Shadows 2012 | +67 |
Sharpen Detail | 25 |
Sharpen Edge Masking | 0 |
Sharpen Radius | +1.0 |
Sharpness | Normal |
Split Toning Balance | 0 |
Split Toning Highlight Hue | 0 |
Split Toning Highlight Saturation | 0 |
Split Toning Shadow Hue | 0 |
Split Toning Shadow Saturation | 0 |
Subject | lostplace, young*2019 |
Subject Distance Range | Unknown |
Texture | 0 |
Tint | -6 |
Tone Curve Name 2012 | Linear |
Tone Curve PV2012 | 0, 0, 255, 255 |
Tone Curve PV2012 Blue | 0, 0, 255, 255 |
Tone Curve PV2012 Green | 0, 0, 255, 255 |
Tone Curve PV2012 Red | 0, 0, 255, 255 |
Version | 17.2 |
Vibrance | +19 |
Vignette Amount | 0 |
Vignette Correction Already Applied | True |
Weighted Flat Subject | young*2019, lostplace |
White Balance | Auto |
Whites 2012 | +2 |
GPS Information |
GPS Latitude | 49 deg 26' 52.42" N |
GPS Latitude Ref | North |
GPS Longitude | 11 deg 3' 43.94" E |
GPS Longitude Ref | East |
GPS Position | 49 deg 26' 52.42" N, 11 deg 3' 43.94" E |
GPS Version ID | 2.2.0.0 |