Shooting information for this photo
Camera: | NIKON CORPORATION NIKON D610 |
Exposure: | 0.008 sec. (1/125) |
Aperture: | f/5.6 |
Focal Length: | 14.0 mm (35 mm equivalent: 14.0 mm) |
Flash: | Off, Did not fire |
Exposure mode: | Program AE |
Max Aperture: | 2.8 |
Resolution: | 300 x 300 dpi |
Dimension: | 6016 x 3962 pixels |
Original Date: | 2020:05:20 12:00:36.60 |
Created on: | 2020:05:20 12:00:36.60 |
Modified on: | 2020:05:20 19:51:14.60 |
Software: | Adobe Photoshop CC 2019 (Macintosh) |
Copyright: | JOSE MANUEL POLO LARRONDO |
Already Applied | True |
Approximate Focus Distance | 4294967295 |
Artist | Jose Manuel PoLo Larrondo |
Auto Lateral CA | 1 |
Blacks 2012 | +2 |
Blue Hue | 0 |
Blue Saturation | 0 |
CFA Pattern | [Red,Green][Green,Blue] |
Camera Profile | Adobe Standard |
Circle Of Confusion | 0.030 mm |
Clarity 2012 | +42 |
Color Mode | RGB |
Color Noise Reduction | 73 |
Color Noise Reduction Detail | 75 |
Color Noise Reduction Smoothness | 95 |
Color Space | Uncalibrated |
Color Temperature | 5650 |
Contrast | Normal |
Contrast 2012 | +16 |
Convert To Grayscale | False |
Creator | Jose Manuel PoLo Larrondo |
Custom Rendered | Normal |
Date Created | 2020:05:20 12:00:36.006 |
Defringe Green Amount | 0 |
Defringe Green Hue Hi | 60 |
Defringe Green Hue Lo | 40 |
Defringe Purple Amount | 0 |
Defringe Purple Hue Hi | 70 |
Defringe Purple Hue Lo | 30 |
Dehaze | +18 |
Digital Zoom Ratio | 1 |
Distortion Correction Already Applied | True |
Exposure 2012 | -0.50 |
Exposure Compensation | 0 |
Exposure Mode | Auto |
Field Of View | 104.3 deg |
Focal Length In 35mm Format | 14 mm |
Format | image/jpeg |
Gain Control | None |
Grain Amount | 0 |
Green Hue | 0 |
Green Saturation | 0 |
Has Crop | False |
Has Settings | True |
Highlights 2012 | +14 |
Hue Adjustment Aqua | 0 |
Hue Adjustment Blue | 0 |
Hue Adjustment Green | 0 |
Hue Adjustment Magenta | 0 |
Hue Adjustment Orange | 0 |
Hue Adjustment Purple | 0 |
Hue Adjustment Red | 0 |
Hue Adjustment Yellow | 0 |
Hyperfocal Distance | 1.16 m |
ICC Profile Name | Adobe RGB (1998) |
ISO | 160 |
Image Number | 31093 |
Image Size | 6016x3962 |
Lateral Chromatic Aberration Correction Already Applied | True |
Lens | 14.0 mm f/2.8 |
Lens ID | Samyang AE 14mm f/2.8 ED AS IF UMC |
Lens Info | 14mm f/2.8-1.4 |
Lens Manual Distortion Amount | 0 |
Lens Model | 14.0 mm f/2.8 |
Lens Profile Chromatic Aberration Scale | 100 |
Lens Profile Distortion Scale | 100 |
Lens Profile Enable | 1 |
Lens Profile Filename | NIKON CORPORATION (Samyang 14mm f2.8 ED AS IF UMC) - RAW.lcp |
Lens Profile Name | Adobe (Samyang 14mm f/2.8 ED AS IF UMC, NIKON CORPORATION) |
Lens Profile Setup | Custom |
Lens Profile Vignetting Scale | 100 |
Light Source | Unknown |
Light Value | 11.3 |
Look Amount | 1.000000 |
Look Copyright | © 2018 Adobe Systems, Inc. |
Look Group | Profiles |
Look Name | Adobe Vivid |
Look Parameters Camera Profile | Adobe Standard |
Look Parameters Clarity 2012 | +10 |
Look Parameters Convert To Grayscale | False |
Look Parameters Look Table | 2FE663AB0D3CE5DA7B9F657BBCD66D FE |
Look Parameters Process Version | 11.0 |
Look Parameters Tone Curve PV2012 | 0, 0, 32, 22, 64, 56, 128, 128, 224, 232, 240, 246, 255, 255 |
Look Parameters Version | 12.2.1 |
Look Supports Amount | false |
Look Supports Monochrome | false |
Look Supports Output Referred | false |
Luminance Adjustment Aqua | 0 |
Luminance Adjustment Blue | 0 |
Luminance Adjustment Green | 0 |
Luminance Adjustment Magenta | 0 |
Luminance Adjustment Orange | 0 |
Luminance Adjustment Purple | 0 |
Luminance Adjustment Red | 0 |
Luminance Adjustment Yellow | 0 |
Luminance Noise Reduction Contrast | 58 |
Luminance Noise Reduction Detail | 60 |
Luminance Smoothing | 53 |
Metering Mode | Multi-segment |
Override Look Vignette | False |
Parametric Darks | 0 |
Parametric Highlight Split | 75 |
Parametric Highlights | 0 |
Parametric Lights | 0 |
Parametric Midtone Split | 50 |
Parametric Shadow Split | 25 |
Parametric Shadows | 0 |
Perspective Aspect | 0 |
Perspective Horizontal | 0 |
Perspective Rotate | 0.0 |
Perspective Scale | 100 |
Perspective Upright | 0 |
Perspective Vertical | 0 |
Perspective X | 0.00 |
Perspective Y | 0.00 |
Post Crop Vignette Amount | 0 |
Process Version | 11.0 |
Red Hue | 0 |
Red Saturation | 0 |
Rights | JOSE MANUEL POLO LARRONDO |
Saturation | Normal |
Saturation Adjustment Aqua | 0 |
Saturation Adjustment Blue | +83 |
Saturation Adjustment Green | +22 |
Saturation Adjustment Magenta | +23 |
Saturation Adjustment Orange | +7 |
Saturation Adjustment Purple | +23 |
Saturation Adjustment Red | +13 |
Saturation Adjustment Yellow | +23 |
Scale Factor To 35 mm Equivalent | 1.0 |
Scene Capture Type | Standard |
Scene Type | Directly photographed |
Sensing Method | One-chip color area |
Sensitivity Type | Recommended Exposure Index |
Shadow Tint | 0 |
Shadows 2012 | +21 |
Sharpen Detail | 25 |
Sharpen Edge Masking | 24 |
Sharpen Radius | +1.0 |
Sharpness | Normal |
Split Toning Balance | -52 |
Split Toning Highlight Hue | 20 |
Split Toning Highlight Saturation | 16 |
Split Toning Shadow Hue | 0 |
Split Toning Shadow Saturation | 0 |
Subject Distance Range | Unknown |
Texture | +40 |
Tint | +13 |
Tone Curve | 0, 0, 32, 22, 64, 56, 128, 128, 192, 196, 255, 255 |
Tone Curve Blue | 0, 0, 255, 255 |
Tone Curve Green | 0, 0, 255, 255 |
Tone Curve Name | Medium Contrast |
Tone Curve Name 2012 | Linear |
Tone Curve PV2012 | 0, 0, 255, 255 |
Tone Curve PV2012 Blue | 0, 0, 255, 255 |
Tone Curve PV2012 Green | 0, 0, 255, 255 |
Tone Curve PV2012 Red | 0, 0, 255, 255 |
Tone Curve Red | 0, 0, 255, 255 |
Tone Map Strength | 0 |
Version | 12.2.1 |
Vibrance | +3 |
Vignette Amount | 0 |
Vignette Correction Already Applied | True |
White Balance | Auto |
Whites 2012 | +38 |