Shooting information for this photo
Camera: | NIKON CORPORATION NIKON D3100 |
Exposure: | 0.00156 sec. (1/640) |
Aperture: | f/5.6 |
Focal Length: | 300.0 mm (35 mm equivalent: 450.0 mm) |
Flash: | No Flash |
Exposure mode: | Manual |
Max Aperture: | 5.7 |
Resolution: | 300 x 300 dpi |
Dimension: | 3072 x 3072 pixels |
Original Date: | 2019:08:17 09:24:17.80 |
Created on: | 2019:08:17 09:24:17.80 |
Modified on: | 2019:08:18 21:02:07.80 |
Software: | Adobe Photoshop CS6 (Macintosh) |
Already Applied | True |
Approximate Focus Distance | 2.24 |
Auto Lateral CA | 1 |
Auto White Version | 134348800 |
Blacks 2012 | -46 |
Blue Hue | 0 |
Blue Saturation | 0 |
CFA Pattern | [Green,Blue][Red,Green] |
Camera Profile | Adobe Standard |
Circle Of Confusion | 0.020 mm |
Clarity 2012 | +91 |
Color Mode | RGB |
Color Noise Reduction | 51 |
Color Noise Reduction Detail | 51 |
Color Noise Reduction Smoothness | 50 |
Color Space | Uncalibrated |
Color Temperature | 4700 |
Contrast | Normal |
Contrast 2012 | -9 |
Convert To Grayscale | False |
Custom Rendered | Normal |
Defringe Green Amount | 0 |
Defringe Green Hue Hi | 60 |
Defringe Green Hue Lo | 40 |
Defringe Purple Amount | 0 |
Defringe Purple Hue Hi | 70 |
Defringe Purple Hue Lo | 30 |
Description | Cardos |
Digital Zoom Ratio | 1 |
Exposure 2012 | -1.40 |
Exposure Compensation | 0 |
Exposure Mode | Manual |
Field Of View | 4.6 deg |
Focal Length In 35mm Format | 450 mm |
Format | image/jpeg |
Gain Control | Low gain up |
Grain Amount | 0 |
Green Hue | 0 |
Green Saturation | 0 |
Has Crop | False |
Has Settings | True |
Highlights 2012 | -5 |
Hue Adjustment Aqua | 0 |
Hue Adjustment Blue | 0 |
Hue Adjustment Green | 0 |
Hue Adjustment Magenta | 0 |
Hue Adjustment Orange | 0 |
Hue Adjustment Purple | 0 |
Hue Adjustment Red | 0 |
Hue Adjustment Yellow | 0 |
Hyperfocal Distance | 802.33 m |
ICC Profile Name | Adobe RGB (1998) |
ISO | 400 |
Image Number | 56179 |
Image Size | 3072x3072 |
Lens | 55.0-300.0 mm f/4.5-5.6 |
Lens ID | AF-S DX VR Nikkor 55-300mm 4.5-5.6G ED |
Lens Info | 55-300mm f/4.5-5.6 |
Lens Manual Distortion Amount | 0 |
Lens Model | 55.0-300.0 mm f/4.5-5.6 |
Lens Profile Chromatic Aberration Scale | 100 |
Lens Profile Distortion Scale | 100 |
Lens Profile Enable | 1 |
Lens Profile Filename | NIKON D90 (Nikon AF-S NIKKOR 55-300mm f4.5-5.6G ED VR) - RAW.lcp |
Lens Profile Name | Adobe (Nikon AF-S NIKKOR 55-300mm f/4.5-5.6G ED VR) |
Lens Profile Setup | LensDefaults |
Lens Profile Vignetting Scale | 100 |
Light Source | Unknown |
Light Value | 12.3 |
Luminance Adjustment Aqua | 0 |
Luminance Adjustment Blue | 0 |
Luminance Adjustment Green | 0 |
Luminance Adjustment Magenta | 0 |
Luminance Adjustment Orange | 0 |
Luminance Adjustment Purple | 0 |
Luminance Adjustment Red | 0 |
Luminance Adjustment Yellow | 0 |
Luminance Noise Reduction Contrast | 33 |
Luminance Noise Reduction Detail | 81 |
Luminance Smoothing | 100 |
Metering Mode | Center-weighted average |
Parametric Darks | -14 |
Parametric Highlight Split | 75 |
Parametric Highlights | +7 |
Parametric Lights | +16 |
Parametric Midtone Split | 50 |
Parametric Shadow Split | 25 |
Parametric Shadows | -8 |
Perspective Aspect | 0 |
Perspective Horizontal | 0 |
Perspective Rotate | 0.0 |
Perspective Scale | 100 |
Perspective Upright | 0 |
Perspective Vertical | 0 |
Post Crop Vignette Amount | 0 |
Process Version | 6.7 |
Rating | 0 |
Raw File Name | DSC_5114.NEF |
Red Hue | 0 |
Red Saturation | 0 |
Saturation | Normal |
Saturation Adjustment Aqua | 0 |
Saturation Adjustment Blue | 0 |
Saturation Adjustment Green | 0 |
Saturation Adjustment Magenta | 0 |
Saturation Adjustment Orange | 0 |
Saturation Adjustment Purple | 0 |
Saturation Adjustment Red | 0 |
Saturation Adjustment Yellow | 0 |
Scale Factor To 35 mm Equivalent | 1.5 |
Scene Capture Type | Standard |
Scene Type | Directly photographed |
Sensing Method | One-chip color area |
Shadow Tint | 0 |
Shadows 2012 | 0 |
Sharpen Detail | 80 |
Sharpen Edge Masking | 100 |
Sharpen Radius | +2.5 |
Sharpness | Normal |
Split Toning Balance | -38 |
Split Toning Highlight Hue | 35 |
Split Toning Highlight Saturation | 24 |
Split Toning Shadow Hue | 0 |
Split Toning Shadow Saturation | 0 |
Subject Distance Range | Unknown |
Tint | +14 |
Tone Curve Name 2012 | Linear |
Tone Curve PV2012 | 0, 0, 255, 255 |
Tone Curve PV2012 Blue | 0, 0, 255, 255 |
Tone Curve PV2012 Green | 0, 0, 255, 255 |
Tone Curve PV2012 Red | 0, 0, 255, 255 |
Version | 8.3 |
Vibrance | +9 |
Vignette Amount | 0 |
White Balance | Auto |
Whites 2012 | +5 |
GPS Information |
GPS Altitude Ref | Above Sea Level |
GPS Latitude | 43 deg 22' 20.99" N |
GPS Latitude Ref | North |
GPS Longitude | 2 deg 57' 48.76" W |
GPS Longitude Ref | West |
GPS Position | 43 deg 22' 20.99" N, 2 deg 57' 48.76" W |
GPS Version ID | 2.2.0.0 |