Shooting information for this photo
Camera: | NIKON CORPORATION NIKON D3100 |
Exposure: | 0.00125 sec. (1/800) |
Aperture: | f/4.8 |
Focal Length: | 140.0 mm (35 mm equivalent: 210.0 mm) |
Flash: | No Flash |
Exposure mode: | Manual |
Max Aperture: | 4.8 |
Resolution: | 300 x 300 dpi |
Dimension: | 3368 x 2264 pixels |
Original Date: | 2019:01:16 12:18:05.60 |
Created on: | 2019:01:16 12:18:05.60 |
Modified on: | 2019:03:16 23:42:10.60 |
Software: | Adobe Photoshop CS6 (Macintosh) |
Already Applied | True |
Approximate Focus Distance | 8.91 |
Auto Lateral CA | 1 |
Auto White Version | 134348800 |
Blacks 2012 | -45 |
Blue Hue | 0 |
Blue Saturation | 0 |
CFA Pattern | [Green,Blue][Red,Green] |
Camera Profile | Adobe Standard |
Circle Of Confusion | 0.020 mm |
Clarity 2012 | +73 |
Color Mode | RGB |
Color Noise Reduction | 45 |
Color Noise Reduction Detail | 48 |
Color Noise Reduction Smoothness | 50 |
Color Space | Uncalibrated |
Color Temperature | 4500 |
Contrast | Normal |
Contrast 2012 | +48 |
Convert To Grayscale | False |
Custom Rendered | Normal |
Defringe Green Amount | 0 |
Defringe Green Hue Hi | 60 |
Defringe Green Hue Lo | 40 |
Defringe Purple Amount | 0 |
Defringe Purple Hue Hi | 70 |
Defringe Purple Hue Lo | 30 |
Description | Ra con 8 meses, a la carrera |
Digital Zoom Ratio | 1 |
Exposure 2012 | +1.85 |
Exposure Compensation | -1/3 |
Exposure Mode | Manual |
Field Of View | 9.8 deg |
Focal Length In 35mm Format | 210 mm |
Format | image/jpeg |
Gain Control | Low gain up |
Grain Amount | 0 |
Green Hue | 0 |
Green Saturation | 0 |
Has Crop | False |
Has Settings | True |
Highlights 2012 | +35 |
Hue Adjustment Aqua | 0 |
Hue Adjustment Blue | 0 |
Hue Adjustment Green | 0 |
Hue Adjustment Magenta | 0 |
Hue Adjustment Orange | 0 |
Hue Adjustment Purple | 0 |
Hue Adjustment Red | 0 |
Hue Adjustment Yellow | 0 |
Hyperfocal Distance | 203.85 m |
ICC Profile Name | Adobe RGB (1998) |
ISO | 400 |
Image Number | 54938 |
Image Size | 3368x2264 |
Lens | 55.0-300.0 mm f/4.5-5.6 |
Lens ID | AF-S DX VR Nikkor 55-300mm 4.5-5.6G ED |
Lens Info | 55-300mm f/4.5-5.6 |
Lens Manual Distortion Amount | 0 |
Lens Model | 55.0-300.0 mm f/4.5-5.6 |
Lens Profile Chromatic Aberration Scale | 100 |
Lens Profile Distortion Scale | 100 |
Lens Profile Enable | 1 |
Lens Profile Filename | NIKON D90 (Nikon AF-S NIKKOR 55-300mm f4.5-5.6G ED VR) - RAW.lcp |
Lens Profile Name | Adobe (Nikon AF-S NIKKOR 55-300mm f/4.5-5.6G ED VR) |
Lens Profile Setup | LensDefaults |
Lens Profile Vignetting Scale | 100 |
Light Source | Unknown |
Light Value | 12.2 |
Luminance Adjustment Aqua | 0 |
Luminance Adjustment Blue | 0 |
Luminance Adjustment Green | 0 |
Luminance Adjustment Magenta | 0 |
Luminance Adjustment Orange | 0 |
Luminance Adjustment Purple | 0 |
Luminance Adjustment Red | 0 |
Luminance Adjustment Yellow | 0 |
Luminance Noise Reduction Contrast | 34 |
Luminance Noise Reduction Detail | 75 |
Luminance Smoothing | 100 |
Metering Mode | Center-weighted average |
Parametric Darks | 0 |
Parametric Highlight Split | 75 |
Parametric Highlights | 0 |
Parametric Lights | 0 |
Parametric Midtone Split | 50 |
Parametric Shadow Split | 25 |
Parametric Shadows | 0 |
Perspective Aspect | 0 |
Perspective Horizontal | 0 |
Perspective Rotate | 0.0 |
Perspective Scale | 100 |
Perspective Upright | 0 |
Perspective Vertical | 0 |
Post Crop Vignette Amount | 0 |
Process Version | 6.7 |
Rating | 0 |
Raw File Name | DSC_3879.NEF |
Red Hue | 0 |
Red Saturation | 0 |
Saturation | Normal |
Saturation Adjustment Aqua | 0 |
Saturation Adjustment Blue | 0 |
Saturation Adjustment Green | 0 |
Saturation Adjustment Magenta | 0 |
Saturation Adjustment Orange | 0 |
Saturation Adjustment Purple | 0 |
Saturation Adjustment Red | 0 |
Saturation Adjustment Yellow | 0 |
Scale Factor To 35 mm Equivalent | 1.5 |
Scene Capture Type | Standard |
Scene Type | Directly photographed |
Sensing Method | One-chip color area |
Shadow Tint | 0 |
Shadows 2012 | +66 |
Sharpen Detail | 78 |
Sharpen Edge Masking | 100 |
Sharpen Radius | +2.5 |
Sharpness | Normal |
Split Toning Balance | -38 |
Split Toning Highlight Hue | 26 |
Split Toning Highlight Saturation | 15 |
Split Toning Shadow Hue | 0 |
Split Toning Shadow Saturation | 0 |
Subject Distance Range | Unknown |
Tint | +39 |
Tone Curve Name 2012 | Linear |
Tone Curve PV2012 | 0, 0, 255, 255 |
Tone Curve PV2012 Blue | 0, 0, 255, 255 |
Tone Curve PV2012 Green | 0, 0, 255, 255 |
Tone Curve PV2012 Red | 0, 0, 255, 255 |
Version | 8.3 |
Vibrance | +16 |
Vignette Amount | 0 |
White Balance | Auto |
Whites 2012 | +48 |