Shooting information for this photo
Camera: | NIKON CORPORATION NIKON D610 |
Exposure: | 0.00625 sec. (1/160) |
Aperture: | f/20.0 |
Focal Length: | 14.0 mm (35 mm equivalent: 14.0 mm) |
Flash: | Off, Did not fire |
Exposure mode: | Manual |
Max Aperture: | 2.8 |
Resolution: | 300 x 300 dpi |
Dimension: | 2048 x 1386 pixels |
Original Date: | 2016:09:14 10:24:34.90 |
Created on: | 2016:09:14 10:24:34.90 |
Modified on: | 2017:09:21 23:17:45.90 |
Software: | Adobe Photoshop CS6 (Macintosh) |
Already Applied | True |
Approximate Focus Distance | 4294967295 |
Auto Lateral CA | 0 |
Auto White Version | 134348800 |
Blacks 2012 | +36 |
Blue Hue | 0 |
Blue Saturation | 0 |
CFA Pattern | [Red,Green][Green,Blue] |
Camera Profile | Adobe Standard |
Circle Of Confusion | 0.030 mm |
Clarity 2012 | +26 |
Color Mode | RGB |
Color Noise Reduction | 58 |
Color Noise Reduction Detail | 52 |
Color Noise Reduction Smoothness | 50 |
Color Space | Uncalibrated |
Color Temperature | 4750 |
Contrast | Normal |
Contrast 2012 | 0 |
Convert To Grayscale | False |
Custom Rendered | Normal |
Date Created | 2016:09:14 10:24:34.009 |
Defringe Green Amount | 0 |
Defringe Green Hue Hi | 60 |
Defringe Green Hue Lo | 40 |
Defringe Purple Amount | 0 |
Defringe Purple Hue Hi | 70 |
Defringe Purple Hue Lo | 30 |
Description | Castillo de Chambord, Francia |
Digital Zoom Ratio | 1 |
Exposure 2012 | +0.55 |
Exposure Compensation | -1/3 |
Exposure Mode | Manual |
Field Of View | 104.3 deg |
Focal Length In 35mm Format | 14 mm |
Format | image/jpeg |
Gain Control | None |
Grain Amount | 0 |
Green Hue | 0 |
Green Saturation | 0 |
Has Crop | False |
Has Settings | True |
Highlights 2012 | -3 |
Hue Adjustment Aqua | 0 |
Hue Adjustment Blue | 0 |
Hue Adjustment Green | 0 |
Hue Adjustment Magenta | 0 |
Hue Adjustment Orange | 0 |
Hue Adjustment Purple | 0 |
Hue Adjustment Red | 0 |
Hue Adjustment Yellow | 0 |
Hyperfocal Distance | 0.33 m |
ICC Profile Name | Adobe RGB (1998) |
ISO | 160 |
Image Description | Castillo de Chambord, Francia |
Image Number | 20335 |
Image Size | 2048x1386 |
Lens | 14.0 mm f/2.8 |
Lens ID | Samyang AE 14mm f/2.8 ED AS IF UMC |
Lens Info | 14mm f/2.8-1.4 |
Lens Manual Distortion Amount | 0 |
Lens Model | 14.0 mm f/2.8 |
Lens Profile Chromatic Aberration Scale | 100 |
Lens Profile Distortion Scale | 100 |
Lens Profile Enable | 1 |
Lens Profile Filename | NIKON CORPORATION (Tokina AT-X 16-28 F2.8 PRO FX) - RAW.lcp |
Lens Profile Name | Adobe (Tokina AT-X 16-28 F2.8 PRO FX, NIKON CORPORATION) |
Lens Profile Setup | Custom |
Lens Profile Vignetting Scale | 100 |
Light Source | Unknown |
Light Value | 15.3 |
Luminance Adjustment Aqua | 0 |
Luminance Adjustment Blue | 0 |
Luminance Adjustment Green | 0 |
Luminance Adjustment Magenta | 0 |
Luminance Adjustment Orange | 0 |
Luminance Adjustment Purple | 0 |
Luminance Adjustment Red | 0 |
Luminance Adjustment Yellow | 0 |
Luminance Noise Reduction Contrast | 100 |
Luminance Noise Reduction Detail | 80 |
Luminance Smoothing | 100 |
Metering Mode | Multi-segment |
Parametric Darks | 0 |
Parametric Highlight Split | 75 |
Parametric Highlights | 0 |
Parametric Lights | 0 |
Parametric Midtone Split | 50 |
Parametric Shadow Split | 25 |
Parametric Shadows | 0 |
Perspective Aspect | 0 |
Perspective Horizontal | 0 |
Perspective Rotate | 0.0 |
Perspective Scale | 100 |
Perspective Upright | 0 |
Perspective Vertical | 0 |
Photometric Interpretation | RGB |
Post Crop Vignette Amount | 0 |
Process Version | 6.7 |
Rating | 0 |
Raw File Name | DSC_9516.NEF |
Red Hue | 0 |
Red Saturation | 0 |
Samples Per Pixel | 3 |
Saturation | Normal |
Saturation Adjustment Aqua | 0 |
Saturation Adjustment Blue | 0 |
Saturation Adjustment Green | 0 |
Saturation Adjustment Magenta | 0 |
Saturation Adjustment Orange | 0 |
Saturation Adjustment Purple | 0 |
Saturation Adjustment Red | 0 |
Saturation Adjustment Yellow | 0 |
Scale Factor To 35 mm Equivalent | 1.0 |
Scene Capture Type | Standard |
Scene Type | Directly photographed |
Sensing Method | One-chip color area |
Sensitivity Type | Recommended Exposure Index |
Shadow Tint | 0 |
Shadows 2012 | -12 |
Sharpen Detail | 58 |
Sharpen Edge Masking | 100 |
Sharpen Radius | +2.0 |
Sharpness | Normal |
Split Toning Balance | -31 |
Split Toning Highlight Hue | 27 |
Split Toning Highlight Saturation | 10 |
Split Toning Shadow Hue | 0 |
Split Toning Shadow Saturation | 0 |
Subject Distance Range | Unknown |
Tint | +3 |
Tone Curve Name 2012 | Linear |
Tone Curve PV2012 | 0, 0, 255, 255 |
Tone Curve PV2012 Blue | 0, 0, 255, 255 |
Tone Curve PV2012 Green | 0, 0, 255, 255 |
Tone Curve PV2012 Red | 0, 0, 255, 255 |
Version | 8.3 |
Vibrance | +19 |
Vignette Amount | 0 |
White Balance | Auto |
Whites 2012 | +28 |
GPS Information |
GPS Altitude Ref | Above Sea Level |
GPS Latitude | 47 deg 36' 50.97" N |
GPS Latitude Ref | North |
GPS Longitude | 1 deg 31' 0.76" E |
GPS Longitude Ref | East |
GPS Position | 47 deg 36' 50.97" N, 1 deg 31' 0.76" E |
GPS Version ID | 2.2.0.0 |