Shooting information for this photo
Camera: | NIKON CORPORATION NIKON D3100 |
Exposure: | 0.0008 sec. (1/1250) |
Aperture: | f/5.0 |
Focal Length: | 18.0 mm (35 mm equivalent: 27.0 mm) |
Flash: | No Flash |
Exposure mode: | Manual |
Max Aperture: | 3.5 |
Resolution: | 300 x 300 dpi |
Dimension: | 2048 x 1386 pixels |
Original Date: | 2017:04:22 11:36:49.30 |
Created on: | 2017:04:22 11:36:49.30 |
Modified on: | 2017:05:06 21:01:37.30 |
Software: | Adobe Photoshop CS6 (Macintosh) |
Already Applied | True |
Approximate Focus Distance | 266 |
Auto Lateral CA | 1 |
Auto White Version | 134348800 |
Blacks 2012 | +38 |
Blue Hue | 0 |
Blue Saturation | 0 |
CFA Pattern | [Green,Blue][Red,Green] |
Camera Profile | Adobe Standard |
Circle Of Confusion | 0.020 mm |
Clarity 2012 | +26 |
Color Mode | RGB |
Color Noise Reduction | 53 |
Color Noise Reduction Detail | 48 |
Color Noise Reduction Smoothness | 50 |
Color Space | Uncalibrated |
Color Temperature | 5200 |
Contrast | Normal |
Contrast 2012 | +24 |
Convert To Grayscale | False |
Custom Rendered | Normal |
Defringe Green Amount | 0 |
Defringe Green Hue Hi | 60 |
Defringe Green Hue Lo | 40 |
Defringe Purple Amount | 0 |
Defringe Purple Hue Hi | 70 |
Defringe Purple Hue Lo | 30 |
Description | Ayuntamiento de Munguia (Bizkaia), en uno de cuyos locales se presentó la exposición de recuerdos de Elvis Presley |
Digital Zoom Ratio | 1 |
Exposure 2012 | -0.65 |
Exposure Compensation | -1/3 |
Exposure Mode | Manual |
Field Of View | 67.4 deg |
Focal Length In 35mm Format | 27 mm |
Format | image/jpeg |
Gain Control | None |
Grain Amount | 0 |
Green Hue | 0 |
Green Saturation | 0 |
Has Crop | False |
Has Settings | True |
Highlights 2012 | +39 |
Hue Adjustment Aqua | 0 |
Hue Adjustment Blue | 0 |
Hue Adjustment Green | 0 |
Hue Adjustment Magenta | 0 |
Hue Adjustment Orange | 0 |
Hue Adjustment Purple | 0 |
Hue Adjustment Red | 0 |
Hue Adjustment Yellow | 0 |
Hyperfocal Distance | 3.24 m |
ICC Profile Name | Adobe RGB (1998) |
ISO | 200 |
Image Number | 49691 |
Image Size | 2048x1386 |
Lens | 18.0-270.0 mm f/3.5-6.3 |
Lens ID | Tamron AF 18-270mm f/3.5-6.3 Di II VC PZD (B008) |
Lens Info | 18-270mm f/3.5-6.3 |
Lens Manual Distortion Amount | 0 |
Lens Model | 18.0-270.0 mm f/3.5-6.3 |
Lens Profile Chromatic Aberration Scale | 100 |
Lens Profile Distortion Scale | 100 |
Lens Profile Enable | 1 |
Lens Profile Filename | NIKON CORPORATION (TAMRON 18-270mm F3.5-6.3 DiII VC B003N) - RAW.lcp |
Lens Profile Name | Adobe (TAMRON 18-270mm F/3.5-6.3 DiII VC B003N, NIKON CORPORATION) |
Lens Profile Setup | Custom |
Lens Profile Vignetting Scale | 100 |
Light Source | Unknown |
Light Value | 13.9 |
Luminance Adjustment Aqua | 0 |
Luminance Adjustment Blue | 0 |
Luminance Adjustment Green | 0 |
Luminance Adjustment Magenta | 0 |
Luminance Adjustment Orange | 0 |
Luminance Adjustment Purple | 0 |
Luminance Adjustment Red | 0 |
Luminance Adjustment Yellow | 0 |
Luminance Noise Reduction Contrast | 60 |
Luminance Noise Reduction Detail | 60 |
Luminance Smoothing | 83 |
Metering Mode | Center-weighted average |
Parametric Darks | -3 |
Parametric Highlight Split | 75 |
Parametric Highlights | -48 |
Parametric Lights | -39 |
Parametric Midtone Split | 50 |
Parametric Shadow Split | 25 |
Parametric Shadows | -27 |
Perspective Aspect | 0 |
Perspective Horizontal | 0 |
Perspective Rotate | 0.0 |
Perspective Scale | 100 |
Perspective Upright | 0 |
Perspective Vertical | 0 |
Post Crop Vignette Amount | 0 |
Process Version | 6.7 |
Rating | 0 |
Raw File Name | DSC_8676.NEF |
Red Hue | 0 |
Red Saturation | 0 |
Saturation | Normal |
Saturation Adjustment Aqua | 0 |
Saturation Adjustment Blue | 0 |
Saturation Adjustment Green | 0 |
Saturation Adjustment Magenta | 0 |
Saturation Adjustment Orange | 0 |
Saturation Adjustment Purple | 0 |
Saturation Adjustment Red | 0 |
Saturation Adjustment Yellow | 0 |
Scale Factor To 35 mm Equivalent | 1.5 |
Scene Capture Type | Standard |
Scene Type | Directly photographed |
Sensing Method | One-chip color area |
Shadow Tint | 0 |
Shadows 2012 | +41 |
Sharpen Detail | 60 |
Sharpen Edge Masking | 100 |
Sharpen Radius | +2.0 |
Sharpness | Normal |
Split Toning Balance | -37 |
Split Toning Highlight Hue | 33 |
Split Toning Highlight Saturation | 25 |
Split Toning Shadow Hue | 0 |
Split Toning Shadow Saturation | 0 |
Subject Distance Range | Unknown |
Tint | +17 |
Tone Curve Name 2012 | Linear |
Tone Curve PV2012 | 0, 0, 255, 255 |
Tone Curve PV2012 Blue | 0, 0, 255, 255 |
Tone Curve PV2012 Green | 0, 0, 255, 255 |
Tone Curve PV2012 Red | 0, 0, 255, 255 |
Version | 8.3 |
Vibrance | +32 |
Vignette Amount | 0 |
White Balance | Auto |
Whites 2012 | +40 |
GPS Information |
GPS Altitude Ref | Above Sea Level |
GPS Latitude | 43 deg 21' 15.84" N |
GPS Latitude Ref | North |
GPS Longitude | 2 deg 50' 48.13" W |
GPS Longitude Ref | West |
GPS Position | 43 deg 21' 15.84" N, 2 deg 50' 48.13" W |
GPS Version ID | 2.2.0.0 |