Shooting information for this photo
Camera: | NIKON CORPORATION NIKON D3100 |
Exposure: | 0.01667 sec. (1/60) |
Aperture: | f/4.0 |
Focal Length: | 24.0 mm (35 mm equivalent: 36.0 mm) |
Flash: | No Flash |
Exposure mode: | Manual |
Max Aperture: | 2.8 |
Resolution: | 300 x 300 dpi |
Dimension: | 2048 x 1365 pixels |
Original Date: | 2017:04:07 14:13:33.30 |
Created on: | 2017:04:07 14:13:33.30 |
Modified on: | 2017:04:17 23:54:18.30 |
Software: | Adobe Photoshop CS6 (Macintosh) |
Already Applied | True |
Approximate Focus Distance | 3.35 |
Auto Lateral CA | 1 |
Auto White Version | 134348800 |
Blacks 2012 | +15 |
Blue Hue | 0 |
Blue Saturation | 0 |
CFA Pattern | [Green,Blue][Red,Green] |
Camera Profile | Adobe Standard |
Circle Of Confusion | 0.020 mm |
Clarity 2012 | +27 |
Color Mode | RGB |
Color Noise Reduction | 58 |
Color Noise Reduction Detail | 53 |
Color Noise Reduction Smoothness | 50 |
Color Space | Uncalibrated |
Color Temperature | 4900 |
Contrast | Normal |
Contrast 2012 | +19 |
Convert To Grayscale | False |
Custom Rendered | Normal |
Defringe Green Amount | 0 |
Defringe Green Hue Hi | 60 |
Defringe Green Hue Lo | 40 |
Defringe Purple Amount | 0 |
Defringe Purple Hue Hi | 70 |
Defringe Purple Hue Lo | 30 |
Description | Cascada Batida entre Calomarde y Royuela, a 10 kilómetros de Albarracín, Teruel |
Digital Zoom Ratio | 1 |
Exposure 2012 | -1.05 |
Exposure Compensation | +1/3 |
Exposure Mode | Manual |
Field Of View | 53.1 deg |
Focal Length In 35mm Format | 36 mm |
Format | image/jpeg |
Gain Control | None |
Grain Amount | 0 |
Green Hue | 0 |
Green Saturation | 0 |
Has Crop | False |
Has Settings | True |
Highlights 2012 | -70 |
Hue Adjustment Aqua | 0 |
Hue Adjustment Blue | 0 |
Hue Adjustment Green | 0 |
Hue Adjustment Magenta | 0 |
Hue Adjustment Orange | 0 |
Hue Adjustment Purple | 0 |
Hue Adjustment Red | 0 |
Hue Adjustment Yellow | 0 |
Hyperfocal Distance | 7.19 m |
ICC Profile Name | Adobe RGB (1998) |
ISO | 200 |
Image Number | 49463 |
Image Size | 2048x1365 |
Lens | 24.0-70.0 mm f/2.8 |
Lens ID | AF-S Zoom-Nikkor 24-70mm f/2.8G ED |
Lens Info | 24-70mm f/2.8 |
Lens Manual Distortion Amount | 0 |
Lens Model | 24.0-70.0 mm f/2.8 |
Lens Profile Chromatic Aberration Scale | 100 |
Lens Profile Distortion Scale | 100 |
Lens Profile Enable | 1 |
Lens Profile Filename | NIKON D3X (Nikon FX 24-70mm f2.8 G ED) - RAW.lcp |
Lens Profile Name | Adobe (Nikon AF-S NIKKOR 24-70mm f/2.8G ED) |
Lens Profile Setup | LensDefaults |
Lens Profile Vignetting Scale | 100 |
Light Source | Unknown |
Light Value | 8.9 |
Luminance Adjustment Aqua | 0 |
Luminance Adjustment Blue | 0 |
Luminance Adjustment Green | 0 |
Luminance Adjustment Magenta | 0 |
Luminance Adjustment Orange | 0 |
Luminance Adjustment Purple | 0 |
Luminance Adjustment Red | 0 |
Luminance Adjustment Yellow | 0 |
Luminance Noise Reduction Contrast | 72 |
Luminance Noise Reduction Detail | 78 |
Luminance Smoothing | 100 |
Metering Mode | Multi-segment |
Parametric Darks | -3 |
Parametric Highlight Split | 75 |
Parametric Highlights | -23 |
Parametric Lights | -28 |
Parametric Midtone Split | 50 |
Parametric Shadow Split | 25 |
Parametric Shadows | +16 |
Perspective Aspect | 0 |
Perspective Horizontal | 0 |
Perspective Rotate | 0.0 |
Perspective Scale | 100 |
Perspective Upright | 0 |
Perspective Vertical | 0 |
Post Crop Vignette Amount | 0 |
Process Version | 6.7 |
Rating | 0 |
Raw File Name | DSC_8452.NEF |
Red Hue | 0 |
Red Saturation | 0 |
Saturation | Normal |
Saturation Adjustment Aqua | 0 |
Saturation Adjustment Blue | 0 |
Saturation Adjustment Green | 0 |
Saturation Adjustment Magenta | 0 |
Saturation Adjustment Orange | 0 |
Saturation Adjustment Purple | 0 |
Saturation Adjustment Red | 0 |
Saturation Adjustment Yellow | 0 |
Scale Factor To 35 mm Equivalent | 1.5 |
Scene Capture Type | Standard |
Scene Type | Directly photographed |
Sensing Method | One-chip color area |
Shadow Tint | 0 |
Shadows 2012 | +43 |
Sharpen Detail | 58 |
Sharpen Edge Masking | 100 |
Sharpen Radius | +2.0 |
Sharpness | Normal |
Split Toning Balance | -33 |
Split Toning Highlight Hue | 32 |
Split Toning Highlight Saturation | 28 |
Split Toning Shadow Hue | 0 |
Split Toning Shadow Saturation | 0 |
Subject Distance Range | Unknown |
Tint | +28 |
Tone Curve Name 2012 | Linear |
Tone Curve PV2012 | 0, 0, 255, 255 |
Tone Curve PV2012 Blue | 0, 0, 255, 255 |
Tone Curve PV2012 Green | 0, 0, 255, 255 |
Tone Curve PV2012 Red | 0, 0, 255, 255 |
Version | 8.3 |
Vibrance | +46 |
Vignette Amount | 0 |
White Balance | Auto |
Whites 2012 | -100 |
GPS Information |
GPS Altitude Ref | Above Sea Level |
GPS Latitude | 40 deg 22' 45.01" N |
GPS Latitude Ref | North |
GPS Longitude | 1 deg 31' 34.96" W |
GPS Longitude Ref | West |
GPS Position | 40 deg 22' 45.01" N, 1 deg 31' 34.96" W |
GPS Version ID | 2.2.0.0 |