Shooting information for this photo
Camera: | Canon EOS 40D |
Exposure: | 0.005 sec. (1/200) |
Aperture: | f/4.5 |
Focal Length: | 24.0 mm (35 mm equivalent: 45.4 mm) |
Flash: | Off, Did not fire |
Exposure mode: | Aperture-priority AE |
Max Aperture: | 4.0 |
Resolution: | 240 x 240 dpi |
Original Date: | 2009:08:01 13:12:48.34 |
Digitized Date: | 2009:08:01 13:12:48.34+02:00 |
Created on: | 2009:08:01 13:12:48.34 |
Modified on: | 2009:08:01 20:33:54 |
Already Applied | True |
Artist | Christoph Mueller |
Blue Hue | 0 |
Blue Saturation | 0 |
Brightness | +47 |
Camera Profile | ACR 4.4 |
Chromatic Aberration B | 0 |
Chromatic Aberration R | 0 |
Circle Of Confusion | 0.016 mm |
Clarity | 0 |
Color Noise Reduction | 25 |
Color Temperature | 4700 |
Contrast | +57 |
Convert To Grayscale | True |
Creator | Christoph Mueller |
Crop Angle | 0.996348 |
Crop Bottom | 0.997637 |
Crop Height | 2515 |
Crop Left | 0.180072 |
Crop Right | 0.970437 |
Crop Top | 0.00629 |
Crop Unit | pixels |
Crop Width | 3117 |
Custom Rendered | Normal |
Defringe | 1 |
Exposure | +0.26 |
Exposure Compensation | -1/3 |
Exposure Mode | Auto |
Field Of View | 43.3 deg |
Fill Light | 0 |
Firmware | 1.0.3 |
Flash Compensation | 0 |
Flash Fired | False |
Flash Function | False |
Flash Mode | Off |
Flash Red Eye Mode | False |
Flash Return | No return detection |
Gray Mixer Aqua | -12 |
Gray Mixer Blue | -39 |
Gray Mixer Green | -31 |
Gray Mixer Magenta | +7 |
Gray Mixer Orange | -25 |
Gray Mixer Purple | +20 |
Gray Mixer Red | -14 |
Gray Mixer Yellow | -29 |
Green Hue | 0 |
Green Saturation | 0 |
Has Crop | True |
Has Settings | True |
Highlight Recovery | 11 |
Hyperfocal Distance | 8.05 m |
ISO | 100 |
Image Number | 0 |
Image Size | 2515x3117 |
Lens | EF-S17-85mm f/4-5.6 IS USM |
Lens Info | 17-85mm f/? |
Light Value | 12.0 |
Luminance Smoothing | 0 |
Metering Mode | Multi-segment |
Owner Name | Christoph Mueller |
Parametric Darks | 0 |
Parametric Highlight Split | 75 |
Parametric Highlights | 0 |
Parametric Lights | 0 |
Parametric Midtone Split | 50 |
Parametric Shadow Split | 25 |
Parametric Shadows | 0 |
Red Hue | 0 |
Red Saturation | 0 |
Scale Factor To 35 mm Equivalent | 1.9 |
Scene Capture Type | Standard |
Shadow Tint | 0 |
Shadows | 4 |
Sharpen Detail | 25 |
Sharpen Edge Masking | 0 |
Sharpen Radius | +1.0 |
Sharpness | 25 |
Split Toning Balance | 0 |
Split Toning Highlight Hue | 0 |
Split Toning Highlight Saturation | 0 |
Split Toning Shadow Hue | 0 |
Split Toning Shadow Saturation | 0 |
Subject | pillnitz |
Tint | +1 |
Tone Curve | 0, 0, 32, 22, 64, 56, 128, 128, 192, 196, 255, 255 |
Tone Curve Name | Medium Contrast |
Version | 4.4.1 |
Vignette Amount | 0 |
White Balance | As Shot |