Shooting information for this photo
Camera: | Canon EOS 40D |
Exposure: | 0.025 sec. (1/40) |
Aperture: | f/4.5 |
Focal Length: | 17.0 mm (35 mm equivalent: 31.6 mm) |
Flash: | Off, Did not fire |
Exposure mode: | Program AE |
Max Aperture: | 4.0 |
Resolution: | 240 x 240 dpi |
Original Date: | 2008:03:02 14:30:25.03 |
Digitized Date: | 2008:03:02 14:30:25.03+01:00 |
Created on: | 2008:03:02 14:30:25.03 |
Modified on: | 2008:03:09 15:52:17 |
Already Applied | True |
Artist | Christoph Mueller |
Blue Hue | 0 |
Blue Saturation | 0 |
Brightness | +50 |
Camera Profile | ACR 4.2 |
Chromatic Aberration B | 0 |
Chromatic Aberration R | 0 |
Circle Of Confusion | 0.016 mm |
Clarity | 10 |
Color Noise Reduction | 45 |
Color Temperature | 4294 |
Contrast | +81 |
Convert To Grayscale | False |
Creator | Christoph Mueller |
Crop Angle | 0.627301 |
Crop Bottom | 0.948702 |
Crop Height | 2258 |
Crop Left | 0.048606 |
Crop Right | 0.913512 |
Crop Top | 0.063127 |
Crop Unit | pixels |
Crop Width | 3387 |
Custom Rendered | Normal |
Defringe | 0 |
Exposure | +0.99 |
Exposure Compensation | 0 |
Exposure Mode | Auto |
Field Of View | 59.3 deg |
Fill Light | 0 |
Firmware | 1.0.3 |
Flash Compensation | 0 |
Flash Fired | False |
Flash Function | False |
Flash Mode | Off |
Flash Red Eye Mode | False |
Flash Return | No return detection |
Green Hue | 0 |
Green Saturation | 0 |
Has Crop | True |
Has Settings | True |
Highlight Recovery | 0 |
Hue Adjustment Aqua | 0 |
Hue Adjustment Blue | 0 |
Hue Adjustment Green | 0 |
Hue Adjustment Magenta | 0 |
Hue Adjustment Orange | 0 |
Hue Adjustment Purple | 0 |
Hue Adjustment Red | 0 |
Hue Adjustment Yellow | 0 |
Hyperfocal Distance | 3.97 m |
ISO | 640 |
Image Number | 0 |
Image Size | 3387x2258 |
Lens | EF-S17-85mm f/4-5.6 IS USM |
Lens Info | 17-85mm f/? |
Light Value | 7.0 |
Luminance Adjustment Aqua | 0 |
Luminance Adjustment Blue | 0 |
Luminance Adjustment Green | 0 |
Luminance Adjustment Magenta | 0 |
Luminance Adjustment Orange | 0 |
Luminance Adjustment Purple | 0 |
Luminance Adjustment Red | 0 |
Luminance Adjustment Yellow | 0 |
Luminance Smoothing | 19 |
Metering Mode | Multi-segment |
Owner Name | Christoph Mueller |
Parametric Darks | 0 |
Parametric Highlight Split | 75 |
Parametric Highlights | 0 |
Parametric Lights | 0 |
Parametric Midtone Split | 50 |
Parametric Shadow Split | 25 |
Parametric Shadows | 0 |
Red Hue | 0 |
Red Saturation | 0 |
Saturation | +28 |
Saturation Adjustment Aqua | 0 |
Saturation Adjustment Blue | 0 |
Saturation Adjustment Green | 0 |
Saturation Adjustment Magenta | 0 |
Saturation Adjustment Orange | 0 |
Saturation Adjustment Purple | 0 |
Saturation Adjustment Red | 0 |
Saturation Adjustment Yellow | 0 |
Scale Factor To 35 mm Equivalent | 1.9 |
Scene Capture Type | Standard |
Shadow Tint | 0 |
Shadows | 5 |
Sharpen Detail | 25 |
Sharpen Edge Masking | 0 |
Sharpen Radius | +1.0 |
Sharpness | 25 |
Split Toning Balance | 0 |
Split Toning Highlight Hue | 0 |
Split Toning Highlight Saturation | 0 |
Split Toning Shadow Hue | 0 |
Split Toning Shadow Saturation | 0 |
Subject | zeughaushütte |
Tint | +7 |
Tone Curve | 0, 0, 32, 22, 64, 56, 128, 128, 192, 196, 255, 255 |
Tone Curve Name | Medium Contrast |
Version | 1.0 |
Vibrance | +25 |
Vignette Amount | 0 |
White Balance | Custom |