Shooting information for this photo
Camera: | Apple iPhone XR |
Exposure: | 0.00029 sec. (1/3400) |
Aperture: | f/1.8 |
Focal Length: | 4.2 mm (35 mm equivalent: 26.0 mm) |
Flash: | Off, Did not fire |
Exposure mode: | Program AE |
Resolution: | 300 x 300 dpi |
Dimension: | 3600 x 2700 pixels |
Original Date: | 2019:07:08 17:57:49.100 |
Created on: | 2019:07:08 17:57:49.100 |
Modified on: | 2019:12:28 14:18:26 |
Software: | Adobe Photoshop CS6 (Windows) |
Already Applied | True |
Auto Lateral CA | 0 |
Auto White Version | 134348800 |
Blacks 2012 | -9 |
Blue Hue | 0 |
Blue Saturation | 0 |
Brightness Value | 11.02146379 |
Camera Profile | Embedded |
Circle Of Confusion | 0.005 mm |
Clarity 2012 | +33 |
Color Mode | RGB |
Color Noise Reduction | 0 |
Color Space | sRGB |
Contrast 2012 | +3 |
Convert To Grayscale | False |
Date Created | 2019:07:08 17:57:49.001 |
Defringe Green Amount | 0 |
Defringe Green Hue Hi | 60 |
Defringe Green Hue Lo | 40 |
Defringe Purple Amount | 0 |
Defringe Purple Hue Hi | 70 |
Defringe Purple Hue Lo | 30 |
Dehaze | 0 |
Exposure 2012 | +0.50 |
Exposure Compensation | 0 |
Exposure Mode | Auto |
Field Of View | 69.4 deg |
Focal Length In 35mm Format | 26 mm |
Format | image/jpeg |
Grain Amount | 0 |
Green Hue | 0 |
Green Saturation | 0 |
Has Crop | False |
Has Settings | True |
Highlights 2012 | -13 |
Hue Adjustment Aqua | 0 |
Hue Adjustment Blue | 0 |
Hue Adjustment Green | 0 |
Hue Adjustment Magenta | 0 |
Hue Adjustment Orange | 0 |
Hue Adjustment Purple | 0 |
Hue Adjustment Red | 0 |
Hue Adjustment Yellow | 0 |
Hyperfocal Distance | 2.04 m |
ICC Profile Name | sRGB IEC61966-2.1 |
ISO | 25 |
Image Size | 3600x2700 |
Incremental Temperature | 0 |
Incremental Tint | 0 |
Lens | iPhone XR back camera 4.25mm f/1.8 |
Lens Info | 4.25mm f/1.8 |
Lens Make | Apple |
Lens Manual Distortion Amount | 0 |
Lens Model | iPhone XR back camera 4.25mm f/1.8 |
Lens Profile Enable | 0 |
Lens Profile Setup | LensDefaults |
Light Value | 15.4 |
Luminance Adjustment Aqua | 0 |
Luminance Adjustment Blue | 0 |
Luminance Adjustment Green | 0 |
Luminance Adjustment Magenta | 0 |
Luminance Adjustment Orange | 0 |
Luminance Adjustment Purple | 0 |
Luminance Adjustment Red | 0 |
Luminance Adjustment Yellow | 0 |
Luminance Smoothing | 0 |
Metering Mode | Multi-segment |
Parametric Darks | 0 |
Parametric Highlight Split | 75 |
Parametric Highlights | 0 |
Parametric Lights | 0 |
Parametric Midtone Split | 50 |
Parametric Shadow Split | 25 |
Parametric Shadows | 0 |
Perspective Aspect | 0 |
Perspective Horizontal | 0 |
Perspective Rotate | 0.0 |
Perspective Scale | 100 |
Perspective Upright | 0 |
Perspective Vertical | 0 |
Photometric Interpretation | RGB |
Post Crop Vignette Amount | 0 |
Process Version | 6.7 |
Raw File Name | IMG_0248.JPG |
Red Hue | 0 |
Red Saturation | 0 |
Samples Per Pixel | 3 |
Saturation | +7 |
Saturation Adjustment Aqua | 0 |
Saturation Adjustment Blue | 0 |
Saturation Adjustment Green | 0 |
Saturation Adjustment Magenta | 0 |
Saturation Adjustment Orange | 0 |
Saturation Adjustment Purple | 0 |
Saturation Adjustment Red | 0 |
Saturation Adjustment Yellow | 0 |
Scale Factor To 35 mm Equivalent | 6.1 |
Scene Capture Type | Standard |
Scene Type | Directly photographed |
Sensing Method | One-chip color area |
Shadow Tint | 0 |
Shadows 2012 | +13 |
Sharpen Detail | 25 |
Sharpen Edge Masking | 0 |
Sharpen Radius | +1.0 |
Sharpness | 0 |
Split Toning Balance | 0 |
Split Toning Highlight Hue | 0 |
Split Toning Highlight Saturation | 0 |
Split Toning Shadow Hue | 0 |
Split Toning Shadow Saturation | 0 |
Subject Area | 2015 1511 2323 1393 |
Tone Curve | 0, 0, 255, 255 |
Tone Curve Blue | 0, 0, 255, 255 |
Tone Curve Green | 0, 0, 255, 255 |
Tone Curve Name | Linear |
Tone Curve Name 2012 | Linear |
Tone Curve PV2012 | 0, 0, 255, 255 |
Tone Curve PV2012 Blue | 0, 0, 255, 255 |
Tone Curve PV2012 Green | 0, 0, 255, 255 |
Tone Curve PV2012 Red | 0, 0, 255, 255 |
Tone Curve Red | 0, 0, 255, 255 |
Tone Map Strength | 0 |
Version | 9.1.1 |
Vibrance | +33 |
Vignette Amount | 0 |
White Balance | Auto |
Whites 2012 | +15 |
GPS Information |
GPS Altitude | 4.8 m Above Sea Level |
GPS Altitude Ref | Above Sea Level |
GPS Date Stamp | 2019:07:08 |
GPS Date/Time | 2019:07:08 15:57:47Z |
GPS Dest Bearing | 159.1034775 |
GPS Dest Bearing Ref | Magnetic North |
GPS Horizontal Positioning Error | 5.706798709 m |
GPS Img Direction | 159.1034775 |
GPS Img Direction Ref | Magnetic North |
GPS Latitude | 55 deg 40' 46.34" N |
GPS Latitude Ref | North |
GPS Longitude | 12 deg 35' 41.89" E |
GPS Longitude Ref | East |
GPS Position | 55 deg 40' 46.34" N, 12 deg 35' 41.89" E |
GPS Speed | 0.1412918568 |
GPS Speed Ref | km/h |
GPS Time Stamp | 15:57:47 |