Shooting information for this photo
Camera: | NIKON CORPORATION NIKON D90 |
Exposure: | 0.02 sec. (1/50) |
Aperture: | f/7.1 |
Focal Length: | 18.0 mm (35 mm equivalent: 27.0 mm) |
Flash: | Auto, Did not fire |
Exposure mode: | Not Defined |
Max Aperture: | 3.5 |
Resolution: | 240 x 240 dpi |
Dimension: | 4288 x 2848 pixels |
Original Date: | 2012:10:09 14:28:05.00 |
Created on: | 2012:10:09 14:28:05.00 |
Modified on: | 2013:01:25 14:58:35 |
Software: | Adobe Photoshop CS4 Macintosh |
Already Applied | True |
Blue Hue | 0 |
Blue Saturation | 0 |
Brightness | +32 |
CFA Pattern | [Green,Blue][Red,Green] |
Camera Profile | Adobe Standard |
Chromatic Aberration B | 0 |
Chromatic Aberration R | 0 |
Circle Of Confusion | 0.020 mm |
Clarity | +45 |
Color Mode | RGB |
Color Noise Reduction | 25 |
Color Space | Uncalibrated |
Color Temperature | 5450 |
Contrast | Normal |
Convert To Grayscale | False |
Custom Rendered | Normal |
Defringe | 0 |
Depth Of Field | inf (1.65 m - inf) |
Description | Parque Terra Nostra, São Miguel Island / Azores (Açores) ¦ pilago |
Digital Zoom Ratio | 1 |
Exposure | -0.15 |
Exposure Compensation | 0 |
Exposure Mode | Auto |
Field Of View | 67.4 deg |
Fill Light | 0 |
Flash Fired | False |
Flash Function | False |
Flash Mode | Auto |
Flash Red Eye Mode | False |
Flash Return | No return detection |
Focal Length In 35mm Format | 27 mm |
Format | image/jpeg |
Gain Control | None |
Grain Amount | 0 |
Green Hue | 0 |
Green Saturation | 0 |
Has Crop | False |
Has Settings | True |
Highlight Recovery | 26 |
Hue Adjustment Aqua | 0 |
Hue Adjustment Blue | 0 |
Hue Adjustment Green | 0 |
Hue Adjustment Magenta | 0 |
Hue Adjustment Orange | 0 |
Hue Adjustment Purple | 0 |
Hue Adjustment Red | 0 |
Hue Adjustment Yellow | 0 |
Hyperfocal Distance | 2.28 m |
ICC Profile Name | Adobe RGB (1998) |
ISO | 200 |
Image Description | Parque Terra Nostra, São Miguel Island / Azores (Açores) ¦ pilago |
Image Number | 15397 |
Image Size | 4288x2848 |
Lens | 18.0-200.0 mm f/3.5-5.6 |
Lens ID | AF-S DX VR Zoom-Nikkor 18-200mm f/3.5-5.6G IF-ED [II] or AF-S DX VR Zoom-Nikkor 18-200mm f/3.5-5.6G IF-ED |
Lens Info | 18-200mm f/3.5-5.6 |
Light Source | Unknown |
Light Value | 10.3 |
Luminance Adjustment Aqua | 0 |
Luminance Adjustment Blue | 0 |
Luminance Adjustment Green | 0 |
Luminance Adjustment Magenta | 0 |
Luminance Adjustment Orange | 0 |
Luminance Adjustment Purple | 0 |
Luminance Adjustment Red | 0 |
Luminance Adjustment Yellow | 0 |
Luminance Smoothing | 0 |
Metering Mode | Multi-segment |
Parametric Darks | 0 |
Parametric Highlight Split | 75 |
Parametric Highlights | 0 |
Parametric Lights | 0 |
Parametric Midtone Split | 50 |
Parametric Shadow Split | 25 |
Parametric Shadows | 0 |
Post Crop Vignette Amount | 0 |
Process Version | 5.0 |
Rating | 0 |
Raw File Name | _DSC0184_2.NEF |
Red Hue | 0 |
Red Saturation | 0 |
Saturation | Normal |
Saturation Adjustment Aqua | 0 |
Saturation Adjustment Blue | 0 |
Saturation Adjustment Green | 0 |
Saturation Adjustment Magenta | 0 |
Saturation Adjustment Orange | 0 |
Saturation Adjustment Purple | 0 |
Saturation Adjustment Red | 0 |
Saturation Adjustment Yellow | 0 |
Scale Factor To 35 mm Equivalent | 1.5 |
Scene Capture Type | Standard |
Scene Type | Directly photographed |
Sensing Method | One-chip color area |
Shadow Tint | 0 |
Shadows | 4 |
Sharpen Detail | 25 |
Sharpen Edge Masking | 0 |
Sharpen Radius | +1.0 |
Sharpness | Normal |
Split Toning Balance | 0 |
Split Toning Highlight Hue | 0 |
Split Toning Highlight Saturation | 0 |
Split Toning Shadow Hue | 0 |
Split Toning Shadow Saturation | 0 |
Subject | :: PORTUGAL, green, water, São Miguel, 〔2012〕, tree, enchanted trees, :: AZORES (Açores), panoramio_555362_85182653, Terra Nostra Garden Hotel | Azores Islands @ (37.772894 -25.314280), GooglePlace_CmRSAAAADSM2w0pfY- 9atAgS2XhpGh2FNUeW60JTwPQxycXC 22c4IvFvC0eGDHgt_x6pB-_M7JogBB bjE0REE3YYU9Yjl_C-UvwSng4YbgAE XkSWxwK277axVfWsePMh4I9Uq-MFEh Ax55y4Fm1PGk2KV6FeRRnTGhRG3DMv Y7GC_m4poGvToh87eOVD4g |
Subject Distance | 5.96 m |
Subject Distance Range | Unknown |
Tint | +3 |
Tone Curve | 0, 0, 32, 22, 64, 56, 128, 128, 192, 196, 255, 255 |
Tone Curve Name | Medium Contrast |
Version | 5.7 |
Vibrance | +40 |
Vignette Amount | 0 |
White Balance | Auto |
GPS Information |
GPS Altitude Ref | Above Sea Level |
GPS Latitude | 37 deg 46' 19.06" N |
GPS Latitude Ref | North |
GPS Longitude | 25 deg 18' 51.26" W |
GPS Longitude Ref | West |
GPS Position | 37 deg 46' 19.06" N, 25 deg 18' 51.26" W |
GPS Version ID | 2.2.0.0 |