Shooting information for this photo
Camera: | Panasonic DMC-FX8 |
Exposure: | 0.0025 sec. (1/400) |
Aperture: | f/7.3 |
Focal Length: | 9.9 mm |
Flash: | Off, Did not fire |
Exposure mode: | Program AE |
Max Aperture: | 2.8 |
Resolution: | 240 x 240 dpi |
Dimension: | 1940 x 2580 pixels |
Original Date: | 2009:10:04 12:00:08 |
Created on: | 2009:10:04 12:00:08 |
Modified on: | 2009:10:23 13:23:54 |
Software: | Adobe Photoshop CS4 Macintosh |
Already Applied | True |
Blue Hue | 0 |
Blue Saturation | 0 |
Brightness | 0 |
Camera Profile | Embedded |
Chromatic Aberration B | 0 |
Chromatic Aberration R | 0 |
Clarity | +33 |
Color Mode | RGB |
Color Noise Reduction | 0 |
Color Space | Uncalibrated |
Contrast | -5 |
Convert To Grayscale | False |
Defringe | 0 |
Description | Betancuria ¦ pilago |
Exposure | -0.25 |
Exposure Compensation | 0 |
Fill Light | 0 |
Flash Fired | False |
Flash Function | False |
Flash Mode | Off |
Flash Red Eye Mode | False |
Flash Return | No return detection |
Format | image/jpeg |
Green Hue | 0 |
Green Saturation | 0 |
Has Crop | False |
Has Settings | True |
Highlight Recovery | 50 |
Hue Adjustment Aqua | 0 |
Hue Adjustment Blue | 0 |
Hue Adjustment Green | 0 |
Hue Adjustment Magenta | 0 |
Hue Adjustment Orange | 0 |
Hue Adjustment Purple | 0 |
Hue Adjustment Red | 0 |
Hue Adjustment Yellow | 0 |
ICC Profile Name | Adobe RGB (1998) |
ISO | 80 |
Image Description | Betancuria ¦ pilago |
Image Size | 1940x2580 |
Incremental Temperature | 0 |
Incremental Tint | 0 |
Light Source | Unknown |
Light Value | 14.7 |
Luminance Adjustment Aqua | 0 |
Luminance Adjustment Blue | 0 |
Luminance Adjustment Green | 0 |
Luminance Adjustment Magenta | 0 |
Luminance Adjustment Orange | 0 |
Luminance Adjustment Purple | 0 |
Luminance Adjustment Red | 0 |
Luminance Adjustment Yellow | 0 |
Luminance Smoothing | 0 |
Metering Mode | Multi-segment |
Parametric Darks | 0 |
Parametric Highlight Split | 75 |
Parametric Highlights | 0 |
Parametric Lights | 0 |
Parametric Midtone Split | 50 |
Parametric Shadow Split | 25 |
Parametric Shadows | 0 |
Post Crop Vignette Amount | 0 |
Raw File Name | 2009-10-04 Fuerteventura_DMC-FX8 02.jpg |
Red Hue | 0 |
Red Saturation | 0 |
Saturation | 0 |
Saturation Adjustment Aqua | 0 |
Saturation Adjustment Blue | 0 |
Saturation Adjustment Green | 0 |
Saturation Adjustment Magenta | 0 |
Saturation Adjustment Orange | 0 |
Saturation Adjustment Purple | 0 |
Saturation Adjustment Red | 0 |
Saturation Adjustment Yellow | 0 |
Sensing Method | One-chip color area |
Shadow Tint | 0 |
Shadows | 0 |
Sharpen Detail | 25 |
Sharpen Edge Masking | 0 |
Sharpen Radius | +1.0 |
Sharpness | 0 |
Split Toning Balance | 0 |
Split Toning Highlight Hue | 0 |
Split Toning Highlight Saturation | 0 |
Split Toning Shadow Hue | 0 |
Split Toning Shadow Saturation | 0 |
Subject | 〔2009〕, :: CANARY ISLANDS, Fuerteventura, E-Betancuria, ✿ best of Canary Islands, > 10.000, panoramio_555362_28121522, Betancuria @ (28.424780 -14.057766), GooglePlace_CmRgAAAA141fLkb8Nz x6pcj7ZzYnFf8fSSQbKCElLYJpjRJG trPLSy3MqxBP1Dl40sXRtSr9U26DeP DxlfKWNDP9FfrkavCVWLKzy71EE9x5 Dp93Sgk-s1A5AK7USLEtgIaHtOwcEh CuDYGt8qNR5BgUUmCYwvPGGhRiOpn- OmmhTZYSH1GHGHdnIfi5xQ |
Tone Curve | 0, 0, 255, 255 |
Tone Curve Name | Linear |
Version | 5.0 |
Vibrance | +25 |
Vignette Amount | 0 |
White Balance | As Shot |
GPS Information |
GPS Altitude Ref | Above Sea Level |
GPS Latitude | 28 deg 25' 29.36" N |
GPS Latitude Ref | North |
GPS Longitude | 14 deg 3' 27.19" W |
GPS Longitude Ref | West |
GPS Position | 28 deg 25' 29.36" N, 14 deg 3' 27.19" W |
GPS Version ID | 2.2.0.0 |