Shooting information for this photo
Camera: | NIKON CORPORATION NIKON D90 |
Exposure: | 0.008 sec. (1/125) |
Aperture: | f/11.0 |
Focal Length: | 28.0 mm |
Flash: | Auto, Did not fire |
Exposure mode: | Not Defined |
Max Aperture: | 4.0 |
Resolution: | 240 x 240 dpi |
Dimension: | 1626 x 2796 pixels |
Original Date: | 2009:08:29 18:26:50 |
Created on: | 2009:08:29 18:26:50 |
Modified on: | 2010:02:01 11:35:38 |
Software: | QuickTime 7.6 |
Already Applied | True |
Blue Hue | 0 |
Blue Saturation | 0 |
Brightness | 0 |
Camera Profile | Embedded |
Chromatic Aberration B | 0 |
Chromatic Aberration R | 0 |
Clarity | +40 |
Color Noise Reduction | 0 |
Color Space | Uncalibrated |
Contrast | +15 |
Convert To Grayscale | False |
Defringe | 0 |
Description | Tomar (Portugal), Convento de Cristo - The famous chapterhouse window, made by Diogo de Arruda in 1510-1513 ¦ by pilago |
Exposure | -0.15 |
Exposure Compensation | 0 |
Fill Light | 0 |
Flash Fired | False |
Flash Function | False |
Flash Mode | Auto |
Flash Red Eye Mode | False |
Flash Return | No return detection |
Format | image/jpeg |
Green Hue | 0 |
Green Saturation | 0 |
Has Crop | False |
Has Settings | True |
Highlight Recovery | 65 |
Hue Adjustment Aqua | 0 |
Hue Adjustment Blue | 0 |
Hue Adjustment Green | 0 |
Hue Adjustment Magenta | 0 |
Hue Adjustment Orange | 0 |
Hue Adjustment Purple | 0 |
Hue Adjustment Red | 0 |
Hue Adjustment Yellow | 0 |
ISO | 200 |
Image Description | Tomar (Portugal), Convento de Cristo - The famous chapterhouse window, made by Diogo de Arruda in 1510-1513 ¦ by pilago |
Image Size | 1626x2796 |
Incremental Temperature | 0 |
Incremental Tint | 0 |
Light Source | Unknown |
Light Value | 12.9 |
Luminance Adjustment Aqua | 0 |
Luminance Adjustment Blue | 0 |
Luminance Adjustment Green | 0 |
Luminance Adjustment Magenta | 0 |
Luminance Adjustment Orange | 0 |
Luminance Adjustment Purple | 0 |
Luminance Adjustment Red | 0 |
Luminance Adjustment Yellow | 0 |
Luminance Smoothing | 0 |
Metering Mode | Multi-segment |
Parametric Darks | 0 |
Parametric Highlight Split | 75 |
Parametric Highlights | 0 |
Parametric Lights | 0 |
Parametric Midtone Split | 50 |
Parametric Shadow Split | 25 |
Parametric Shadows | 0 |
Post Crop Vignette Amount | 0 |
Raw File Name | 2009-08-29 Tomar 089 (1).jpg |
Red Hue | 0 |
Red Saturation | 0 |
Saturation | 0 |
Saturation Adjustment Aqua | 0 |
Saturation Adjustment Blue | 0 |
Saturation Adjustment Green | 0 |
Saturation Adjustment Magenta | 0 |
Saturation Adjustment Orange | 0 |
Saturation Adjustment Purple | 0 |
Saturation Adjustment Red | 0 |
Saturation Adjustment Yellow | 0 |
Sensing Method | One-chip color area |
Shadow Tint | 0 |
Shadows | 0 |
Sharpen Detail | 25 |
Sharpen Edge Masking | 0 |
Sharpen Radius | +1.0 |
Sharpness | 0 |
Split Toning Balance | 0 |
Split Toning Highlight Hue | 0 |
Split Toning Highlight Saturation | 0 |
Split Toning Shadow Hue | 0 |
Split Toning Shadow Saturation | 0 |
Subject | church & monastery, P-Tomar, :: PORTUGAL, UNESCO World Heritage, 〔2009〕, Windows and Doors, TOZ 2009 Spain and Portugal, cross, panoramio_555362_32195919, Convent of Christ @ (39.603499 -8.419030), GooglePlace_CmRSAAAAhlY-LWrFKn O8-xsRuM_u-AvnHVfgLywetibCeW0q xHBYpBkD_Otse8Bda2ULHNkWlusY4l 0SIRMEC-3DmQsgDRubE-ssWq3dnIb7 RmF5Fjdfx41YhkNyeoPMibGURYn_Eh ANllCnn16wKkfM11yjNjjOGhTqZ3zD X9vzFCR3tlgEMn6WIWMDEQ |
Tone Curve | 0, 0, 255, 255 |
Tone Curve Name | Linear |
Version | 5.0 |
Vibrance | +40 |
Vignette Amount | 0 |
White Balance | As Shot |
GPS Information |
GPS Altitude Ref | Above Sea Level |
GPS Latitude | 39 deg 36' 11.79" N |
GPS Latitude Ref | North |
GPS Longitude | 8 deg 25' 9.57" W |
GPS Longitude Ref | West |
GPS Position | 39 deg 36' 11.79" N, 8 deg 25' 9.57" W |
GPS Version ID | 2.2.0.0 |