Shooting information for this photo
Camera: | NIKON CORPORATION NIKON D90 |
Exposure: | 0.00156 sec. (1/640) |
Aperture: | f/11.0 |
Focal Length: | 48.0 mm (35 mm equivalent: 72.0 mm) |
Flash: | Auto, Did not fire |
Exposure mode: | Not Defined |
Max Aperture: | 4.6 |
Resolution: | 240 x 240 dpi |
Dimension: | 2400 x 1594 pixels |
Original Date: | 2010:10:24 17:41:15.00 |
Created on: | 2010:10:24 17:41:15.00 |
Modified on: | 2010:11:13 21:14:21 |
Software: | Adobe Photoshop CS4 Macintosh |
Already Applied | True |
Blue Hue | 0 |
Blue Saturation | 0 |
Brightness | +47 |
CFA Pattern | [Green,Blue][Red,Green] |
Camera Profile | Adobe Standard |
Chromatic Aberration B | 0 |
Chromatic Aberration R | 0 |
Circle Of Confusion | 0.020 mm |
Clarity | +45 |
Color Mode | RGB |
Color Noise Reduction | 25 |
Color Space | Uncalibrated |
Color Temperature | 6500 |
Contrast | Normal |
Convert To Grayscale | False |
Crop Angle | 0.18423 |
Crop Bottom | 1 |
Crop Left | 0.003472 |
Crop Right | 0.996528 |
Crop Top | 0 |
Custom Rendered | Normal |
Defringe | 0 |
Depth Of Field | inf (6.17 m - inf) |
Description | Sunset of the beach Jimbaran, Bali ¦ by pilago |
Digital Zoom Ratio | 1 |
Exposure | -0.25 |
Exposure Compensation | 0 |
Exposure Mode | Auto |
Field Of View | 28.1 deg |
Fill Light | 0 |
Flash Fired | False |
Flash Function | False |
Flash Mode | Auto |
Flash Red Eye Mode | False |
Flash Return | No return detection |
Focal Length In 35mm Format | 72 mm |
Format | image/jpeg |
Gain Control | None |
Grain Amount | 0 |
Green Hue | 0 |
Green Saturation | 0 |
Has Crop | True |
Has Settings | True |
Highlight Recovery | 34 |
Hue Adjustment Aqua | 0 |
Hue Adjustment Blue | 0 |
Hue Adjustment Green | 0 |
Hue Adjustment Magenta | 0 |
Hue Adjustment Orange | 0 |
Hue Adjustment Purple | 0 |
Hue Adjustment Red | 0 |
Hue Adjustment Yellow | 0 |
Hyperfocal Distance | 10.46 m |
ICC Profile Name | Adobe RGB (1998) |
ISO | 200 |
Image Description | Sunset of the beach Jimbaran, Bali ¦ by pilago |
Image Number | 9982 |
Image Size | 2400x1594 |
Lens | 18.0-200.0 mm f/3.5-5.6 |
Lens ID | AF-S DX VR Zoom-Nikkor 18-200mm f/3.5-5.6G IF-ED [II] or AF-S DX VR Zoom-Nikkor 18-200mm f/3.5-5.6G IF-ED |
Lens Info | 18-200mm f/3.5-5.6 |
Light Source | Unknown |
Light Value | 15.2 |
Luminance Adjustment Aqua | 0 |
Luminance Adjustment Blue | 0 |
Luminance Adjustment Green | 0 |
Luminance Adjustment Magenta | 0 |
Luminance Adjustment Orange | 0 |
Luminance Adjustment Purple | 0 |
Luminance Adjustment Red | 0 |
Luminance Adjustment Yellow | 0 |
Luminance Smoothing | 0 |
Metering Mode | Multi-segment |
Parametric Darks | 0 |
Parametric Highlight Split | 75 |
Parametric Highlights | 0 |
Parametric Lights | 0 |
Parametric Midtone Split | 50 |
Parametric Shadow Split | 25 |
Parametric Shadows | 0 |
Post Crop Vignette Amount | 0 |
Process Version | 5.0 |
Rating | 0 |
Raw File Name | _DSC0650_2.NEF |
Red Hue | 0 |
Red Saturation | 0 |
Saturation | Normal |
Saturation Adjustment Aqua | 0 |
Saturation Adjustment Blue | 0 |
Saturation Adjustment Green | 0 |
Saturation Adjustment Magenta | 0 |
Saturation Adjustment Orange | 0 |
Saturation Adjustment Purple | 0 |
Saturation Adjustment Red | 0 |
Saturation Adjustment Yellow | 0 |
Scale Factor To 35 mm Equivalent | 1.5 |
Scene Capture Type | Landscape |
Scene Type | Directly photographed |
Sensing Method | One-chip color area |
Shadow Tint | 0 |
Shadows | 6 |
Sharpen Detail | 25 |
Sharpen Edge Masking | 0 |
Sharpen Radius | +1.0 |
Sharpness | Normal |
Split Toning Balance | 0 |
Split Toning Highlight Hue | 0 |
Split Toning Highlight Saturation | 0 |
Split Toning Shadow Hue | 0 |
Split Toning Shadow Saturation | 0 |
Subject | :: BALI, beach, clouds, :: INDONESIA, ocean, RI-Jimbaran, sky, South-East Asia, sunset, 〔2010〕, The Colours of Bali, ✿ 10 plus YS, coastline landscapes, > 25.000, panoramio_555362_43627266, Belmond Jimbaran Puri @ (-8.772763 115.168884), GooglePlace_CmRSAAAAp1omvcJoun kdAWEFlx1fXGvnsD9EMvKuEie71018 xB-gT9itaDKJm2gIayr1I45uxLyvyB oZmCVv4DuVrdzrSoSdtqusY_-USlUd fnR5nqMEiDCIa01ccql5StFdlUytEh B_J89t4Vsqlzwt9sK66EUKGhRT6tvB 6e8mwHaJu5gSznGDxvAYEg |
Subject Distance | 15 m |
Subject Distance Range | Unknown |
Tint | +10 |
Tone Curve | 0, 0, 32, 22, 64, 56, 128, 128, 192, 196, 255, 255 |
Tone Curve Name | Medium Contrast |
Version | 5.7 |
Vibrance | +50 |
Vignette Amount | 0 |
White Balance | Auto |
GPS Information |
GPS Altitude Ref | Above Sea Level |
GPS Latitude | 8 deg 46' 44.60" S |
GPS Latitude Ref | South |
GPS Longitude | 115 deg 9' 54.31" E |
GPS Longitude Ref | East |
GPS Position | 8 deg 46' 44.60" S, 115 deg 9' 54.31" E |
GPS Version ID | 2.2.0.0 |