Shooting information for this photo
Camera: | NIKON CORPORATION NIKON D90 |
Exposure: | 0.004 sec. (1/250) |
Aperture: | f/10.0 |
Focal Length: | 11.0 mm (35 mm equivalent: 16.0 mm) |
Flash: | Auto, Did not fire |
Exposure mode: | Not Defined |
Max Aperture: | 3.6 |
Resolution: | 240 x 240 dpi |
Dimension: | 4158 x 2762 pixels |
Original Date: | 2010:10:25 11:18:55.00 |
Digitized Date: | 2010:10:25 11:18:55.00+02:00 |
Created on: | 2010:10:25 11:18:55.00 |
Modified on: | 2011:03:08 11:54:24 |
Software: | Ver.1.00 |
Already Applied | True |
Blue Hue | 0 |
Blue Saturation | 0 |
Brightness | +32 |
CFA Pattern | [Green,Blue][Red,Green] |
Camera Profile | Adobe Standard |
Chromatic Aberration B | 0 |
Chromatic Aberration R | 0 |
Circle Of Confusion | 0.021 mm |
Clarity | +35 |
Color Noise Reduction | 25 |
Color Temperature | 5800 |
Contrast | Normal |
Convert To Grayscale | False |
Crop Angle | 1.200634 |
Crop Bottom | 1 |
Crop Left | 0.022042 |
Crop Right | 0.977958 |
Crop Top | 0 |
Custom Rendered | Normal |
Defringe | 0 |
Depth Of Field | inf (0.40 m - inf) |
Digital Zoom Ratio | 1 |
Exposure | 0.00 |
Exposure Compensation | 0 |
Exposure Mode | Auto |
Field Of View | 96.7 deg |
Fill Light | 0 |
Flash Fired | False |
Flash Function | False |
Flash Mode | Auto |
Flash Red Eye Mode | False |
Flash Return | No return detection |
Focal Length In 35mm Format | 16 mm |
Gain Control | None |
Grain Amount | 0 |
Green Hue | 0 |
Green Saturation | 0 |
Has Crop | True |
Has Settings | True |
Highlight Recovery | 50 |
Hue Adjustment Aqua | 0 |
Hue Adjustment Blue | 0 |
Hue Adjustment Green | 0 |
Hue Adjustment Magenta | 0 |
Hue Adjustment Orange | 0 |
Hue Adjustment Purple | 0 |
Hue Adjustment Red | 0 |
Hue Adjustment Yellow | 0 |
Hyperfocal Distance | 0.59 m |
ISO | 320 |
Image Number | 10106 |
Image Size | 4158x2762 |
Lens | 10.0-24.0 mm f/3.5-4.5 |
Lens ID | AF-S DX Nikkor 10-24mm f/3.5-4.5G ED |
Lens Info | 10-24mm f/3.5-4.5 |
Light Source | Unknown |
Light Value | 12.9 |
Luminance Adjustment Aqua | 0 |
Luminance Adjustment Blue | 0 |
Luminance Adjustment Green | 0 |
Luminance Adjustment Magenta | 0 |
Luminance Adjustment Orange | 0 |
Luminance Adjustment Purple | 0 |
Luminance Adjustment Red | 0 |
Luminance Adjustment Yellow | 0 |
Luminance Smoothing | 0 |
Metering Mode | Multi-segment |
Parametric Darks | 0 |
Parametric Highlight Split | 75 |
Parametric Highlights | 0 |
Parametric Lights | 0 |
Parametric Midtone Split | 50 |
Parametric Shadow Split | 25 |
Parametric Shadows | 0 |
Post Crop Vignette Amount | 0 |
Process Version | 5.0 |
Rating | 0 |
Raw File Name | 2010-10-25 Kataraman 08.NEF |
Red Hue | 0 |
Red Saturation | 0 |
Saturation | Normal |
Saturation Adjustment Aqua | 0 |
Saturation Adjustment Blue | 0 |
Saturation Adjustment Green | 0 |
Saturation Adjustment Magenta | 0 |
Saturation Adjustment Orange | 0 |
Saturation Adjustment Purple | 0 |
Saturation Adjustment Red | 0 |
Saturation Adjustment Yellow | 0 |
Scale Factor To 35 mm Equivalent | 1.5 |
Scene Capture Type | Landscape |
Scene Type | Directly photographed |
Sensing Method | One-chip color area |
Shadow Tint | 0 |
Shadows | 4 |
Sharpen Detail | 25 |
Sharpen Edge Masking | 0 |
Sharpen Radius | +1.0 |
Sharpness | Normal |
Split Toning Balance | 0 |
Split Toning Highlight Hue | 0 |
Split Toning Highlight Saturation | 0 |
Split Toning Shadow Hue | 0 |
Split Toning Shadow Saturation | 0 |
Subject Distance | 1.26 m |
Subject Distance Range | Unknown |
Tint | -5 |
Tone Curve | 0, 0, 32, 22, 64, 56, 128, 128, 192, 196, 255, 255 |
Tone Curve Name | Medium Contrast |
Version | 5.7 |
Vibrance | +50 |
Vignette Amount | 0 |
White Balance | Auto |