Shooting information for this photo
Camera: | NIKON CORPORATION NIKON D90 |
Exposure: | 0.01667 sec. (1/60) |
Aperture: | f/8.0 |
Focal Length: | 65.0 mm (35 mm equivalent: 97.0 mm) |
Flash: | Auto, Did not fire |
Exposure mode: | Not Defined |
Max Aperture: | 4.9 |
Resolution: | 240 x 240 dpi |
Dimension: | 2848 x 4288 pixels |
Original Date: | 2010:10:25 15:07:06.00 |
Digitized Date: | 2010:10:25 15:07:06.00+02:00 |
Created on: | 2010:10:25 15:07:06.00 |
Modified on: | 2011:03:08 11:57:59 |
Software: | Ver.1.00 |
Already Applied | True |
Blue Hue | 0 |
Blue Saturation | 0 |
Brightness | +47 |
CFA Pattern | [Green,Blue][Red,Green] |
Camera Profile | Adobe Standard |
Chromatic Aberration B | 0 |
Chromatic Aberration R | 0 |
Circle Of Confusion | 0.020 mm |
Clarity | 0 |
Color Noise Reduction | 25 |
Color Temperature | 4500 |
Contrast | Normal |
Convert To Grayscale | False |
Custom Rendered | Normal |
Defringe | 0 |
Depth Of Field | 25.28 m (9.56 - 34.83) |
Digital Zoom Ratio | 1 |
Exposure | 0.00 |
Exposure Compensation | 0 |
Exposure Mode | Auto |
Field Of View | 21.0 deg |
Fill Light | 0 |
Flash Fired | False |
Flash Function | False |
Flash Mode | Auto |
Flash Red Eye Mode | False |
Flash Return | No return detection |
Focal Length In 35mm Format | 97 mm |
Gain Control | None |
Grain Amount | 0 |
Green Hue | 0 |
Green Saturation | 0 |
Has Crop | False |
Has Settings | True |
Highlight Recovery | 26 |
Hue Adjustment Aqua | 0 |
Hue Adjustment Blue | 0 |
Hue Adjustment Green | 0 |
Hue Adjustment Magenta | 0 |
Hue Adjustment Orange | 0 |
Hue Adjustment Purple | 0 |
Hue Adjustment Red | 0 |
Hue Adjustment Yellow | 0 |
Hyperfocal Distance | 26.23 m |
ISO | 280 |
Image Number | 10132 |
Image Size | 2848x4288 |
Lens | 18.0-200.0 mm f/3.5-5.6 |
Lens ID | AF-S DX VR Zoom-Nikkor 18-200mm f/3.5-5.6G IF-ED [II] or AF-S DX VR Zoom-Nikkor 18-200mm f/3.5-5.6G IF-ED |
Lens Info | 18-200mm f/3.5-5.6 |
Light Source | Unknown |
Light Value | 10.4 |
Luminance Adjustment Aqua | 0 |
Luminance Adjustment Blue | 0 |
Luminance Adjustment Green | 0 |
Luminance Adjustment Magenta | 0 |
Luminance Adjustment Orange | 0 |
Luminance Adjustment Purple | 0 |
Luminance Adjustment Red | 0 |
Luminance Adjustment Yellow | 0 |
Luminance Smoothing | 0 |
Metering Mode | Multi-segment |
Parametric Darks | 0 |
Parametric Highlight Split | 75 |
Parametric Highlights | 0 |
Parametric Lights | 0 |
Parametric Midtone Split | 50 |
Parametric Shadow Split | 25 |
Parametric Shadows | 0 |
Post Crop Vignette Amount | 0 |
Process Version | 5.0 |
Rating | 0 |
Raw File Name | 2010-10-25 Kataraman 012.NEF |
Red Hue | 0 |
Red Saturation | 0 |
Saturation | Normal |
Saturation Adjustment Aqua | 0 |
Saturation Adjustment Blue | 0 |
Saturation Adjustment Green | 0 |
Saturation Adjustment Magenta | 0 |
Saturation Adjustment Orange | 0 |
Saturation Adjustment Purple | 0 |
Saturation Adjustment Red | 0 |
Saturation Adjustment Yellow | 0 |
Scale Factor To 35 mm Equivalent | 1.5 |
Scene Capture Type | Landscape |
Scene Type | Directly photographed |
Sensing Method | One-chip color area |
Shadow Tint | 0 |
Shadows | 7 |
Sharpen Detail | 25 |
Sharpen Edge Masking | 0 |
Sharpen Radius | +1.0 |
Sharpness | Normal |
Split Toning Balance | 0 |
Split Toning Highlight Hue | 0 |
Split Toning Highlight Saturation | 0 |
Split Toning Shadow Hue | 0 |
Split Toning Shadow Saturation | 0 |
Subject Distance | 15 m |
Subject Distance Range | Unknown |
Tint | +3 |
Tone Curve | 0, 0, 32, 22, 64, 56, 128, 128, 192, 196, 255, 255 |
Tone Curve Name | Medium Contrast |
Version | 5.7 |
Vibrance | 0 |
Vignette Amount | 0 |
White Balance | Auto |