Shooting information for this photo
Camera: | Nikon LS-9000 |
Resolution: | 250 x 250 dpi |
Created on: | 2020:03:31 11:30:54 |
Modified on: | 2024:09:17 19:32:49 |
Software: | Adobe Photoshop Lightroom Classic 13.5.1 (Macintosh) |
Already Applied | True |
Blacks 2012 | -66 |
Brightness | +50 |
Clarity 2012 | +30 |
Color Grade Blending | 50 |
Color Grade Global Hue | 0 |
Color Grade Global Lum | 0 |
Color Grade Global Sat | 0 |
Color Grade Highlight Lum | 0 |
Color Grade Midtone Hue | 0 |
Color Grade Midtone Lum | 0 |
Color Grade Midtone Sat | 0 |
Color Grade Shadow Lum | 0 |
Color Space | sRGB |
Compatible Version | 234881024 |
Contrast | +25 |
Contrast 2012 | +5 |
Crop Angle | -0.632184 |
Crop Bottom | 0.972873 |
Crop Constrain To Warp | 0 |
Crop Left | 0.024676 |
Crop Right | 0.96611 |
Crop Top | 0.093602 |
Dehaze | +18 |
Exposure 2012 | +0.20 |
Format | image/jpeg |
Good | true |
Grain Amount | 0 |
HDR Edit Mode | 0 |
Has Crop | True |
Has Settings | True |
Highlights 2012 | -100 |
Image Size | 1854x2616 |
Lens Manual Distortion Amount | 0 |
Lens Profile Enable | 0 |
Luminance Smoothing | 0 |
Override Look Vignette | False |
Parametric Darks | 0 |
Parametric Highlight Split | 75 |
Parametric Highlights | 0 |
Parametric Lights | 0 |
Parametric Midtone Split | 50 |
Parametric Shadow Split | 25 |
Parametric Shadows | 0 |
Perspective Aspect | 0 |
Perspective Horizontal | 0 |
Perspective Rotate | 0.0 |
Perspective Scale | 100 |
Perspective Upright | 0 |
Perspective Vertical | 0 |
Perspective X | 0.00 |
Perspective Y | 0.00 |
Pick | 1 |
Point Colors | -1.000000, -1.000000, -1.000000, -1.000000, -1.000000, -1.000000, -1.000000, -1.000000, -1.000000, -1.000000, -1.000000, -1.000000, -1.000000, -1.000000, -1.000000, -1.000000, -1.000000, -1.000000, -1.000000 |
Post Crop Vignette Amount | -7 |
Post Crop Vignette Feather | 50 |
Post Crop Vignette Highlight Contrast | 0 |
Post Crop Vignette Midpoint | 50 |
Post Crop Vignette Roundness | 0 |
Post Crop Vignette Style | 1 |
Preserved File Name | B&WScans_1986-12.jpg |
Process Version | 15.4 |
Rating | 5 |
Raw File Name | B&WScans_1986-12.jpg |
Shadows | 5 |
Shadows 2012 | +81 |
Sharpen Detail | 25 |
Sharpen Edge Masking | 0 |
Sharpen Radius | +1.0 |
Sharpness | 23 |
Split Toning Balance | 0 |
Split Toning Highlight Hue | 0 |
Split Toning Highlight Saturation | 0 |
Split Toning Shadow Hue | 0 |
Split Toning Shadow Saturation | 0 |
Subject | 35B&W, 80's, Dogs, Neg Scans, Signs |
Texture | 0 |
Tone Curve Name 2012 | Linear |
Tone Curve PV2012 | 0, 0, 255, 255 |
Tone Curve PV2012 Blue | 0, 0, 255, 255 |
Tone Curve PV2012 Green | 0, 0, 255, 255 |
Tone Curve PV2012 Red | 0, 0, 255, 255 |
Version | 16.5 |
Vignette Amount | 0 |
Weighted Flat Subject | 80's, Dogs, 35B&W, Neg Scans, Signs |
Whites 2012 | +24 |