Shooting information for this photo
Camera: | NIKON CORPORATION NIKON D700 |
Exposure: | 0.00025 sec. (1/4000) |
Aperture: | f/7.1 |
Focal Length: | 210.0 mm (35 mm equivalent: 315.0 mm) |
Flash: | No Flash |
Exposure mode: | Aperture-priority AE |
Max Aperture: | 4.0 |
Resolution: | 120 x 120 dpi |
Dimension: | 1392 x 924 pixels |
Original Date: | 2012:05:19 17:28:29.47 |
Created on: | 2012:05:19 17:28:29.47 |
Modified on: | 2012:06:15 12:44:51.47 |
Software: | Adobe Photoshop CS5.1 Macintosh |
Copyright: | Uwe Nettelmann |
Already Applied | True |
Approximate Focus Distance | 15.8 |
Artist | Uwe Nettelmann |
Bits Per Sample | 8 8 8 |
Blue Hue | 0 |
Blue Saturation | 0 |
Brightness | +50 |
CFA Pattern | [Red,Green][Green,Blue] |
Camera Profile | Adobe Standard |
Chromatic Aberration B | 0 |
Chromatic Aberration R | 0 |
Circle Of Confusion | 0.020 mm |
Clarity | +41 |
Color Mode | RGB |
Color Noise Reduction | 25 |
Color Noise Reduction Detail | 50 |
Color Space | Uncalibrated |
Color Temperature | 4900 |
Contrast | Normal |
Convert To Grayscale | False |
Creator | Uwe Nettelmann |
Custom Rendered | Normal |
Defringe | 0 |
Depth Of Field | 1.59 m (15.04 - 16.64) |
Digital Zoom Ratio | 1.53 |
Exposure | +0.10 |
Exposure Compensation | -1/2 |
Exposure Mode | Auto |
Field Of View | 6.5 deg |
Fill Light | 8 |
Focal Length In 35mm Format | 315 mm |
Format | image/tiff |
Gain Control | Low gain up |
Grain Amount | 0 |
Green Hue | 0 |
Green Saturation | 0 |
Has Crop | False |
Has Settings | True |
Highlight Recovery | 11 |
Hue Adjustment Aqua | 0 |
Hue Adjustment Blue | 0 |
Hue Adjustment Green | 0 |
Hue Adjustment Magenta | 0 |
Hue Adjustment Orange | 0 |
Hue Adjustment Purple | 0 |
Hue Adjustment Red | 0 |
Hue Adjustment Yellow | 0 |
Hyperfocal Distance | 310.09 m |
ICC Profile Name | Adobe RGB (1998) |
ISO | 400 |
Image Height | 924 |
Image Number | 19145 |
Image Size | 1392x924 |
Image Width | 1392 |
Lens | 120.0-300.0 mm f/2.8 |
Lens ID | Sigma APO 120-300mm F2.8 EX DG HSM |
Lens Info | 120-300mm f/2.8 |
Lens Manual Distortion Amount | 0 |
Lens Model | 120.0-300.0 mm f/2.8 |
Lens Profile Enable | 0 |
Lens Profile Setup | LensDefaults |
Light Source | Unknown |
Light Value | 15.6 |
Luminance Adjustment Aqua | 0 |
Luminance Adjustment Blue | 0 |
Luminance Adjustment Green | 0 |
Luminance Adjustment Magenta | 0 |
Luminance Adjustment Orange | 0 |
Luminance Adjustment Purple | 0 |
Luminance Adjustment Red | 0 |
Luminance Adjustment Yellow | 0 |
Luminance Smoothing | 0 |
Metering Mode | Multi-segment |
Parametric Darks | 0 |
Parametric Highlight Split | 75 |
Parametric Highlights | 0 |
Parametric Lights | 0 |
Parametric Midtone Split | 50 |
Parametric Shadow Split | 25 |
Parametric Shadows | 0 |
Perspective Horizontal | 0 |
Perspective Rotate | 0.0 |
Perspective Scale | 100 |
Perspective Vertical | 0 |
Photometric Interpretation | RGB |
Planar Configuration | Chunky |
Post Crop Vignette Amount | 0 |
Process Version | 5.7 |
Rating | 0 |
Raw File Name | _DSC7657.NEF |
Red Hue | 0 |
Red Saturation | 0 |
Rights | Uwe Nettelmann |
Rows Per Strip | 924 |
Samples Per Pixel | 3 |
Saturation | Normal |
Saturation Adjustment Aqua | 0 |
Saturation Adjustment Blue | 0 |
Saturation Adjustment Green | 0 |
Saturation Adjustment Magenta | 0 |
Saturation Adjustment Orange | 0 |
Saturation Adjustment Purple | 0 |
Saturation Adjustment Red | 0 |
Saturation Adjustment Yellow | 0 |
Scale Factor To 35 mm Equivalent | 1.5 |
Scene Capture Type | Standard |
Scene Type | Directly photographed |
Sensing Method | One-chip color area |
Sensitivity Type | Unknown |
Shadow Tint | 0 |
Shadows | 5 |
Sharpen Detail | 25 |
Sharpen Edge Masking | 0 |
Sharpen Radius | +1.0 |
Sharpness | Normal |
Sidecar For Extension | NEF |
Split Toning Balance | 0 |
Split Toning Highlight Hue | 0 |
Split Toning Highlight Saturation | 0 |
Split Toning Shadow Hue | 0 |
Split Toning Shadow Saturation | 0 |
Strip Byte Counts | 3858624 |
Strip Offsets | 33380 |
Subfile Type | Full-resolution Image |
Subject Distance | 15.8 m |
Subject Distance Range | Unknown |
Tint | -1 |
Tone Curve | 0, 0, 32, 22, 64, 56, 128, 128, 192, 196, 255, 255 |
Tone Curve Name | Medium Contrast |
User Comment | Helgoland |
Version | 6.3 |
Vibrance | +21 |
Vignette Amount | 0 |
White Balance | Custom |