Shooting information for this photo
Camera: | Canon EOS 450D |
Exposure: | 0.008 sec. (1/125) |
Aperture: | f/9.0 |
Focal Length: | 34.0 mm (35 mm equivalent: 54.9 mm) |
Flash: | Off, Did not fire |
Exposure mode: | Program AE |
Max Aperture: | 4.6 |
Resolution: | 240 x 240 dpi |
Dimension: | 2848 x 4272 pixels |
Original Date: | 2010:10:20 14:35:39 |
Digitized Date: | 2010:10:20 15:35:39.87+01:00 |
Created on: | 2010:10:20 15:35:39.87 |
Modified on: | 2011:05:25 23:17:55 |
Software: | Adobe Photoshop Elements 7.0 Windows |
Already Applied | True |
Blue Hue | 0 |
Blue Saturation | 0 |
Brightness | +78 |
Camera Profile | ACR 4.4 |
Chromatic Aberration B | 0 |
Chromatic Aberration R | 0 |
Circle Of Confusion | 0.019 mm |
Clarity | -11 |
Color Mode | RGB |
Color Noise Reduction | 18 |
Color Space | sRGB |
Color Temperature | 49000 |
Contrast | +73 |
Convert To Grayscale | False |
Custom Rendered | Normal |
Defringe | 0 |
Description | Brighton Museum |
Exposure | -3.05 |
Exposure Compensation | 0 |
Exposure Mode | Auto |
Field Of View | 36.3 deg |
Fill Light | 19 |
Firmware | 1.1.0 |
Flash Compensation | 0 |
Flash Fired | False |
Flash Function | False |
Flash Mode | Off |
Flash Red Eye Mode | False |
Flash Return | No return detection |
Format | image/jpeg |
Green Hue | 0 |
Green Saturation | 0 |
Has Crop | False |
Has Settings | True |
Highlight Recovery | 3 |
Hue Adjustment Aqua | 0 |
Hue Adjustment Blue | 0 |
Hue Adjustment Green | 0 |
Hue Adjustment Magenta | 0 |
Hue Adjustment Orange | 0 |
Hue Adjustment Purple | 0 |
Hue Adjustment Red | 0 |
Hue Adjustment Yellow | 0 |
Hyperfocal Distance | 6.91 m |
ICC Profile Name | sRGB IEC61966-2.1 |
ISO | 1600 |
Image Description | Brighton Museum |
Image Number | 0 |
Image Size | 2848x4272 |
Lens | EF-S18-55mm f/3.5-5.6 IS |
Lens Info | 18-55mm f/? |
Light Value | 9.3 |
Luminance Adjustment Aqua | 0 |
Luminance Adjustment Blue | 0 |
Luminance Adjustment Green | 0 |
Luminance Adjustment Magenta | 0 |
Luminance Adjustment Orange | 0 |
Luminance Adjustment Purple | 0 |
Luminance Adjustment Red | 0 |
Luminance Adjustment Yellow | 0 |
Luminance Smoothing | 8 |
Metering Mode | Multi-segment |
Parametric Darks | 0 |
Parametric Highlight Split | 75 |
Parametric Highlights | 0 |
Parametric Lights | 0 |
Parametric Midtone Split | 50 |
Parametric Shadow Split | 25 |
Parametric Shadows | 0 |
Post Crop Vignette Amount | 0 |
Rating | 0 |
Raw File Name | IMG_1852_v2.CR2 |
Red Hue | 0 |
Red Saturation | 0 |
Saturation | +31 |
Saturation Adjustment Aqua | 0 |
Saturation Adjustment Blue | 0 |
Saturation Adjustment Green | 0 |
Saturation Adjustment Magenta | 0 |
Saturation Adjustment Orange | 0 |
Saturation Adjustment Purple | 0 |
Saturation Adjustment Red | 0 |
Saturation Adjustment Yellow | 0 |
Scale Factor To 35 mm Equivalent | 1.6 |
Scene Capture Type | Standard |
Shadow Tint | 0 |
Shadows | 26 |
Sharpen Detail | 25 |
Sharpen Edge Masking | 0 |
Sharpen Radius | +1.0 |
Sharpness | 28 |
Sidecar For Extension | CR2 |
Split Toning Balance | 0 |
Split Toning Highlight Hue | 0 |
Split Toning Highlight Saturation | 0 |
Split Toning Shadow Hue | 0 |
Split Toning Shadow Saturation | 0 |
Subject | Brighton, Brighton Museum |
Tint | +110 |
Tone Curve | 0, 0, 32, 22, 64, 56, 128, 128, 192, 196, 255, 255 |
Tone Curve Name | Medium Contrast |
Version | 4.5 |
Vibrance | +25 |
Vignette Amount | 0 |
White Balance | Auto |