Shooting information for this photo
Camera: | Apple iPhone 13 |
Exposure: | 0.00156 sec. (1/640) |
Aperture: | f/1.6 |
Focal Length: | 5.1 mm (35 mm equivalent: 26.0 mm) |
Flash: | Off, Did not fire |
Exposure mode: | Program AE |
Resolution: | 240 x 240 dpi |
Original Date: | 2024:02:15 14:06:33.066 |
Created on: | 2024:02:15 14:06:33.066 |
Modified on: | 2024:03:17 13:41:14 |
Software: | Adobe Photoshop Lightroom Classic 13.2 (Macintosh) |
Already Applied | True |
Auto Lateral CA | 0 |
Blacks 2012 | 0 |
Blue Hue | -21 |
Blue Saturation | -4 |
Brightness Value | 7.428987824 |
Camera Profile | Embedded |
Circle Of Confusion | 0.006 mm |
Clarity 2012 | +29 |
Color Grade Blending | 42 |
Color Grade Global Hue | 0 |
Color Grade Global Lum | 0 |
Color Grade Global Sat | 0 |
Color Grade Highlight Lum | +8 |
Color Grade Midtone Hue | 58 |
Color Grade Midtone Lum | 0 |
Color Grade Midtone Sat | 0 |
Color Grade Shadow Lum | +19 |
Color Noise Reduction | 0 |
Color Space | sRGB |
Contrast 2012 | 0 |
Crop Angle | 0 |
Crop Bottom | 0.964288 |
Crop Constrain To Warp | 0 |
Crop Left | 0 |
Crop Right | 1 |
Crop Top | 0 |
Curve Refine Saturation | 100 |
Date Created | 2024:02:15 14:06:33.066+01:00 |
Defringe Green Amount | 0 |
Defringe Green Hue Hi | 60 |
Defringe Green Hue Lo | 40 |
Defringe Purple Amount | 0 |
Defringe Purple Hue Hi | 70 |
Defringe Purple Hue Lo | 30 |
Dehaze | 0 |
Exposure 2012 | 0.00 |
Exposure Compensation | 0 |
Exposure Mode | Auto |
Field Of View | 69.4 deg |
Focal Length In 35mm Format | 26 mm |
Format | image/jpeg |
Grain Amount | 0 |
Green Hue | +16 |
Green Saturation | 0 |
HDR Edit Mode | 0 |
Has Crop | True |
Has Settings | True |
Highlights 2012 | 0 |
Hue Adjustment Aqua | +18 |
Hue Adjustment Blue | -14 |
Hue Adjustment Green | -35 |
Hue Adjustment Magenta | +16 |
Hue Adjustment Orange | +9 |
Hue Adjustment Purple | -24 |
Hue Adjustment Red | 0 |
Hue Adjustment Yellow | -16 |
Hyperfocal Distance | 2.76 m |
ISO | 50 |
Image Size | 723x1000 |
Incremental Temperature | 0 |
Incremental Tint | 0 |
Lens | iPhone 13 back dual wide camera 5.1mm f/1.6 |
Lens Info | 1.53999996185121-5.1mm f/1.6-2.4 |
Lens Make | Apple |
Lens Manual Distortion Amount | 0 |
Lens Model | iPhone 13 back dual wide camera 5.1mm f/1.6 |
Lens Profile Enable | 0 |
Light Value | 11.7 |
Look Amount | 1.04 |
Look Cluster | Adobe |
Look Group | Modern |
Look Name | Modern 04 |
Look Parameters Clarity 2012 | +5 |
Look Parameters Color Grade Blending | 100 |
Look Parameters Color Grade Global Hue | 0 |
Look Parameters Color Grade Global Lum | 0 |
Look Parameters Color Grade Global Sat | 0 |
Look Parameters Color Grade Highlight Lum | 0 |
Look Parameters Color Grade Midtone Hue | 0 |
Look Parameters Color Grade Midtone Lum | 0 |
Look Parameters Color Grade Midtone Sat | 0 |
Look Parameters Color Grade Shadow Lum | 0 |
Look Parameters Contrast 2012 | +15 |
Look Parameters Convert To Grayscale | False |
Look Parameters Exposure 2012 | +0.20 |
Look Parameters Look Table | E1095149FDB39D7A057BAB208837E2 E1 |
Look Parameters Parametric Darks | -9 |
Look Parameters Parametric Highlight Split | 75 |
Look Parameters Parametric Highlights | 0 |
Look Parameters Parametric Lights | 0 |
Look Parameters Parametric Midtone Split | 50 |
Look Parameters Parametric Shadow Split | 25 |
Look Parameters Parametric Shadows | 0 |
Look Parameters Process Version | 15.4 |
Look Parameters Saturation Adjustment Orange | -10 |
Look Parameters Shadows 2012 | +21 |
Look Parameters Split Toning Balance | 0 |
Look Parameters Split Toning Highlight Hue | 0 |
Look Parameters Split Toning Highlight Saturation | 0 |
Look Parameters Split Toning Shadow Hue | 215 |
Look Parameters Split Toning Shadow Saturation | 10 |
Look Parameters Version | 16.2 |
Look Supports Monochrome | false |
Luminance Adjustment Aqua | -14 |
Luminance Adjustment Blue | +19 |
Luminance Adjustment Green | +17 |
Luminance Adjustment Magenta | +6 |
Luminance Adjustment Orange | 0 |
Luminance Adjustment Purple | +20 |
Luminance Adjustment Red | 0 |
Luminance Adjustment Yellow | 0 |
Luminance Smoothing | 0 |
Metering Mode | Multi-segment |
Override Look Vignette | False |
Parametric Darks | 0 |
Parametric Highlight Split | 75 |
Parametric Highlights | 0 |
Parametric Lights | 0 |
Parametric Midtone Split | 50 |
Parametric Shadow Split | 25 |
Parametric Shadows | 0 |
Perspective Aspect | 0 |
Perspective Horizontal | 0 |
Perspective Rotate | 0.0 |
Perspective Scale | 100 |
Perspective Upright | 0 |
Perspective Vertical | 0 |
Perspective X | 0.00 |
Perspective Y | 0.00 |
Pick | 0 |
Point Colors | -1.000000, -1.000000, -1.000000, -1.000000, -1.000000, -1.000000, -1.000000, -1.000000, -1.000000, -1.000000, -1.000000, -1.000000, -1.000000, -1.000000, -1.000000, -1.000000, -1.000000, -1.000000, -1.000000 |
Post Crop Vignette Amount | 0 |
Preserved File Name | IMG_0175.HEIC |
Process Version | 15.4 |
Raw File Name | Landskrona 8.HEIC |
Red Hue | -5 |
Red Saturation | +6 |
Saturation | -2 |
Saturation Adjustment Aqua | 0 |
Saturation Adjustment Blue | +21 |
Saturation Adjustment Green | +60 |
Saturation Adjustment Magenta | +9 |
Saturation Adjustment Orange | +37 |
Saturation Adjustment Purple | +19 |
Saturation Adjustment Red | 0 |
Saturation Adjustment Yellow | +25 |
Scale Factor To 35 mm Equivalent | 5.1 |
Scene Type | Directly photographed |
Sensing Method | One-chip color area |
Shadow Tint | 0 |
Shadows 2012 | 0 |
Sharpness | 0 |
Split Toning Balance | +29 |
Split Toning Highlight Hue | 67 |
Split Toning Highlight Saturation | 14 |
Split Toning Shadow Hue | 214 |
Split Toning Shadow Saturation | 45 |
Subject | landskrona, mobilfoton |
Subject Area | 2007 1505 2213 1324 |
Texture | +16 |
Tone Curve Name 2012 | Custom |
Tone Curve PV2012 | 0, 0, 65, 73, 127, 129, 197, 206, 255, 255 |
Tone Curve PV2012 Blue | 0, 0, 255, 255 |
Tone Curve PV2012 Green | 0, 0, 255, 255 |
Tone Curve PV2012 Red | 0, 0, 255, 255 |
Version | 16.2 |
Vibrance | +10 |
Vignette Amount | 0 |
Weighted Flat Subject | landskrona, mobilfoton |
White Balance | Auto |
Whites 2012 | 0 |