Shooting information for this photo
Camera: | Panasonic DMC-LX100 |
Exposure: | 0.02 sec. (1/50) |
Aperture: | f/4.5 |
Focal Length: | 34.0 mm (35 mm equivalent: 75.0 mm) |
Flash: | Off, Did not fire |
Exposure mode: | Aperture-priority AE |
Max Aperture: | 2.8 |
Resolution: | 240 x 240 dpi |
Original Date: | 2018:01:26 23:23:37.327 |
Created on: | 2018:01:26 23:23:37.327 |
Modified on: | 2018:01:28 15:27:29 |
Software: | Adobe Photoshop Lightroom 5.7 (Macintosh) |
Already Applied | True |
Auto Lateral CA | 0 |
Auto White Version | 134348800 |
Blacks 2012 | -8 |
Blue Hue | 0 |
Blue Saturation | 0 |
Camera Profile | Adobe Standard |
Circle Of Confusion | 0.014 mm |
Clarity 2012 | +41 |
Color Noise Reduction | 15 |
Color Noise Reduction Detail | 50 |
Color Noise Reduction Smoothness | 50 |
Color Temperature | 5400 |
Contrast | Normal |
Contrast 2012 | +17 |
Convert To Grayscale | False |
Crop Angle | 0 |
Crop Bottom | 0.960569 |
Crop Constrain To Warp | 0 |
Crop Left | 0 |
Crop Right | 1 |
Crop Top | 0 |
Custom Rendered | Normal |
Date Created | 2018:01:26 23:23:37.327 |
Defringe Green Amount | 0 |
Defringe Green Hue Hi | 60 |
Defringe Green Hue Lo | 40 |
Defringe Purple Amount | 0 |
Defringe Purple Hue Hi | 70 |
Defringe Purple Hue Lo | 30 |
Digital Zoom Ratio | 0 |
Exposure 2012 | 0.00 |
Exposure Compensation | -1 |
Exposure Mode | Auto |
Field Of View | 27.0 deg |
Focal Length In 35mm Format | 75 mm |
Format | image/jpeg |
Gain Control | High gain up |
Gradient Based Corr Active | true |
Gradient Based Corr Amount | 1.000000 |
Gradient Based Corr Brightness | 0.000000 |
Gradient Based Corr Hue | 230.000000 |
Gradient Based Corr Mask Full X | -0.382364 |
Gradient Based Corr Mask Full Y | 0.661161 |
Gradient Based Corr Mask Value | 1.000000 |
Gradient Based Corr Mask What | Mask/Gradient |
Gradient Based Corr Mask Zero X | 0.476684 |
Gradient Based Corr Mask Zero Y | 0.776529 |
Gradient Based Corr Saturation | 1.000000 |
Gradient Based Corr Sharpness | 0.000000 |
Gradient Based Corr What | Correction |
Grain Amount | 0 |
Green Hue | 0 |
Green Saturation | 0 |
Has Crop | True |
Has Settings | True |
Highlights 2012 | -81 |
Hue Adjustment Aqua | 0 |
Hue Adjustment Blue | 0 |
Hue Adjustment Green | 0 |
Hue Adjustment Magenta | 0 |
Hue Adjustment Orange | 0 |
Hue Adjustment Purple | 0 |
Hue Adjustment Red | 0 |
Hue Adjustment Yellow | +52 |
Hyperfocal Distance | 18.86 m |
ISO | 1600 |
Image Size | 493x768 |
Lens Manual Distortion Amount | 0 |
Lens Profile Enable | 0 |
Lens Profile Setup | LensDefaults |
Light Source | Fine Weather |
Light Value | 6.0 |
Luminance Adjustment Aqua | +9 |
Luminance Adjustment Blue | -52 |
Luminance Adjustment Green | +7 |
Luminance Adjustment Magenta | +17 |
Luminance Adjustment Orange | +52 |
Luminance Adjustment Purple | +13 |
Luminance Adjustment Red | +21 |
Luminance Adjustment Yellow | +24 |
Luminance Noise Reduction Contrast | 0 |
Luminance Noise Reduction Detail | 50 |
Luminance Smoothing | 18 |
Metering Mode | Center-weighted average |
Parametric Darks | -4 |
Parametric Highlight Split | 75 |
Parametric Highlights | -37 |
Parametric Lights | +65 |
Parametric Midtone Split | 50 |
Parametric Shadow Split | 25 |
Parametric Shadows | -23 |
Perspective Aspect | 0 |
Perspective Horizontal | 0 |
Perspective Rotate | 0.0 |
Perspective Scale | 100 |
Perspective Upright | 0 |
Perspective Vertical | 0 |
Post Crop Vignette Amount | 0 |
Process Version | 6.7 |
Red Hue | 0 |
Red Saturation | 0 |
Saturation | Normal |
Saturation Adjustment Aqua | +17 |
Saturation Adjustment Blue | +57 |
Saturation Adjustment Green | +86 |
Saturation Adjustment Magenta | +36 |
Saturation Adjustment Orange | +81 |
Saturation Adjustment Purple | +12 |
Saturation Adjustment Red | +18 |
Saturation Adjustment Yellow | +67 |
Scale Factor To 35 mm Equivalent | 2.2 |
Scene Capture Type | Standard |
Scene Type | Directly photographed |
Sensing Method | One-chip color area |
Shadow Tint | 0 |
Shadows 2012 | +68 |
Sharpen Detail | 55 |
Sharpen Edge Masking | 0 |
Sharpen Radius | +1.2 |
Sharpness | Normal |
Split Toning Balance | 0 |
Split Toning Highlight Hue | 305 |
Split Toning Highlight Saturation | 50 |
Split Toning Shadow Hue | 305 |
Split Toning Shadow Saturation | 13 |
Tint | +8 |
Tone Curve | 0, 0, 255, 255 |
Tone Curve Blue | 0, 0, 255, 255 |
Tone Curve Green | 0, 0, 255, 255 |
Tone Curve Name | Linear |
Tone Curve Name 2012 | Linear |
Tone Curve PV2012 | 0, 0, 255, 255 |
Tone Curve PV2012 Blue | 0, 0, 255, 255 |
Tone Curve PV2012 Green | 0, 0, 255, 255 |
Tone Curve PV2012 Red | 0, 0, 255, 255 |
Tone Curve Red | 0, 0, 255, 255 |
Version | 8.7 |
Vibrance | 0 |
Vignette Amount | 0 |
White Balance | Manual |
Whites 2012 | +39 |