Shooting information for this photo
Camera: | Panasonic DMC-LX100 |
Exposure: | 0.0125 sec. (1/80) |
Aperture: | f/2.5 |
Focal Length: | 16.5 mm (35 mm equivalent: 37.0 mm) |
Flash: | Off, Did not fire |
Exposure mode: | Aperture-priority AE |
Max Aperture: | 2.4 |
Resolution: | 240 x 240 dpi |
Original Date: | 2016:10:30 00:12:55.605 |
Created on: | 2016:10:30 00:12:55.605 |
Modified on: | 2016:10:31 19:55:55 |
Software: | Adobe Photoshop Lightroom 5.7 (Macintosh) |
Already Applied | True |
Auto Lateral CA | 0 |
Auto White Version | 134348800 |
Blacks 2012 | -39 |
Blue Hue | 0 |
Blue Saturation | 0 |
Camera Profile | Adobe Standard |
Circle Of Confusion | 0.013 mm |
Clarity 2012 | +31 |
Color Noise Reduction | 25 |
Color Noise Reduction Detail | 50 |
Color Noise Reduction Smoothness | 50 |
Color Temperature | 2950 |
Contrast | Normal |
Contrast 2012 | +38 |
Convert To Grayscale | False |
Custom Rendered | Normal |
Date Created | 2016:10:30 00:12:55.605 |
Defringe Green Amount | 0 |
Defringe Green Hue Hi | 60 |
Defringe Green Hue Lo | 40 |
Defringe Purple Amount | 0 |
Defringe Purple Hue Hi | 70 |
Defringe Purple Hue Lo | 30 |
Digital Zoom Ratio | 0 |
Exposure 2012 | 0.00 |
Exposure Compensation | +0.33 |
Exposure Mode | Auto |
Field Of View | 51.9 deg |
Focal Length In 35mm Format | 37 mm |
Format | image/jpeg |
Gain Control | Low gain up |
Grain Amount | 0 |
Green Hue | 0 |
Green Saturation | 0 |
Has Crop | False |
Has Settings | True |
Highlights 2012 | -77 |
Hue Adjustment Aqua | -38 |
Hue Adjustment Blue | -60 |
Hue Adjustment Green | 0 |
Hue Adjustment Magenta | 0 |
Hue Adjustment Orange | +12 |
Hue Adjustment Purple | 0 |
Hue Adjustment Red | -7 |
Hue Adjustment Yellow | -29 |
Hyperfocal Distance | 8.13 m |
ISO | 200 |
Image Size | 1024x685 |
Lens Manual Distortion Amount | 0 |
Lens Profile Enable | 0 |
Lens Profile Setup | LensDefaults |
Light Source | Unknown |
Light Value | 8.0 |
Luminance Adjustment Aqua | 0 |
Luminance Adjustment Blue | 0 |
Luminance Adjustment Green | 0 |
Luminance Adjustment Magenta | 0 |
Luminance Adjustment Orange | 0 |
Luminance Adjustment Purple | 0 |
Luminance Adjustment Red | 0 |
Luminance Adjustment Yellow | 0 |
Luminance Smoothing | 0 |
Metering Mode | Center-weighted average |
Parametric Darks | 0 |
Parametric Highlight Split | 75 |
Parametric Highlights | +29 |
Parametric Lights | +43 |
Parametric Midtone Split | 50 |
Parametric Shadow Split | 25 |
Parametric Shadows | 0 |
Perspective Aspect | 0 |
Perspective Horizontal | 0 |
Perspective Rotate | 0.0 |
Perspective Scale | 100 |
Perspective Upright | 0 |
Perspective Vertical | 0 |
Post Crop Vignette Amount | 0 |
Process Version | 6.7 |
Red Hue | 0 |
Red Saturation | 0 |
Saturation | Normal |
Saturation Adjustment Aqua | -64 |
Saturation Adjustment Blue | -33 |
Saturation Adjustment Green | -29 |
Saturation Adjustment Magenta | -33 |
Saturation Adjustment Orange | -64 |
Saturation Adjustment Purple | -31 |
Saturation Adjustment Red | -60 |
Saturation Adjustment Yellow | -33 |
Scale Factor To 35 mm Equivalent | 2.2 |
Scene Capture Type | Standard |
Scene Type | Directly photographed |
Sensing Method | One-chip color area |
Shadow Tint | 0 |
Shadows 2012 | 0 |
Sharpen Detail | 25 |
Sharpen Edge Masking | 0 |
Sharpen Radius | +1.0 |
Sharpness | Normal |
Split Toning Balance | +60 |
Split Toning Highlight Hue | 54 |
Split Toning Highlight Saturation | 7 |
Split Toning Shadow Hue | 349 |
Split Toning Shadow Saturation | 14 |
Tint | +4 |
Tone Curve | 0, 0, 255, 255 |
Tone Curve Blue | 0, 0, 255, 255 |
Tone Curve Green | 0, 0, 255, 255 |
Tone Curve Name | Linear |
Tone Curve Name 2012 | Linear |
Tone Curve PV2012 | 0, 0, 255, 255 |
Tone Curve PV2012 Blue | 0, 0, 255, 255 |
Tone Curve PV2012 Green | 0, 0, 255, 255 |
Tone Curve PV2012 Red | 0, 0, 255, 255 |
Tone Curve Red | 0, 0, 255, 255 |
Version | 8.7 |
Vibrance | -5 |
Vignette Amount | -75 |
Vignette Midpoint | 50 |
White Balance | Auto |
Whites 2012 | -62 |