Shooting information for this photo
Camera: | Canon PowerShot S95 |
Exposure: | 0.00125 sec. (1/800) |
Aperture: | f/2.0 |
Focal Length: | 6.0 mm (35 mm equivalent: 28.0 mm) |
Flash: | Off, Did not fire |
Max Aperture: | 2.0 |
Resolution: | 72 x 72 dpi |
Original Date: | 2013:10:02 12:38:23 |
Created on: | 2013:10:02 12:38:23 |
Modified on: | 2013:10:02 20:05:19 |
Software: | Adobe Photoshop Lightroom 4.4 (Macintosh) |
Already Applied | True |
Approximate Focus Distance | 64.4 |
Auto Lateral CA | 0 |
Blacks 2012 | 0 |
Blue Hue | -100 |
Blue Saturation | -81 |
Camera Profile | ACR 2.4 |
Circle Of Confusion | 0.006 mm |
Clarity 2012 | +43 |
Color Noise Reduction | 25 |
Color Noise Reduction Detail | 50 |
Color Temperature | 6405 |
Contrast 2012 | +41 |
Convert To Grayscale | True |
Crop Angle | 0 |
Crop Bottom | 0.942161 |
Crop Constrain To Warp | 0 |
Crop Height | 724 |
Crop Left | 0 |
Crop Right | 1 |
Crop Top | 0 |
Crop Unit | pixels |
Crop Width | 1024 |
Custom Rendered | Normal |
Date Created | 2013:10:02 12:38:23 |
Digital Zoom Ratio | 1 |
Exposure 2012 | 0.00 |
Exposure Compensation | -1/3 |
Exposure Mode | Manual |
Field Of View | 65.5 deg |
Firmware | 1.00 |
Flash Compensation | 0 |
Format | image/jpeg |
Grain Amount | 0 |
Gray Mixer Aqua | +2 |
Gray Mixer Blue | -100 |
Gray Mixer Green | -69 |
Gray Mixer Magenta | 0 |
Gray Mixer Orange | +8 |
Gray Mixer Purple | +25 |
Gray Mixer Red | +34 |
Gray Mixer Yellow | -17 |
Green Hue | -100 |
Green Saturation | +2 |
Has Crop | True |
Has Settings | True |
Highlights 2012 | -57 |
Hyperfocal Distance | 2.80 m |
ISO | 80 |
Image Size | 1024x724 |
Lens | 6.0-22.5 mm |
Lens Info | 6-22.5mm f/? |
Lens Manual Distortion Amount | 0 |
Lens Model | 6.0-22.5 mm |
Lens Profile Enable | 0 |
Lens Profile Setup | LensDefaults |
Light Value | 12.0 |
Luminance Smoothing | 0 |
Metering Mode | Multi-segment |
Parametric Darks | +62 |
Parametric Highlight Split | 75 |
Parametric Highlights | +10 |
Parametric Lights | +7 |
Parametric Midtone Split | 50 |
Parametric Shadow Split | 25 |
Parametric Shadows | -33 |
Perspective Horizontal | 0 |
Perspective Rotate | 0.0 |
Perspective Scale | 100 |
Perspective Vertical | 0 |
Post Crop Vignette Amount | 0 |
Process Version | 6.7 |
Red Hue | +48 |
Red Saturation | +45 |
Scale Factor To 35 mm Equivalent | 4.7 |
Scene Capture Type | Standard |
Sensing Method | One-chip color area |
Sensitivity Type | Standard Output Sensitivity and Recommended Exposure Index |
Shadow Tint | +17 |
Shadows 2012 | +48 |
Sharpen Detail | 25 |
Sharpen Edge Masking | 0 |
Sharpen Radius | +1.0 |
Sharpness | 45 |
Split Toning Balance | 0 |
Split Toning Highlight Hue | 240 |
Split Toning Highlight Saturation | 1 |
Split Toning Shadow Hue | 231 |
Split Toning Shadow Saturation | 5 |
Subject | bw |
Tint | -50 |
Tone Curve Name 2012 | Linear |
Tone Curve PV2012 | 0, 0, 255, 255 |
Tone Curve PV2012 Blue | 0, 0, 255, 255 |
Tone Curve PV2012 Green | 0, 0, 255, 255 |
Tone Curve PV2012 Red | 0, 0, 255, 255 |
Version | 7.4 |
Vignette Amount | -80 |
Vignette Midpoint | 0 |
White Balance | Auto |
Whites 2012 | +46 |