Shooting information for this photo
Camera: | Canon PowerShot S95 |
Exposure: | 0.06667 sec. (1/15) |
Aperture: | f/4.0 |
Focal Length: | 15.0 mm (35 mm equivalent: 69.9 mm) |
Flash: | Off, Did not fire |
Max Aperture: | 4.0 |
Resolution: | 72 x 72 dpi |
Original Date: | 2013:01:26 21:25:11 |
Created on: | 2013:01:26 21:25:11 |
Modified on: | 2013:09:18 20:24:10 |
Software: | Adobe Photoshop Lightroom 4.4 (Macintosh) |
Already Applied | True |
Approximate Focus Distance | 7.2 |
Auto Lateral CA | 0 |
Blacks 2012 | 0 |
Blue Hue | +100 |
Blue Saturation | +19 |
Camera Profile | ACR 2.4 |
Circle Of Confusion | 0.006 mm |
Clarity 2012 | +39 |
Color Noise Reduction | 15 |
Color Noise Reduction Detail | 50 |
Color Temperature | 5691 |
Contrast 2012 | 0 |
Convert To Grayscale | False |
Custom Rendered | Normal |
Date Created | 2013:01:26 21:25:11 |
Defringe Green Amount | 0 |
Defringe Green Hue Hi | 60 |
Defringe Green Hue Lo | 40 |
Defringe Purple Amount | 0 |
Defringe Purple Hue Hi | 70 |
Defringe Purple Hue Lo | 30 |
Digital Zoom Ratio | 1 |
Exposure 2012 | 0.00 |
Exposure Compensation | -2/3 |
Exposure Mode | Manual |
Field Of View | 28.9 deg |
Firmware | 1.00 |
Flash Compensation | 0 |
Format | image/jpeg |
Grain Amount | 0 |
Green Hue | +69 |
Green Saturation | -100 |
Has Crop | False |
Has Settings | True |
Highlights 2012 | -67 |
Hue Adjustment Aqua | -21 |
Hue Adjustment Blue | -33 |
Hue Adjustment Green | -100 |
Hue Adjustment Magenta | 0 |
Hue Adjustment Orange | -5 |
Hue Adjustment Purple | -52 |
Hue Adjustment Red | 0 |
Hue Adjustment Yellow | 0 |
Hyperfocal Distance | 8.71 m |
ISO | 1600 |
Image Size | 1024x768 |
Lens | 6.0-22.5 mm |
Lens Info | 6-22.5mm f/? |
Lens Manual Distortion Amount | 0 |
Lens Model | 6.0-22.5 mm |
Lens Profile Enable | 0 |
Lens Profile Setup | LensDefaults |
Light Value | 3.9 |
Luminance Adjustment Aqua | +100 |
Luminance Adjustment Blue | -100 |
Luminance Adjustment Green | +100 |
Luminance Adjustment Magenta | 0 |
Luminance Adjustment Orange | +19 |
Luminance Adjustment Purple | +48 |
Luminance Adjustment Red | 0 |
Luminance Adjustment Yellow | +100 |
Luminance Noise Reduction Contrast | 0 |
Luminance Noise Reduction Detail | 50 |
Luminance Smoothing | 8 |
Metering Mode | Multi-segment |
Parametric Darks | +62 |
Parametric Highlight Split | 75 |
Parametric Highlights | -2 |
Parametric Lights | +100 |
Parametric Midtone Split | 50 |
Parametric Shadow Split | 25 |
Parametric Shadows | -31 |
Perspective Horizontal | 0 |
Perspective Rotate | 0.0 |
Perspective Scale | 100 |
Perspective Vertical | 0 |
Post Crop Vignette Amount | 0 |
Process Version | 6.7 |
Red Hue | -38 |
Red Saturation | +100 |
Saturation | -86 |
Saturation Adjustment Aqua | +98 |
Saturation Adjustment Blue | +67 |
Saturation Adjustment Green | +100 |
Saturation Adjustment Magenta | 0 |
Saturation Adjustment Orange | 0 |
Saturation Adjustment Purple | -93 |
Saturation Adjustment Red | 0 |
Saturation Adjustment Yellow | +38 |
Scale Factor To 35 mm Equivalent | 4.7 |
Scene Capture Type | Standard |
Sensing Method | One-chip color area |
Sensitivity Type | Standard Output Sensitivity and Recommended Exposure Index |
Shadow Tint | -100 |
Shadows 2012 | 0 |
Sharpen Detail | 25 |
Sharpen Edge Masking | 0 |
Sharpen Radius | +1.0 |
Sharpness | 45 |
Split Toning Balance | 0 |
Split Toning Highlight Hue | 223 |
Split Toning Highlight Saturation | 13 |
Split Toning Shadow Hue | 60 |
Split Toning Shadow Saturation | 24 |
Subject | monokrom |
Tint | +118 |
Tone Curve Name 2012 | Linear |
Tone Curve PV2012 | 0, 0, 255, 255 |
Tone Curve PV2012 Blue | 0, 0, 255, 255 |
Tone Curve PV2012 Green | 0, 0, 255, 255 |
Tone Curve PV2012 Red | 0, 0, 255, 255 |
Version | 7.4 |
Vibrance | -38 |
Vignette Amount | -75 |
Vignette Midpoint | 0 |
White Balance | Auto |
Whites 2012 | +22 |