Shooting information for this photo
Camera: | Canon EOS 20D |
Exposure: | 0.01 sec. (1/100) |
Aperture: | f/5.6 |
Focal Length: | 35.0 mm (35 mm equivalent: 56.1 mm) |
Flash: | Off, Did not fire |
Exposure mode: | Aperture-priority AE |
Resolution: | 72 x 72 dpi |
Original Date: | 2010:10:02 17:12:29 |
Created on: | 2010:10:02 17:12:29 |
Modified on: | 2013:09:02 14:55:49 |
Software: | Adobe Photoshop Lightroom 4.4 (Macintosh) |
Already Applied | True |
Artist | unknown |
Auto Lateral CA | 1 |
Blacks 2012 | -24 |
Blue Hue | 0 |
Blue Saturation | 0 |
Camera Profile | Camera Landscape |
Circle Of Confusion | 0.019 mm |
Clarity 2012 | +50 |
Color Noise Reduction | 25 |
Color Noise Reduction Detail | 50 |
Color Temperature | 5650 |
Contrast 2012 | -33 |
Convert To Grayscale | True |
Creator | unknown |
Crop Angle | 0 |
Crop Bottom | 0.998342 |
Crop Constrain To Warp | 0 |
Crop Height | 661 |
Crop Left | 0 |
Crop Right | 0.858564 |
Crop Top | 0.167496 |
Crop Unit | pixels |
Crop Width | 1024 |
Custom Rendered | Normal |
Date Created | 2010:10:02 17:12:29+02:00 |
Exposure 2012 | -1.71 |
Exposure Compensation | 0 |
Exposure Mode | Auto |
Field Of View | 35.6 deg |
Firmware | 1.1.0 |
Flash Compensation | 0 |
Format | image/jpeg |
Grain Amount | 0 |
Gray Mixer Aqua | +7 |
Gray Mixer Blue | +1 |
Gray Mixer Green | +8 |
Gray Mixer Magenta | +3 |
Gray Mixer Orange | 0 |
Gray Mixer Purple | -1 |
Gray Mixer Red | +14 |
Gray Mixer Yellow | +10 |
Green Hue | 0 |
Green Saturation | 0 |
Has Crop | True |
Has Settings | True |
Highlights 2012 | -91 |
Hyperfocal Distance | 11.66 m |
ISO | 100 |
Image Number | 164 |
Image Size | 1024x661 |
Lens | 35.0 mm |
Lens Info | 35mm f/? |
Lens Manual Distortion Amount | 0 |
Lens Model | 35.0 mm |
Lens Profile Enable | 1 |
Lens Profile Setup | LensDefaults |
Light Value | 11.6 |
Luminance Noise Reduction Contrast | 0 |
Luminance Noise Reduction Detail | 50 |
Luminance Smoothing | 50 |
Metering Mode | Partial |
Owner Name | unknown |
Parametric Darks | 0 |
Parametric Highlight Split | 75 |
Parametric Highlights | +50 |
Parametric Lights | 0 |
Parametric Midtone Split | 50 |
Parametric Shadow Split | 25 |
Parametric Shadows | -30 |
Perspective Horizontal | 0 |
Perspective Rotate | 0.0 |
Perspective Scale | 100 |
Perspective Vertical | 0 |
Post Crop Vignette Amount | -30 |
Post Crop Vignette Feather | 70 |
Post Crop Vignette Midpoint | 50 |
Post Crop Vignette Roundness | 0 |
Post Crop Vignette Style | 3 |
Process Version | 6.7 |
Red Hue | 0 |
Red Saturation | 0 |
Scale Factor To 35 mm Equivalent | 1.6 |
Scene Capture Type | Standard |
Shadow Tint | 0 |
Shadows 2012 | -51 |
Sharpen Detail | 50 |
Sharpen Edge Masking | 0 |
Sharpen Radius | +2.0 |
Sharpness | 50 |
Split Toning Balance | 0 |
Split Toning Highlight Hue | 45 |
Split Toning Highlight Saturation | 10 |
Split Toning Shadow Hue | 30 |
Split Toning Shadow Saturation | 5 |
Subject | monokrom |
Tint | 0 |
Tone Curve Name 2012 | Linear |
Tone Curve PV2012 | 0, 0, 255, 255 |
Tone Curve PV2012 Blue | 0, 0, 255, 255 |
Tone Curve PV2012 Green | 0, 0, 255, 255 |
Tone Curve PV2012 Red | 0, 0, 255, 255 |
Version | 7.4 |
Vignette Amount | 0 |
White Balance | Auto |
Whites 2012 | -86 |