Shooting information for this photo
Camera: | Epson PerfectionV700 |
Resolution: | 240 x 240 dpi |
Created on: | 2010:07:20 14:17:19 |
Modified on: | 2013:02:13 16:44:43 |
Software: | Adobe Photoshop Lightroom 4.3 (Windows) |
Copyright: | Michael Kaiser 1979-2013 |
Already Applied | True |
Artist | Michael Kaiser |
Authors Position | Redakteur (DJV) |
Blue Hue | 0 |
Blue Saturation | 0 |
Camera Profile | Embedded |
Color Noise Reduction | 0 |
Color Space | Uncalibrated |
Convert To Grayscale | False |
Creator | Michael Kaiser |
Description | MInsk, Belarus |
Format | image/jpeg |
Grain Amount | 0 |
Green Hue | 0 |
Green Saturation | 0 |
Has Crop | False |
Has Settings | True |
Hue Adjustment Aqua | 0 |
Hue Adjustment Blue | 0 |
Hue Adjustment Green | 0 |
Hue Adjustment Magenta | 0 |
Hue Adjustment Orange | +23 |
Hue Adjustment Purple | 0 |
Hue Adjustment Red | -29 |
Hue Adjustment Yellow | 0 |
Image Description | MInsk, Belarus |
Image Size | 588x896 |
Incremental Temperature | 0 |
Incremental Tint | 0 |
Lens Manual Distortion Amount | 0 |
Lens Profile Enable | 0 |
Lens Profile Setup | LensDefaults |
Luminance Adjustment Aqua | 0 |
Luminance Adjustment Blue | 0 |
Luminance Adjustment Green | 0 |
Luminance Adjustment Magenta | 0 |
Luminance Adjustment Orange | 0 |
Luminance Adjustment Purple | 0 |
Luminance Adjustment Red | 0 |
Luminance Adjustment Yellow | 0 |
Luminance Smoothing | 0 |
Marked | True |
PLUS Version | 1.2.0 |
Parametric Darks | 0 |
Parametric Highlight Split | 75 |
Parametric Highlights | 0 |
Parametric Lights | 0 |
Parametric Midtone Split | 50 |
Parametric Shadow Split | 25 |
Parametric Shadows | 0 |
Perspective Horizontal | 0 |
Perspective Rotate | 0.0 |
Perspective Scale | 100 |
Perspective Vertical | 0 |
Post Crop Vignette Amount | -15 |
Post Crop Vignette Feather | 50 |
Post Crop Vignette Midpoint | 50 |
Post Crop Vignette Roundness | 0 |
Post Crop Vignette Style | 1 |
Process Version | 6.7 |
Property Release Status | None |
Red Hue | 0 |
Red Saturation | 0 |
Rights | Michael Kaiser 1979-2013 |
Saturation | Normal |
Saturation Adjustment Aqua | 0 |
Saturation Adjustment Blue | 0 |
Saturation Adjustment Green | 0 |
Saturation Adjustment Magenta | -20 |
Saturation Adjustment Orange | -12 |
Saturation Adjustment Purple | 0 |
Saturation Adjustment Red | -56 |
Saturation Adjustment Yellow | 0 |
Shadow Tint | 0 |
Sharpen Detail | 25 |
Sharpen Edge Masking | 0 |
Sharpen Radius | +1.0 |
Sharpness | Normal |
Split Toning Balance | 0 |
Split Toning Highlight Hue | 0 |
Split Toning Highlight Saturation | 0 |
Split Toning Shadow Hue | 0 |
Split Toning Shadow Saturation | 0 |
Subject | Belarus, Minsk, film |
Title | Minsk Meat |
Usage Terms | All rights reserved |
Version | 7.3 |
Vibrance | 0 |
Vignette Amount | 0 |