Shooting information for this photo
Camera: | Google Pixel 6 Pro |
Exposure: | 0.0005 sec. (1/2000) |
Aperture: | f/1.9 |
Focal Length: | 6.8 mm (35 mm equivalent: 24.0 mm) |
Flash: | Off, Did not fire |
Exposure mode: | Program AE |
Max Aperture: | 1.9 |
Resolution: | 240 x 240 dpi |
Original Date: | 2024:05:12 17:38:13.400288 |
Created on: | 2024:05:12 17:38:13.400288 |
Modified on: | 2025:01:04 13:24:36 |
Software: | Adobe Photoshop Lightroom Classic 14.1.1 (Windows) |
Already Applied | True |
Approximate Focus Distance | 4.34 |
Auto Lateral CA | 0 |
Blacks 2012 | 0 |
Blue Hue | 0 |
Blue Saturation | 0 |
Brightness Value | 8.96661377 |
CFA Pattern | [Red,Green][Green,Blue] |
Camera Profile | Google Embedded Camera Profile |
Circle Of Confusion | 0.009 mm |
Clarity 2012 | +29 |
Color Grade Blending | 50 |
Color Grade Global Hue | 0 |
Color Grade Global Lum | 0 |
Color Grade Global Sat | 0 |
Color Grade Highlight Lum | 0 |
Color Grade Midtone Hue | 0 |
Color Grade Midtone Lum | 0 |
Color Grade Midtone Sat | 0 |
Color Grade Shadow Lum | 0 |
Color Noise Reduction | 25 |
Color Noise Reduction Detail | 50 |
Color Noise Reduction Smoothness | 50 |
Color Space | sRGB |
Color Temperature | 5900 |
Contrast 2012 | +12 |
Crop Angle | 0 |
Crop Bottom | 0.775903 |
Crop Constrain To Warp | 0 |
Crop Left | 0.162765 |
Crop Right | 0.990249 |
Crop Top | 0.156107 |
Date Created | 2024:05:12 17:38:13.400288+02:00 |
Defringe Green Amount | 0 |
Defringe Green Hue Hi | 60 |
Defringe Green Hue Lo | 40 |
Defringe Purple Amount | 0 |
Defringe Purple Hue Hi | 70 |
Defringe Purple Hue Lo | 30 |
Dehaze | +14 |
Depth Of Field | inf (1.73 m - inf) |
Description | Das Schwarze Moor in der Rhön. |
Digital Zoom Ratio | 2 |
Distortion Correction Already Applied | True |
Exposure 2012 | +0.20 |
Exposure Compensation | 0 |
Field Of View | 73.7 deg |
Focal Length In 35mm Format | 24 mm |
Format | image/jpeg |
Grain Amount | 0 |
Green Hue | 0 |
Green Saturation | 0 |
HDR Edit Mode | 0 |
Has Crop | True |
Has Settings | True |
Highlights 2012 | -52 |
Hue Adjustment Aqua | 0 |
Hue Adjustment Blue | 0 |
Hue Adjustment Green | 0 |
Hue Adjustment Magenta | 0 |
Hue Adjustment Orange | 0 |
Hue Adjustment Purple | 0 |
Hue Adjustment Red | 0 |
Hue Adjustment Yellow | 0 |
Hyperfocal Distance | 2.86 m |
ISO | 44 |
Image Description | Das Schwarze Moor in der Rhön. |
Image Size | 1675x942 |
Lens | Pixel 6 Pro back camera 6.81mm f/1.9 |
Lens Make | |
Lens Manual Distortion Amount | 0 |
Lens Model | Pixel 6 Pro back camera 6.81mm f/1.9 |
Lens Profile Enable | 1 |
Lens Profile Setup | LensDefaults |
Light Value | 14.0 |
Look Amount | 1 |
Look Camera Model Restriction | Google Pixel Camera |
Look Copyright | © 2022 Adobe Systems, Inc. |
Look Group | Profiles |
Look Name | Google Pixel |
Look Parameters Camera Profile | Google Embedded Camera Profile |
Look Parameters Convert To Grayscale | False |
Look Parameters Process Version | 15.4 |
Look Parameters Profile Gain Table Map | 100 |
Look Parameters Version | 17.1 |
Look Supports Monochrome | false |
Look Supports Output Referred | false |
Luminance Adjustment Aqua | 0 |
Luminance Adjustment Blue | 0 |
Luminance Adjustment Green | 0 |
Luminance Adjustment Magenta | 0 |
Luminance Adjustment Orange | 0 |
Luminance Adjustment Purple | 0 |
Luminance Adjustment Red | 0 |
Luminance Adjustment Yellow | 0 |
Luminance Noise Reduction Contrast | 0 |
Luminance Noise Reduction Detail | 50 |
Luminance Smoothing | 10 |
Override Look Vignette | False |
Parametric Darks | -13 |
Parametric Highlight Split | 75 |
Parametric Highlights | +10 |
Parametric Lights | +4 |
Parametric Midtone Split | 50 |
Parametric Shadow Split | 25 |
Parametric Shadows | -27 |
Perspective Aspect | 0 |
Perspective Horizontal | 0 |
Perspective Rotate | 0.0 |
Perspective Scale | 100 |
Perspective Upright | 0 |
Perspective Vertical | 0 |
Perspective X | 0.00 |
Perspective Y | 0.00 |
Pick | 0 |
Point Colors | -1.000000, -1.000000, -1.000000, -1.000000, -1.000000, -1.000000, -1.000000, -1.000000, -1.000000, -1.000000, -1.000000, -1.000000, -1.000000, -1.000000, -1.000000, -1.000000, -1.000000, -1.000000, -1.000000 |
Post Crop Vignette Amount | 0 |
Preserved File Name | PXL_20240512_153813307.RAW-02. ORIGINAL.dng |
Process Version | 15.4 |
Raw File Name | 24_05_Grünes_Band581.dng |
Red Hue | 0 |
Red Saturation | 0 |
Saturation | -3 |
Saturation Adjustment Aqua | 0 |
Saturation Adjustment Blue | 0 |
Saturation Adjustment Green | 0 |
Saturation Adjustment Magenta | 0 |
Saturation Adjustment Orange | 0 |
Saturation Adjustment Purple | 0 |
Saturation Adjustment Red | 0 |
Saturation Adjustment Yellow | 0 |
Scale Factor To 35 mm Equivalent | 3.5 |
Shadow Tint | 0 |
Shadows 2012 | +51 |
Sharpen Detail | 56 |
Sharpen Edge Masking | 0 |
Sharpen Radius | +1.6 |
Sharpness | 65 |
Split Toning Balance | 0 |
Split Toning Highlight Hue | 0 |
Split Toning Highlight Saturation | 0 |
Split Toning Shadow Hue | 0 |
Split Toning Shadow Saturation | 0 |
Subject Distance | 4.34 m |
Subject Distance Range | Distant |
Texture | 0 |
Tint | +16 |
Tone Curve Name 2012 | Linear |
Tone Curve PV2012 | 0, 0, 255, 255 |
Tone Curve PV2012 Blue | 0, 0, 255, 255 |
Tone Curve PV2012 Green | 0, 0, 255, 255 |
Tone Curve PV2012 Red | 0, 0, 255, 255 |
Version | 17.1 |
Vibrance | +3 |
Vignette Amount | 0 |
White Balance | Auto |
Whites 2012 | 0 |