Shooting information for this photo
Camera: | Canon EOS 60D |
Exposure: | 0.01667 sec. (1/60) |
Aperture: | f/2.8 |
Focal Length: | 17.0 mm (35 mm equivalent: 26.7 mm) |
Flash: | On, Fired |
Exposure mode: | Program AE |
Max Aperture: | 2.7 |
Resolution: | 240 x 240 dpi |
Original Date: | 2019:10:04 15:40:17 |
Created on: | 2019:10:04 15:40:17 |
Modified on: | 2020:06:11 16:36:05 |
Software: | Adobe Photoshop Lightroom 5.3 (Windows) |
Copyright: | micha.hebenstreit@yahoo.de |
Already Applied | True |
Approximate Focus Distance | 1.67 |
Artist | Michael Hebenstreit |
Auto Lateral CA | 0 |
Auto White Version | 134348800 |
Blacks 2012 | 0 |
Blue Hue | 0 |
Blue Saturation | 0 |
Camera Profile | Camera Landscape |
Circle Of Confusion | 0.019 mm |
Clarity 2012 | +40 |
Color Noise Reduction | 25 |
Color Noise Reduction Detail | 50 |
Color Noise Reduction Smoothness | 50 |
Color Space | sRGB |
Color Temperature | 5650 |
Contrast 2012 | 0 |
Convert To Grayscale | False |
Country | Mazedonien |
Creator | Michael Hebenstreit |
Custom Rendered | Normal |
Defringe Green Amount | 0 |
Defringe Green Hue Hi | 60 |
Defringe Green Hue Lo | 40 |
Defringe Purple Amount | 0 |
Defringe Purple Hue Hi | 70 |
Defringe Purple Hue Lo | 30 |
Description | Felsenkirche Sankt Michael bei Radozde. |
Exposure 2012 | +0.30 |
Exposure Compensation | 0 |
Exposure Mode | Auto |
Field Of View | 67.9 deg |
Firmware | 1.0.8 |
Flash Compensation | 0 |
Format | image/jpeg |
Grain Amount | 0 |
Green Hue | 0 |
Green Saturation | 0 |
Has Crop | False |
Has Settings | True |
Hierarchical Subject | Land|Mazedonien, Land|Makedonia, Land|Nordmazedonien, Andere Stichwörter|church, Andere Stichwörter|Kirche |
Highlights 2012 | -35 |
Hue Adjustment Aqua | 0 |
Hue Adjustment Blue | 0 |
Hue Adjustment Green | 0 |
Hue Adjustment Magenta | 0 |
Hue Adjustment Orange | 0 |
Hue Adjustment Purple | 0 |
Hue Adjustment Red | 0 |
Hue Adjustment Yellow | 0 |
Hyperfocal Distance | 5.40 m |
ISO | 100 |
Image Description | Felsenkirche Sankt Michael bei Radozde. |
Image Number | 0 |
Image Size | 3456x5184 |
Lens | 17-50mm |
Lens ID | Sigma 17-50mm f/2.8 OS HSM or Tamron SP 17-50mm f/2.8 XR Di II VC |
Lens Info | 17-50mm f/? |
Lens Manual Distortion Amount | 0 |
Lens Model | 17-50mm |
Lens Profile Chromatic Aberration Scale | 100 |
Lens Profile Distortion Scale | 100 |
Lens Profile Enable | 1 |
Lens Profile Filename | Canon (SIGMA 17-50mm F2.8 EX DC OS HSM) - RAW.lcp |
Lens Profile Name | Adobe (SIGMA 17-50mm F2.8 EX DC OS HSM, Canon) |
Lens Profile Setup | Custom |
Lens Profile Vignetting Scale | 100 |
Light Value | 8.9 |
Location | Ohridsee |
Luminance Adjustment Aqua | 0 |
Luminance Adjustment Blue | 0 |
Luminance Adjustment Green | 0 |
Luminance Adjustment Magenta | 0 |
Luminance Adjustment Orange | 0 |
Luminance Adjustment Purple | 0 |
Luminance Adjustment Red | 0 |
Luminance Adjustment Yellow | 0 |
Luminance Noise Reduction Contrast | 0 |
Luminance Noise Reduction Detail | 50 |
Luminance Smoothing | 25 |
Metering Mode | Multi-segment |
Paint Correction Active | true |
Paint Correction Amount | 1.000000 |
Paint Correction Brightness | 0.000000 |
Paint Correction Clarity 2012 | 0.317270 |
Paint Correction Contrast 2012 | 0.290910 |
Paint Correction Defringe | 0.000000 |
Paint Correction Exposure 2012 | 0.109000 |
Paint Correction Highlights 2012 | 0.000000 |
Paint Correction Hue | 240.000000 |
Paint Correction Luminance Noise | 0.000000 |
Paint Correction Mask Center Weight | 0.072498 |
Paint Correction Mask Flow | 1.000000 |
Paint Correction Mask Radius | 0.188255 |
Paint Correction Mask Value | 1.000000 |
Paint Correction Mask What | Mask/Paint |
Paint Correction Moire | 0.000000 |
Paint Correction Saturation | 0.000000 |
Paint Correction Shadows 2012 | 0.000000 |
Paint Correction Sharpness | 0.000000 |
Paint Correction Temperature | 0.000000 |
Paint Correction Tint | 0.000000 |
Paint Correction What | Correction |
Parametric Darks | -17 |
Parametric Highlight Split | 75 |
Parametric Highlights | -10 |
Parametric Lights | -26 |
Parametric Midtone Split | 50 |
Parametric Shadow Split | 25 |
Parametric Shadows | -10 |
Perspective Aspect | 0 |
Perspective Horizontal | 0 |
Perspective Rotate | 0.0 |
Perspective Scale | 100 |
Perspective Upright | 0 |
Perspective Vertical | 0 |
Post Crop Vignette Amount | 0 |
Process Version | 6.7 |
Recommended Exposure Index | 100 |
Red Hue | 0 |
Red Saturation | 0 |
Rights | micha.hebenstreit@yahoo.de |
Saturation | 0 |
Saturation Adjustment Aqua | 0 |
Saturation Adjustment Blue | 0 |
Saturation Adjustment Green | 0 |
Saturation Adjustment Magenta | 0 |
Saturation Adjustment Orange | 0 |
Saturation Adjustment Purple | 0 |
Saturation Adjustment Red | 0 |
Saturation Adjustment Yellow | 0 |
Scale Factor To 35 mm Equivalent | 1.6 |
Scene Capture Type | Standard |
Sensitivity Type | Recommended Exposure Index |
Shadow Tint | 0 |
Shadows 2012 | +32 |
Sharpen Detail | 25 |
Sharpen Edge Masking | 0 |
Sharpen Radius | +1.0 |
Sharpness | 25 |
Split Toning Balance | 0 |
Split Toning Highlight Hue | 0 |
Split Toning Highlight Saturation | 0 |
Split Toning Shadow Hue | 0 |
Split Toning Shadow Saturation | 0 |
Subject | church, Kirche, Makedonia, Mazedonien, Nordmazedonien |
Tint | -4 |
Tone Curve Name 2012 | Linear |
Tone Curve PV2012 | 0, 0, 255, 255 |
Tone Curve PV2012 Blue | 0, 0, 255, 255 |
Tone Curve PV2012 Green | 0, 0, 255, 255 |
Tone Curve PV2012 Red | 0, 0, 255, 255 |
Version | 8.3 |
Vibrance | 0 |
Vignette Amount | 0 |
White Balance | Auto |
Whites 2012 | 0 |