Shooting information for this photo
Resolution: | 300 x 300 dpi |
Modified on: | 2020:01:28 20:34:11 |
Software: | Adobe Photoshop Lightroom 6.0 (Windows) |
Already Applied | True |
Auto Lateral CA | 0 |
Auto White Version | 134348800 |
Blacks 2012 | +25 |
Blue Hue | 0 |
Blue Saturation | -12 |
Camera Profile | Kodak Portra 800 SO |
Clarity 2012 | 0 |
Color Noise Reduction | 0 |
Contrast 2012 | 0 |
Convert To Grayscale | False |
Defringe Green Amount | 0 |
Defringe Green Hue Hi | 60 |
Defringe Green Hue Lo | 40 |
Defringe Purple Amount | 0 |
Defringe Purple Hue Hi | 70 |
Defringe Purple Hue Lo | 30 |
Exposure 2012 | 0.00 |
Format | image/jpeg |
Grain Amount | 0 |
Green Hue | 0 |
Green Saturation | 0 |
Has Crop | False |
Has Settings | True |
Highlights 2012 | -10 |
Hue Adjustment Aqua | +5 |
Hue Adjustment Blue | -5 |
Hue Adjustment Green | +12 |
Hue Adjustment Magenta | +10 |
Hue Adjustment Orange | -5 |
Hue Adjustment Purple | +15 |
Hue Adjustment Red | +20 |
Hue Adjustment Yellow | +5 |
Image Size | 3264x2647 |
Incremental Temperature | 0 |
Incremental Tint | 0 |
Lens Manual Distortion Amount | 0 |
Lens Profile Enable | 0 |
Lens Profile Setup | LensDefaults |
Luminance Adjustment Aqua | 0 |
Luminance Adjustment Blue | 0 |
Luminance Adjustment Green | -10 |
Luminance Adjustment Magenta | +15 |
Luminance Adjustment Orange | 0 |
Luminance Adjustment Purple | +15 |
Luminance Adjustment Red | +10 |
Luminance Adjustment Yellow | -5 |
Luminance Smoothing | 0 |
Parametric Darks | 0 |
Parametric Highlight Split | 75 |
Parametric Highlights | 0 |
Parametric Lights | 0 |
Parametric Midtone Split | 50 |
Parametric Shadow Split | 25 |
Parametric Shadows | 0 |
Perspective Aspect | 0 |
Perspective Horizontal | 0 |
Perspective Rotate | 0.0 |
Perspective Scale | 100 |
Perspective Upright | 0 |
Perspective Vertical | 0 |
Post Crop Vignette Amount | 0 |
Process Version | 6.7 |
Raw File Name | nice.jpg |
Red Hue | +5 |
Red Saturation | -10 |
Saturation | +5 |
Saturation Adjustment Aqua | -35 |
Saturation Adjustment Blue | -10 |
Saturation Adjustment Green | -35 |
Saturation Adjustment Magenta | -5 |
Saturation Adjustment Orange | -4 |
Saturation Adjustment Purple | -25 |
Saturation Adjustment Red | -5 |
Saturation Adjustment Yellow | -3 |
Shadow Tint | -6 |
Shadows 2012 | +15 |
Sharpen Detail | 25 |
Sharpen Edge Masking | 0 |
Sharpen Radius | +1.0 |
Sharpness | 40 |
Split Toning Balance | -88 |
Split Toning Highlight Hue | 170 |
Split Toning Highlight Saturation | 10 |
Split Toning Shadow Hue | 0 |
Split Toning Shadow Saturation | 0 |
Tone Curve | 0, 0, 255, 255 |
Tone Curve Blue | 0, 0, 255, 255 |
Tone Curve Green | 0, 0, 255, 255 |
Tone Curve Name | Linear |
Tone Curve Name 2012 | Custom |
Tone Curve PV2012 | 0, 33, 64, 74, 126, 130, 255, 252 |
Tone Curve PV2012 Blue | 0, 27, 51, 51, 121, 127, 201, 215, 255, 255 |
Tone Curve PV2012 Green | 0, 7, 54, 42, 120, 128, 177, 192, 255, 255 |
Tone Curve PV2012 Red | 0, 0, 54, 38, 119, 127, 174, 192, 220, 231, 255, 255 |
Tone Curve Red | 0, 0, 255, 255 |
Version | 9.0 |
Vibrance | 0 |
Vignette Amount | 0 |
White Balance | As Shot |
Whites 2012 | -10 |