Shooting information for this photo
Camera: | SONY ILCE-7R |
Exposure: | 0.0125 sec. (1/80) |
Aperture: | f/13.0 |
Focal Length: | 48.0 mm (35 mm equivalent: 78.7 mm) |
Flash: | Off, Did not fire |
Exposure mode: | Program AE |
Max Aperture: | 4.0 |
Resolution: | 300 x 300 dpi |
Dimension: | 3000 x 4495 pixels |
Original Date: | 2019:10:06 13:04:17 |
Created on: | 2019:10:06 13:04:17 |
Modified on: | 2019:10:07 07:50:33 |
Software: | Adobe Photoshop Lightroom 6.0 (Windows) |
Already Applied | True |
Auto Lateral CA | 0 |
Auto White Version | 134348800 |
Blacks 2012 | +25 |
Blue Hue | 0 |
Blue Saturation | -12 |
Brightness Value | 9.251562 |
Camera Profile | Kodak Portra 800 SO |
Circle Of Confusion | 0.018 mm |
Clarity 2012 | +5 |
Color Noise Reduction | 25 |
Color Noise Reduction Detail | 50 |
Color Noise Reduction Smoothness | 50 |
Color Space | sRGB |
Color Temperature | 5100 |
Contrast 2012 | 0 |
Convert To Grayscale | False |
Defringe Green Amount | 0 |
Defringe Green Hue Hi | 60 |
Defringe Green Hue Lo | 40 |
Defringe Purple Amount | 0 |
Defringe Purple Hue Hi | 70 |
Defringe Purple Hue Lo | 30 |
Exposure 2012 | 0.00 |
Exposure Compensation | 0 |
Exposure Index | 0 |
Field Of View | 25.8 deg |
Format | image/jpeg |
Grain Amount | 0 |
Green Hue | 0 |
Green Saturation | 0 |
Has Crop | False |
Has Settings | True |
Highlights 2012 | -10 |
Hue Adjustment Aqua | +5 |
Hue Adjustment Blue | -5 |
Hue Adjustment Green | +12 |
Hue Adjustment Magenta | +10 |
Hue Adjustment Orange | -5 |
Hue Adjustment Purple | +15 |
Hue Adjustment Red | +20 |
Hue Adjustment Yellow | +5 |
Hyperfocal Distance | 9.68 m |
ISO | 100, 100 |
Image Size | 3000x4495 |
Lens | FE 24-70mm F4 ZA OSS |
Lens Distort Info | 1022092539/1073741824 36911688/1073741824 7198602/1073741824 7529864/1073741824 |
Lens Info | 24-70mm f/4 |
Lens Manual Distortion Amount | 0 |
Lens Profile Enable | 0 |
Lens Profile Setup | LensDefaults |
Light Source | Unknown |
Light Value | 13.7 |
Luminance Adjustment Aqua | 0 |
Luminance Adjustment Blue | 0 |
Luminance Adjustment Green | -10 |
Luminance Adjustment Magenta | +15 |
Luminance Adjustment Orange | 0 |
Luminance Adjustment Purple | +15 |
Luminance Adjustment Red | +10 |
Luminance Adjustment Yellow | -5 |
Luminance Smoothing | 0 |
Metering Mode | Multi-segment |
Parametric Darks | 0 |
Parametric Highlight Split | 75 |
Parametric Highlights | 0 |
Parametric Lights | 0 |
Parametric Midtone Split | 50 |
Parametric Shadow Split | 25 |
Parametric Shadows | 0 |
Perspective Aspect | 0 |
Perspective Horizontal | 0 |
Perspective Rotate | 0.0 |
Perspective Scale | 100 |
Perspective Upright | 0 |
Perspective Vertical | 0 |
Post Crop Vignette Amount | 0 |
Primary Chromaticities | 0 0 0 0 0 0 |
Process Version | 6.7 |
Raw File Name | ertz.jpg |
Red Hue | +5 |
Red Saturation | -10 |
Reference Black White | 0 0 0 0 0 0 |
Saturation | +5 |
Saturation Adjustment Aqua | -35 |
Saturation Adjustment Blue | -10 |
Saturation Adjustment Green | -35 |
Saturation Adjustment Magenta | -5 |
Saturation Adjustment Orange | -4 |
Saturation Adjustment Purple | -25 |
Saturation Adjustment Red | -5 |
Saturation Adjustment Yellow | -3 |
Scale Factor To 35 mm Equivalent | 1.6 |
Scene Type | Directly photographed |
Sensing Method | Unknown (0) |
Shadow Tint | -6 |
Shadows 2012 | +15 |
Sharpen Detail | 25 |
Sharpen Edge Masking | 0 |
Sharpen Radius | +1.0 |
Sharpness | 70 |
Split Toning Balance | -88 |
Split Toning Highlight Hue | 170 |
Split Toning Highlight Saturation | 10 |
Split Toning Shadow Hue | 0 |
Split Toning Shadow Saturation | 0 |
Subject Distance | 0 m |
Tint | +3 |
Tone Curve | 0, 0, 255, 255 |
Tone Curve Blue | 0, 0, 255, 255 |
Tone Curve Green | 0, 0, 255, 255 |
Tone Curve Name | Linear |
Tone Curve Name 2012 | Custom |
Tone Curve PV2012 | 0, 33, 64, 74, 126, 130, 255, 252 |
Tone Curve PV2012 Blue | 0, 27, 51, 51, 121, 127, 201, 215, 255, 255 |
Tone Curve PV2012 Green | 0, 7, 54, 42, 120, 128, 177, 192, 255, 255 |
Tone Curve PV2012 Red | 0, 0, 54, 38, 119, 127, 174, 192, 220, 231, 255, 255 |
Tone Curve Red | 0, 0, 255, 255 |
Version | 9.0 |
Vibrance | 0 |
Vignette Amount | 0 |
White Balance | As Shot |
White Point | 0 0 |
Whites 2012 | -10 |