Shooting information for this photo
Camera: | SONY ILCE-7R |
Exposure: | 0.00625 sec. (1/160) |
Aperture: | f/4.0 |
Focal Length: | 25.0 mm |
Flash: | Off, Did not fire |
Exposure mode: | Program AE |
Max Aperture: | 4.0 |
Resolution: | 300 x 300 dpi |
Dimension: | 2000 x 2997 pixels |
Original Date: | 2019:09:07 13:30:39 |
Created on: | 2019:09:07 13:30:39 |
Modified on: | 2019:09:08 23:58:49 |
Software: | Adobe Photoshop Lightroom 6.0 (Windows) |
Already Applied | True |
Auto Lateral CA | 0 |
Auto White Version | 134348800 |
Blacks 2012 | +20 |
Blue Hue | 0 |
Blue Saturation | -30 |
Brightness Value | 4.278906 |
Camera Profile | TRI-X⁺¹ - SO |
Clarity 2012 | +10 |
Color Noise Reduction | 0 |
Color Space | sRGB |
Contrast 2012 | +10 |
Convert To Grayscale | True |
Exposure 2012 | +0.20 |
Exposure Compensation | 0 |
Exposure Index | 0 |
Format | image/jpeg |
Grain Amount | 31 |
Grain Frequency | 85 |
Grain Size | 20 |
Gray Mixer Aqua | -18 |
Gray Mixer Blue | +10 |
Gray Mixer Green | -18 |
Gray Mixer Magenta | +10 |
Gray Mixer Orange | -8 |
Gray Mixer Purple | +15 |
Gray Mixer Red | 0 |
Gray Mixer Yellow | -8 |
Green Hue | 0 |
Green Saturation | 0 |
Has Crop | False |
Has Settings | True |
Highlights 2012 | +35 |
ISO | 400, 400 |
Image Size | 2000x2997 |
Incremental Temperature | 0 |
Incremental Tint | 0 |
Lens | FE 24-70mm F4 ZA OSS |
Lens Info | 24-70mm f/4 |
Lens Manual Distortion Amount | 0 |
Lens Profile Enable | 0 |
Lens Profile Setup | LensDefaults |
Light Source | Unknown |
Light Value | 9.3 |
Luminance Smoothing | 0 |
Metering Mode | Multi-segment |
Parametric Darks | 0 |
Parametric Highlight Split | 75 |
Parametric Highlights | 0 |
Parametric Lights | 0 |
Parametric Midtone Split | 50 |
Parametric Shadow Split | 25 |
Parametric Shadows | 0 |
Perspective Aspect | 0 |
Perspective Horizontal | 0 |
Perspective Rotate | 0.0 |
Perspective Scale | 100 |
Perspective Upright | 0 |
Perspective Vertical | 0 |
Post Crop Vignette Amount | 0 |
Primary Chromaticities | 0 0 0 0 0 0 |
Process Version | 6.7 |
Raw File Name | glupino.jpg |
Red Hue | 0 |
Red Saturation | +20 |
Reference Black White | 0 0 0 0 0 0 |
Scene Type | Directly photographed |
Sensing Method | Unknown (0) |
Shadow Tint | 0 |
Shadows 2012 | +10 |
Sharpen Detail | 25 |
Sharpen Edge Masking | 0 |
Sharpen Radius | +1.0 |
Sharpness | 40 |
Split Toning Balance | 0 |
Split Toning Highlight Hue | 0 |
Split Toning Highlight Saturation | 0 |
Split Toning Shadow Hue | 0 |
Split Toning Shadow Saturation | 0 |
Subject Distance | 0 m |
Tone Curve | 0, 0, 255, 255 |
Tone Curve Blue | 0, 0, 255, 255 |
Tone Curve Green | 0, 0, 255, 255 |
Tone Curve Name | Linear |
Tone Curve Name 2012 | Custom |
Tone Curve PV2012 | 0, 55, 64, 71, 107, 110, 180, 196, 255, 255 |
Tone Curve PV2012 Blue | 0, 0, 255, 255 |
Tone Curve PV2012 Green | 0, 0, 255, 255 |
Tone Curve PV2012 Red | 0, 0, 255, 255 |
Tone Curve Red | 0, 0, 255, 255 |
Version | 9.0 |
Vignette Amount | 0 |
White Balance | As Shot |
White Point | 0 0 |
Whites 2012 | +5 |