Shooting information for this photo
Camera: | SONY ILCE-7R |
Exposure: | 30 sec. |
Aperture: | f/4.0 |
Focal Length: | 24.0 mm (35 mm equivalent: 58.9 mm) |
Flash: | Off, Did not fire |
Exposure mode: | Manual |
Max Aperture: | 4.0 |
Resolution: | 300 x 300 dpi |
Dimension: | 3000 x 2167 pixels |
Original Date: | 2018:08:13 01:37:06 |
Created on: | 2018:08:13 01:37:06 |
Modified on: | 2018:08:15 23:11:20 |
Software: | Adobe Photoshop Lightroom 6.0 (Windows) |
Already Applied | True |
Auto Lateral CA | 0 |
Auto White Version | 134348800 |
Blacks 2012 | +15 |
Blue Hue | -5 |
Blue Saturation | -30 |
Brightness Value | 4289.554796 |
Camera Profile | Agfa Vista 800 - SO |
Circle Of Confusion | 0.012 mm |
Clarity 2012 | -10 |
Color Noise Reduction | 0 |
Color Space | Unknown (0) |
Contrast 2012 | 0 |
Convert To Grayscale | False |
Defringe Green Amount | 0 |
Defringe Green Hue Hi | 60 |
Defringe Green Hue Lo | 40 |
Defringe Purple Amount | 0 |
Defringe Purple Hue Hi | 70 |
Defringe Purple Hue Lo | 30 |
Distortion Correction Already Applied | True |
Exposure 2012 | 0.00 |
Exposure Compensation | 0 |
Exposure Index | 0 |
Field Of View | 34.0 deg |
Format | image/jpeg |
Grain Amount | 0 |
Green Hue | +40 |
Green Saturation | -45 |
Has Crop | False |
Has Settings | True |
Highlights 2012 | -40 |
Hue Adjustment Aqua | +10 |
Hue Adjustment Blue | -10 |
Hue Adjustment Green | 0 |
Hue Adjustment Magenta | +5 |
Hue Adjustment Orange | +10 |
Hue Adjustment Purple | 0 |
Hue Adjustment Red | +15 |
Hue Adjustment Yellow | +5 |
Hyperfocal Distance | 11.77 m |
ISO | 1000, 1000 |
Image Size | 3000x2167 |
Incremental Temperature | 0 |
Incremental Tint | 0 |
Lateral Chromatic Aberration Correction Already Applied | True |
Lens | FE 24-70mm F4 ZA OSS |
Lens Distort Info | 33707/32768 -115247140/1073741824 48149711/1073741824 1494860/1073741824 |
Lens Info | 24-70mm f/4 |
Lens Manual Distortion Amount | 0 |
Lens Profile Enable | 0 |
Lens Profile Setup | LensDefaults |
Light Source | Unknown |
Light Value | -4.2 |
Luminance Adjustment Aqua | +15 |
Luminance Adjustment Blue | -25 |
Luminance Adjustment Green | 0 |
Luminance Adjustment Magenta | +10 |
Luminance Adjustment Orange | +5 |
Luminance Adjustment Purple | -5 |
Luminance Adjustment Red | 0 |
Luminance Adjustment Yellow | +10 |
Luminance Smoothing | 0 |
Metering Mode | Multi-segment |
Parametric Darks | +10 |
Parametric Highlight Split | 75 |
Parametric Highlights | 0 |
Parametric Lights | +10 |
Parametric Midtone Split | 48 |
Parametric Shadow Split | 20 |
Parametric Shadows | 0 |
Perspective Aspect | 0 |
Perspective Horizontal | 0 |
Perspective Rotate | 0.0 |
Perspective Scale | 100 |
Perspective Upright | 0 |
Perspective Vertical | 0 |
Post Crop Vignette Amount | 0 |
Primary Chromaticities | 0 0 0 0 0 0 |
Process Version | 6.7 |
Raw File Name | hh.jpg |
Red Hue | +15 |
Red Saturation | +60 |
Reference Black White | 0 0 0 0 0 0 |
Saturation | -10 |
Saturation Adjustment Aqua | -35 |
Saturation Adjustment Blue | -25 |
Saturation Adjustment Green | -30 |
Saturation Adjustment Magenta | -40 |
Saturation Adjustment Orange | -5 |
Saturation Adjustment Purple | -45 |
Saturation Adjustment Red | -25 |
Saturation Adjustment Yellow | -5 |
Scale Factor To 35 mm Equivalent | 2.5 |
Scene Type | Directly photographed |
Sensing Method | Unknown (0) |
Shadow Tint | -4 |
Shadows 2012 | +30 |
Sharpen Detail | 25 |
Sharpen Edge Masking | 0 |
Sharpen Radius | +1.0 |
Sharpness | 0 |
Split Toning Balance | +75 |
Split Toning Highlight Hue | 0 |
Split Toning Highlight Saturation | 0 |
Split Toning Shadow Hue | 240 |
Split Toning Shadow Saturation | 10 |
Subject Distance | 0 m |
Tone Curve | 0, 0, 255, 255 |
Tone Curve Blue | 0, 0, 255, 255 |
Tone Curve Green | 0, 0, 255, 255 |
Tone Curve Name | Linear |
Tone Curve Name 2012 | Custom |
Tone Curve PV2012 | 0, 32, 36, 40, 79, 75, 133, 133, 185, 189, 255, 245 |
Tone Curve PV2012 Blue | 0, 0, 33, 11, 121, 118, 184, 193, 255, 251 |
Tone Curve PV2012 Green | 0, 0, 32, 10, 80, 65, 115, 120, 175, 197, 255, 255 |
Tone Curve PV2012 Red | 0, 6, 27, 13, 80, 62, 117, 123, 171, 196, 255, 255 |
Tone Curve Red | 0, 0, 255, 255 |
Version | 9.0 |
Vibrance | 0 |
Vignette Amount | 0 |
White Balance | As Shot |
White Point | 0 0 |
Whites 2012 | -20 |