Shooting information for this photo
Camera: | SONY ILCE-7R |
Exposure: | 0.06667 sec. (1/15) |
Focal Length: | 0.0 mm (35 mm equivalent: 0.0 mm) |
Flash: | Off, Did not fire |
Exposure mode: | Program AE |
Max Aperture: | 1.0 |
Resolution: | 300 x 300 dpi |
Dimension: | 3000 x 2275 pixels |
Original Date: | 2016:05:30 06:19:31 |
Created on: | 2016:05:30 06:19:31 |
Modified on: | 2018:08:11 23:59:22 |
Software: | Adobe Photoshop Lightroom 6.0 (Windows) |
Already Applied | True |
Auto Lateral CA | 0 |
Auto White Version | 134348800 |
Blacks 2012 | +35 |
Blue Hue | 0 |
Blue Saturation | +12 |
Brightness Value | 4286.55089 |
Camera Profile | Fuji FP-100c SO |
Circle Of Confusion | 0.012 mm |
Clarity 2012 | 0 |
Color Noise Reduction | 0 |
Color Space | sRGB |
Contrast 2012 | 0 |
Convert To Grayscale | False |
Defringe Green Amount | 0 |
Defringe Green Hue Hi | 60 |
Defringe Green Hue Lo | 40 |
Defringe Purple Amount | 0 |
Defringe Purple Hue Hi | 70 |
Defringe Purple Hue Lo | 30 |
Exposure 2012 | 0.00 |
Exposure Compensation | 0 |
Exposure Index | 0 |
Format | image/jpeg |
Grain Amount | 0 |
Green Hue | -5 |
Green Saturation | 0 |
Has Crop | False |
Has Settings | True |
Highlights 2012 | -20 |
Hue Adjustment Aqua | +25 |
Hue Adjustment Blue | 0 |
Hue Adjustment Green | +5 |
Hue Adjustment Magenta | 0 |
Hue Adjustment Orange | 0 |
Hue Adjustment Purple | +30 |
Hue Adjustment Red | +15 |
Hue Adjustment Yellow | -5 |
ISO | 6400, 6400 |
Image Size | 3000x2275 |
Incremental Temperature | 0 |
Incremental Tint | 0 |
Lens | ---- |
Lens Manual Distortion Amount | 0 |
Lens Profile Enable | 0 |
Lens Profile Setup | LensDefaults |
Light Source | Unknown |
Luminance Adjustment Aqua | -15 |
Luminance Adjustment Blue | -40 |
Luminance Adjustment Green | -30 |
Luminance Adjustment Magenta | -20 |
Luminance Adjustment Orange | -10 |
Luminance Adjustment Purple | 0 |
Luminance Adjustment Red | -25 |
Luminance Adjustment Yellow | -25 |
Luminance Smoothing | 0 |
Metering Mode | Multi-segment |
Parametric Darks | 0 |
Parametric Highlight Split | 75 |
Parametric Highlights | 0 |
Parametric Lights | 0 |
Parametric Midtone Split | 50 |
Parametric Shadow Split | 25 |
Parametric Shadows | 0 |
Perspective Aspect | 0 |
Perspective Horizontal | 0 |
Perspective Rotate | 0.0 |
Perspective Scale | 100 |
Perspective Upright | 0 |
Perspective Vertical | 0 |
Post Crop Vignette Amount | 0 |
Primary Chromaticities | 0 0 0 0 0 0 |
Process Version | 6.7 |
Raw File Name | best.jpg |
Red Hue | +10 |
Red Saturation | -15 |
Reference Black White | 0 0 0 0 0 0 |
Saturation | 0 |
Saturation Adjustment Aqua | -20 |
Saturation Adjustment Blue | -30 |
Saturation Adjustment Green | -30 |
Saturation Adjustment Magenta | -45 |
Saturation Adjustment Orange | -16 |
Saturation Adjustment Purple | 0 |
Saturation Adjustment Red | -15 |
Saturation Adjustment Yellow | 0 |
Scale Factor To 35 mm Equivalent | 2.4 |
Scene Type | Directly photographed |
Sensing Method | Unknown (0) |
Shadow Tint | 0 |
Shadows 2012 | +25 |
Sharpen Detail | 25 |
Sharpen Edge Masking | 0 |
Sharpen Radius | +1.0 |
Sharpness | 0 |
Split Toning Balance | 0 |
Split Toning Highlight Hue | 0 |
Split Toning Highlight Saturation | 0 |
Split Toning Shadow Hue | 0 |
Split Toning Shadow Saturation | 0 |
Subject Distance | 0 m |
Tone Curve | 0, 0, 255, 255 |
Tone Curve Blue | 0, 0, 255, 255 |
Tone Curve Green | 0, 0, 255, 255 |
Tone Curve Name | Linear |
Tone Curve Name 2012 | Custom |
Tone Curve PV2012 | 0, 1, 11, 19, 58, 78, 135, 151, 199, 207, 255, 255 |
Tone Curve PV2012 Blue | 0, 0, 32, 19, 124, 130, 221, 232, 255, 255 |
Tone Curve PV2012 Green | 0, 0, 39, 21, 122, 129, 220, 234, 255, 255 |
Tone Curve PV2012 Red | 0, 0, 37, 18, 83, 70, 119, 126, 163, 181, 255, 255 |
Tone Curve Red | 0, 0, 255, 255 |
Version | 9.0 |
Vibrance | 0 |
Vignette Amount | 0 |
White Balance | As Shot |
White Point | 0 0 |
Whites 2012 | -10 |