Shooting information for this photo
Camera: | SONY ILCE-7R |
Exposure: | 0.04 sec. (1/25) |
Aperture: | f/18.0 |
Focal Length: | 51.0 mm (35 mm equivalent: 163.9 mm) |
Flash: | Off, Did not fire |
Exposure mode: | Manual |
Max Aperture: | 4.0 |
Resolution: | 300 x 300 dpi |
Dimension: | 2000 x 2000 pixels |
Original Date: | 2017:10:08 12:34:24 |
Created on: | 2017:10:08 12:34:24 |
Modified on: | 2018:01:04 16:20:42 |
Software: | Adobe Photoshop CS6 (Windows) |
Already Applied | True |
Auto Lateral CA | 0 |
Auto White Version | 134348800 |
Blacks 2012 | +5 |
Blue Hue | -15 |
Blue Saturation | +15 |
Brightness Value | 10.478125 |
Camera Profile | RSX 200 II - SO |
Circle Of Confusion | 0.009 mm |
Clarity 2012 | 0 |
Color Mode | RGB |
Color Noise Reduction | 25 |
Color Noise Reduction Detail | 50 |
Color Noise Reduction Smoothness | 50 |
Color Space | sRGB |
Contrast 2012 | 0 |
Convert To Grayscale | False |
Date Created | 2017:10:08 12:34:24 |
Defringe Green Amount | 0 |
Defringe Green Hue Hi | 60 |
Defringe Green Hue Lo | 40 |
Defringe Purple Amount | 0 |
Defringe Purple Hue Hi | 70 |
Defringe Purple Hue Lo | 30 |
Exposure 2012 | 0.00 |
Exposure Compensation | 0 |
Exposure Index | 0 |
Field Of View | 12.5 deg |
Format | image/jpeg |
Grain Amount | 0 |
Green Hue | +35 |
Green Saturation | -40 |
Has Crop | False |
Has Settings | True |
Highlights 2012 | -15 |
Hue Adjustment Aqua | 0 |
Hue Adjustment Blue | 0 |
Hue Adjustment Green | -15 |
Hue Adjustment Magenta | +15 |
Hue Adjustment Orange | 0 |
Hue Adjustment Purple | +15 |
Hue Adjustment Red | +15 |
Hue Adjustment Yellow | 0 |
Hyperfocal Distance | 15.46 m |
ICC Profile Name | sRGB IEC61966-2.1 |
ISO | 80, 80 |
Image Size | 2000x2000 |
Incremental Temperature | 0 |
Incremental Tint | 0 |
Lateral Chromatic Aberration Correction Already Applied | True |
Lens | FE 24-70mm F4 ZA OSS |
Lens Distort Info | 1019568338/1073741824 40731619/1073741824 5120834/1073741824 8319064/1073741824 |
Lens Info | 24-70mm f/4 |
Lens Manual Distortion Amount | 0 |
Lens Profile Enable | 0 |
Lens Profile Setup | LensDefaults |
Light Source | Daylight |
Light Value | 13.3 |
Luminance Adjustment Aqua | -10 |
Luminance Adjustment Blue | -20 |
Luminance Adjustment Green | -20 |
Luminance Adjustment Magenta | 0 |
Luminance Adjustment Orange | +48 |
Luminance Adjustment Purple | -10 |
Luminance Adjustment Red | -35 |
Luminance Adjustment Yellow | 0 |
Luminance Smoothing | 0 |
Metering Mode | Multi-segment |
Parametric Darks | 0 |
Parametric Highlight Split | 70 |
Parametric Highlights | 0 |
Parametric Lights | 0 |
Parametric Midtone Split | 38 |
Parametric Shadow Split | 18 |
Parametric Shadows | 0 |
Perspective Aspect | 0 |
Perspective Horizontal | 0 |
Perspective Rotate | 0.0 |
Perspective Scale | 100 |
Perspective Upright | 0 |
Perspective Vertical | 0 |
Post Crop Vignette Amount | 0 |
Primary Chromaticities | 0 0 0 0 0 0 |
Process Version | 6.7 |
Raw File Name | agfa rsx 200 nice warm.jpg |
Red Hue | +15 |
Red Saturation | +15 |
Reference Black White | 0 0 0 0 0 0 |
Saturation | 0 |
Saturation Adjustment Aqua | -5 |
Saturation Adjustment Blue | -20 |
Saturation Adjustment Green | -5 |
Saturation Adjustment Magenta | -25 |
Saturation Adjustment Orange | 0 |
Saturation Adjustment Purple | -15 |
Saturation Adjustment Red | -8 |
Saturation Adjustment Yellow | 0 |
Scale Factor To 35 mm Equivalent | 3.2 |
Scene Type | Directly photographed |
Sensing Method | Unknown (0) |
Shadow Tint | 0 |
Shadows 2012 | +10 |
Sharpen Detail | 25 |
Sharpen Edge Masking | 0 |
Sharpen Radius | +1.0 |
Sharpness | 10 |
Split Toning Balance | 0 |
Split Toning Highlight Hue | 0 |
Split Toning Highlight Saturation | 0 |
Split Toning Shadow Hue | 0 |
Split Toning Shadow Saturation | 0 |
Subject Distance | 0 m |
Tone Curve | 0, 0, 255, 255 |
Tone Curve Blue | 0, 0, 255, 255 |
Tone Curve Green | 0, 0, 255, 255 |
Tone Curve Name | Linear |
Tone Curve Name 2012 | Custom |
Tone Curve PV2012 | 0, 9, 15, 17, 42, 43, 255, 255 |
Tone Curve PV2012 Blue | 0, 0, 30, 32, 131, 124, 200, 189, 255, 251 |
Tone Curve PV2012 Green | 0, 0, 48, 48, 126, 126, 255, 255 |
Tone Curve PV2012 Red | 0, 0, 39, 32, 125, 125, 195, 195, 255, 255 |
Tone Curve Red | 0, 0, 255, 255 |
Version | 9.0 |
Vibrance | 0 |
Vignette Amount | 0 |
Vignette Correction Already Applied | True |
White Balance | As Shot |
White Point | 0 0 |
Whites 2012 | +30 |