Shooting information for this photo
Camera: | SONY ILCE-7R |
Exposure: | 0.6 sec. |
Aperture: | f/4.0 |
Focal Length: | 24.0 mm (35 mm equivalent: 77.1 mm) |
Flash: | Off, Did not fire |
Exposure mode: | Program AE |
Max Aperture: | 4.0 |
Resolution: | 300 x 300 dpi |
Dimension: | 2000 x 2000 pixels |
Original Date: | 2018:01:30 00:34:28 |
Created on: | 2018:01:30 00:34:28 |
Modified on: | 2018:01:30 22:33:33 |
Software: | Adobe Photoshop Lightroom 6.0 (Windows) |
Already Applied | True |
Auto Lateral CA | 0 |
Auto White Version | 134348800 |
Blacks 2012 | 0 |
Blue Hue | -15 |
Blue Saturation | 0 |
Brightness Value | 4291.156358 |
Camera Profile | Polaroid 669 SO |
Circle Of Confusion | 0.009 mm |
Clarity 2012 | -5 |
Color Noise Reduction | 0 |
Color Space | Unknown (0) |
Contrast 2012 | 0 |
Convert To Grayscale | False |
Defringe Green Amount | 0 |
Defringe Green Hue Hi | 60 |
Defringe Green Hue Lo | 40 |
Defringe Purple Amount | 0 |
Defringe Purple Hue Hi | 70 |
Defringe Purple Hue Lo | 30 |
Distortion Correction Already Applied | True |
Exposure 2012 | 0.00 |
Exposure Compensation | 0 |
Exposure Index | 0 |
Field Of View | 26.3 deg |
Format | image/jpeg |
Grain Amount | 0 |
Green Hue | 0 |
Green Saturation | 0 |
Has Crop | False |
Has Settings | True |
Highlights 2012 | -20 |
Hue Adjustment Aqua | -15 |
Hue Adjustment Blue | -30 |
Hue Adjustment Green | -5 |
Hue Adjustment Magenta | +15 |
Hue Adjustment Orange | 0 |
Hue Adjustment Purple | 0 |
Hue Adjustment Red | +10 |
Hue Adjustment Yellow | -10 |
Hyperfocal Distance | 15.40 m |
ISO | 1000, 1000 |
Image Size | 2000x2000 |
Incremental Temperature | 0 |
Incremental Tint | 0 |
Lateral Chromatic Aberration Correction Already Applied | True |
Lens | FE 24-70mm F4 ZA OSS |
Lens Distort Info | 33710/32768 -116405204/1073741824 51402802/1073741824 -745079/1073741824 |
Lens Info | 24-70mm f/4 |
Lens Manual Distortion Amount | 0 |
Lens Profile Enable | 0 |
Lens Profile Setup | LensDefaults |
Light Source | Daylight |
Light Value | 1.4 |
Luminance Adjustment Aqua | -5 |
Luminance Adjustment Blue | -15 |
Luminance Adjustment Green | -40 |
Luminance Adjustment Magenta | +10 |
Luminance Adjustment Orange | -10 |
Luminance Adjustment Purple | +20 |
Luminance Adjustment Red | -20 |
Luminance Adjustment Yellow | -25 |
Luminance Smoothing | 0 |
Metering Mode | Multi-segment |
Parametric Darks | 0 |
Parametric Highlight Split | 75 |
Parametric Highlights | 0 |
Parametric Lights | 0 |
Parametric Midtone Split | 60 |
Parametric Shadow Split | 14 |
Parametric Shadows | 0 |
Perspective Aspect | 0 |
Perspective Horizontal | 0 |
Perspective Rotate | 0.0 |
Perspective Scale | 100 |
Perspective Upright | 0 |
Perspective Vertical | 0 |
Post Crop Vignette Amount | 0 |
Primary Chromaticities | 0 0 0 0 0 0 |
Process Version | 6.7 |
Raw File Name | polaroid 690-.jpg |
Red Hue | +10 |
Red Saturation | -5 |
Reference Black White | 0 0 0 0 0 0 |
Saturation | -10 |
Saturation Adjustment Aqua | -10 |
Saturation Adjustment Blue | -30 |
Saturation Adjustment Green | -20 |
Saturation Adjustment Magenta | -40 |
Saturation Adjustment Orange | -15 |
Saturation Adjustment Purple | -45 |
Saturation Adjustment Red | -15 |
Saturation Adjustment Yellow | 0 |
Scale Factor To 35 mm Equivalent | 3.2 |
Scene Type | Directly photographed |
Sensing Method | Unknown (0) |
Shadow Tint | 0 |
Shadows 2012 | +25 |
Sharpen Detail | 25 |
Sharpen Edge Masking | 0 |
Sharpen Radius | +1.2 |
Sharpness | 0 |
Split Toning Balance | 0 |
Split Toning Highlight Hue | 0 |
Split Toning Highlight Saturation | 0 |
Split Toning Shadow Hue | 0 |
Split Toning Shadow Saturation | 0 |
Subject Distance | 0 m |
Tone Curve | 0, 0, 255, 255 |
Tone Curve Blue | 0, 0, 255, 255 |
Tone Curve Green | 0, 0, 255, 255 |
Tone Curve Name | Linear |
Tone Curve Name 2012 | Custom |
Tone Curve PV2012 | 0, 44, 47, 62, 92, 95, 126, 132, 181, 188, 255, 255 |
Tone Curve PV2012 Blue | 0, 0, 40, 29, 116, 117, 217, 226, 255, 242 |
Tone Curve PV2012 Green | 0, 3, 45, 32, 119, 123, 212, 229, 255, 255 |
Tone Curve PV2012 Red | 0, 0, 40, 22, 87, 73, 119, 118, 171, 183, 232, 234, 255, 246 |
Tone Curve Red | 0, 0, 255, 255 |
Version | 9.0 |
Vibrance | 0 |
Vignette Amount | 0 |
Vignette Correction Already Applied | True |
White Balance | As Shot |
White Point | 0 0 |
Whites 2012 | -10 |