Shooting information for this photo
Camera: | SONY ILCE-7R |
Exposure: | 0.3 sec. |
Aperture: | f/7.1 |
Focal Length: | 26.0 mm (35 mm equivalent: 83.6 mm) |
Flash: | Off, Did not fire |
Exposure mode: | Manual |
Max Aperture: | 4.0 |
Resolution: | 300 x 300 dpi |
Dimension: | 2000 x 2000 pixels |
Original Date: | 2017:11:28 11:00:59 |
Created on: | 2017:11:28 11:00:59 |
Modified on: | 2018:01:04 22:03:17 |
Software: | Adobe Photoshop CS6 (Windows) |
Already Applied | True |
Auto Lateral CA | 0 |
Auto White Version | 134348800 |
Blacks 2012 | +25 |
Blue Hue | -10 |
Blue Saturation | -5 |
Brightness Value | 1.8375 |
Camera Profile | Kodak Portra 160 VC SO |
Circle Of Confusion | 0.009 mm |
Clarity 2012 | 0 |
Color Mode | RGB |
Color Noise Reduction | 0 |
Color Space | sRGB |
Contrast 2012 | 0 |
Convert To Grayscale | False |
Date Created | 2017:11:28 11:00:59 |
Defringe Green Amount | 0 |
Defringe Green Hue Hi | 60 |
Defringe Green Hue Lo | 40 |
Defringe Purple Amount | 0 |
Defringe Purple Hue Hi | 70 |
Defringe Purple Hue Lo | 30 |
Distortion Correction Already Applied | True |
Exposure 2012 | 0.00 |
Exposure Compensation | 0 |
Exposure Index | 0 |
Field Of View | 24.3 deg |
Format | image/jpeg |
Grain Amount | 0 |
Green Hue | 0 |
Green Saturation | 0 |
Has Crop | False |
Has Settings | True |
Highlights 2012 | -10 |
Hue Adjustment Aqua | +10 |
Hue Adjustment Blue | -5 |
Hue Adjustment Green | +15 |
Hue Adjustment Magenta | +30 |
Hue Adjustment Orange | +5 |
Hue Adjustment Purple | -10 |
Hue Adjustment Red | +25 |
Hue Adjustment Yellow | +15 |
Hyperfocal Distance | 10.18 m |
ICC Profile Name | sRGB IEC61966-2.1 |
ISO | 100, 100 |
Image Size | 2000x2000 |
Incremental Temperature | 0 |
Incremental Tint | 0 |
Lateral Chromatic Aberration Correction Already Applied | True |
Lens | FE 24-70mm F4 ZA OSS |
Lens Distort Info | 33400/32768 -78470313/1073741824 33401166/1073741824 6296921/1073741824 |
Lens Info | 24-70mm f/4 |
Lens Manual Distortion Amount | 0 |
Lens Profile Enable | 0 |
Lens Profile Setup | LensDefaults |
Light Source | Daylight |
Light Value | 7.2 |
Luminance Adjustment Aqua | +5 |
Luminance Adjustment Blue | +5 |
Luminance Adjustment Green | 0 |
Luminance Adjustment Magenta | +5 |
Luminance Adjustment Orange | 0 |
Luminance Adjustment Purple | +10 |
Luminance Adjustment Red | -30 |
Luminance Adjustment Yellow | 0 |
Luminance Smoothing | 0 |
Metering Mode | Multi-segment |
Parametric Darks | 0 |
Parametric Highlight Split | 75 |
Parametric Highlights | 0 |
Parametric Lights | 0 |
Parametric Midtone Split | 60 |
Parametric Shadow Split | 14 |
Parametric Shadows | 0 |
Perspective Aspect | 0 |
Perspective Horizontal | 0 |
Perspective Rotate | 0.0 |
Perspective Scale | 100 |
Perspective Upright | 0 |
Perspective Vertical | 0 |
Post Crop Vignette Amount | 0 |
Primary Chromaticities | 0 0 0 0 0 0 |
Process Version | 6.7 |
Raw File Name | kodak portra 160 vc.jpg |
Red Hue | +5 |
Red Saturation | +5 |
Reference Black White | 0 0 0 0 0 0 |
Saturation | 0 |
Saturation Adjustment Aqua | -10 |
Saturation Adjustment Blue | -35 |
Saturation Adjustment Green | -45 |
Saturation Adjustment Magenta | -35 |
Saturation Adjustment Orange | -8 |
Saturation Adjustment Purple | -35 |
Saturation Adjustment Red | -5 |
Saturation Adjustment Yellow | -30 |
Scale Factor To 35 mm Equivalent | 3.2 |
Scene Type | Directly photographed |
Sensing Method | Unknown (0) |
Shadow Tint | 0 |
Shadows 2012 | +25 |
Sharpen Detail | 25 |
Sharpen Edge Masking | 0 |
Sharpen Radius | +1.0 |
Sharpness | 10 |
Split Toning Balance | 0 |
Split Toning Highlight Hue | 0 |
Split Toning Highlight Saturation | 0 |
Split Toning Shadow Hue | 0 |
Split Toning Shadow Saturation | 0 |
Subject Distance | 0 m |
Tone Curve | 0, 0, 255, 255 |
Tone Curve Blue | 0, 0, 255, 255 |
Tone Curve Green | 0, 0, 255, 255 |
Tone Curve Name | Linear |
Tone Curve Name 2012 | Custom |
Tone Curve PV2012 | 0, 0, 43, 55, 127, 130, 187, 185, 255, 255 |
Tone Curve PV2012 Blue | 0, 0, 36, 27, 120, 123, 184, 196, 255, 255 |
Tone Curve PV2012 Green | 0, 0, 36, 23, 120, 123, 184, 195, 255, 255 |
Tone Curve PV2012 Red | 0, 0, 40, 23, 120, 123, 183, 197, 255, 255 |
Tone Curve Red | 0, 0, 255, 255 |
Version | 9.0 |
Vibrance | 0 |
Vignette Amount | 0 |
Vignette Correction Already Applied | True |
White Balance | As Shot |
White Point | 0 0 |
Whites 2012 | -10 |