Shooting information for this photo
Camera: | SONY ILCE-7R |
Exposure: | 0.00625 sec. (1/160) |
Aperture: | f/4.5 |
Focal Length: | 70.0 mm (35 mm equivalent: 225.0 mm) |
Flash: | Off, Did not fire |
Exposure mode: | Program AE |
Max Aperture: | 4.0 |
Resolution: | 300 x 300 dpi |
Dimension: | 2000 x 2000 pixels |
Original Date: | 2017:11:05 14:36:07 |
Created on: | 2017:11:05 14:36:07 |
Modified on: | 2017:11:05 19:14:18 |
Software: | Adobe Photoshop CS6 (Windows) |
Already Applied | True |
Auto Lateral CA | 0 |
Auto White Version | 134348800 |
Blacks 2012 | -5 |
Blue Hue | 0 |
Blue Saturation | 0 |
Brightness Value | 7.071875 |
Camera Profile | Adobe Standard |
Circle Of Confusion | 0.009 mm |
Clarity 2012 | +10 |
Color Mode | RGB |
Color Noise Reduction | 25 |
Color Noise Reduction Detail | 50 |
Color Noise Reduction Smoothness | 50 |
Color Space | Uncalibrated |
Color Temperature | 4500 |
Contrast 2012 | +40 |
Convert To Grayscale | False |
Crop Angle | 0 |
Crop Bottom | 0.925046 |
Crop Constrain To Warp | 1 |
Crop Height | 1 |
Crop Left | 0.124394 |
Crop Right | 0.702719 |
Crop Top | 0.0585 |
Crop Unit | Unknown (3) |
Crop Width | 1 |
Date Created | 2017:11:05 14:36:07 |
Defringe Green Amount | 0 |
Defringe Green Hue Hi | 60 |
Defringe Green Hue Lo | 40 |
Defringe Purple Amount | 0 |
Defringe Purple Hue Hi | 70 |
Defringe Purple Hue Lo | 30 |
Dehaze | 0 |
Exposure 2012 | +0.20 |
Exposure Compensation | 0 |
Exposure Index | 0 |
Field Of View | 9.1 deg |
Format | image/jpeg |
Grain Amount | 0 |
Green Hue | 0 |
Green Saturation | 0 |
Has Crop | True |
Has Settings | True |
Highlights 2012 | +10 |
Hue Adjustment Aqua | 0 |
Hue Adjustment Blue | 0 |
Hue Adjustment Green | 0 |
Hue Adjustment Magenta | 0 |
Hue Adjustment Orange | -10 |
Hue Adjustment Purple | 0 |
Hue Adjustment Red | 0 |
Hue Adjustment Yellow | 0 |
Hyperfocal Distance | 116.46 m |
ICC Profile Name | Adobe RGB (1998) |
ISO | 100, 100 |
Image Size | 2000x2000 |
Lateral Chromatic Aberration Correction Already Applied | True |
Lens | FE 24-70mm F4 ZA OSS |
Lens Distort Info | 1016666906/1073741824 45429282/1073741824 8034598/1073741824 3608849/1073741824 |
Lens Info | 24-70mm f/4 |
Lens Manual Distortion Amount | 0 |
Lens Profile Enable | 0 |
Lens Profile Setup | LensDefaults |
Light Source | Unknown |
Light Value | 11.7 |
Luminance Adjustment Aqua | 0 |
Luminance Adjustment Blue | 0 |
Luminance Adjustment Green | +10 |
Luminance Adjustment Magenta | 0 |
Luminance Adjustment Orange | +20 |
Luminance Adjustment Purple | 0 |
Luminance Adjustment Red | +100 |
Luminance Adjustment Yellow | 0 |
Luminance Smoothing | 0 |
Metering Mode | Multi-segment |
Parametric Darks | 0 |
Parametric Highlight Split | 75 |
Parametric Highlights | 0 |
Parametric Lights | 0 |
Parametric Midtone Split | 50 |
Parametric Shadow Split | 25 |
Parametric Shadows | -20 |
Perspective Aspect | 0 |
Perspective Horizontal | 0 |
Perspective Rotate | 0.0 |
Perspective Scale | 100 |
Perspective Upright | 0 |
Perspective Vertical | 0 |
Post Crop Vignette Amount | 0 |
Primary Chromaticities | 0 0 0 0 0 0 |
Process Version | 6.7 |
Rating | 0 |
Raw File Name | DSC06267.ARW |
Red Hue | 0 |
Red Saturation | 0 |
Reference Black White | 0 0 0 0 0 0 |
Saturation | 0 |
Saturation Adjustment Aqua | 0 |
Saturation Adjustment Blue | 0 |
Saturation Adjustment Green | 0 |
Saturation Adjustment Magenta | 0 |
Saturation Adjustment Orange | 0 |
Saturation Adjustment Purple | 0 |
Saturation Adjustment Red | +25 |
Saturation Adjustment Yellow | 0 |
Scale Factor To 35 mm Equivalent | 3.2 |
Scene Type | Directly photographed |
Sensing Method | Unknown (0) |
Shadow Tint | 0 |
Shadows 2012 | -70 |
Sharpen Detail | 35 |
Sharpen Edge Masking | 0 |
Sharpen Radius | +1.5 |
Sharpness | 70 |
Split Toning Balance | 0 |
Split Toning Highlight Hue | 0 |
Split Toning Highlight Saturation | 0 |
Split Toning Shadow Hue | 0 |
Split Toning Shadow Saturation | 0 |
Subject Distance | 0 m |
Tint | +2 |
Tone Curve | 0, 0, 32, 22, 64, 56, 128, 128, 192, 196, 255, 255 |
Tone Curve Blue | 0, 0, 255, 255 |
Tone Curve Green | 0, 0, 255, 255 |
Tone Curve Name | Medium Contrast |
Tone Curve Name 2012 | Linear |
Tone Curve PV2012 | 0, 0, 255, 255 |
Tone Curve PV2012 Blue | 0, 0, 255, 255 |
Tone Curve PV2012 Green | 0, 0, 255, 255 |
Tone Curve PV2012 Red | 0, 0, 255, 255 |
Tone Curve Red | 0, 0, 255, 255 |
Tone Map Strength | 0 |
Version | 9.1.1 |
Vibrance | -5 |
Vignette Amount | 0 |
White Balance | As Shot |
White Point | 0 0 |
Whites 2012 | +5 |