Shooting information for this photo
Camera: | NIKON CORPORATION NIKON D300 |
Exposure: | 0.005 sec. (1/200) |
Aperture: | f/7.1 |
Focal Length: | 600.0 mm (35 mm equivalent: 900.0 mm) |
Flash: | No Flash |
Exposure mode: | Manual |
Max Aperture: | 1.0 |
Resolution: | 240 x 240 dpi |
Original Date: | 2011:01:23 13:06:57.08 |
Created on: | 2011:01:23 13:06:57 |
Modified on: | 2012:10:27 20:56:59 |
Software: | Adobe Photoshop Lightroom 4.1 (Windows) |
Already Applied | True |
Auto Lateral CA | 0 |
Blacks 2012 | -20 |
Blue Hue | 0 |
Blue Saturation | 0 |
CFA Pattern | [Red,Green][Green,Blue] |
Camera Profile | Embedded |
Circle Of Confusion | 0.020 mm |
Clarity 2012 | +15 |
Color Noise Reduction | 0 |
Contrast | Normal |
Contrast 2012 | +7 |
Convert To Grayscale | False |
Crop Angle | -0.445198 |
Crop Bottom | 0.865442 |
Crop Constrain To Warp | 0 |
Crop Height | 2461 |
Crop Left | 0 |
Crop Right | 1 |
Crop Top | 0.012855 |
Crop Unit | pixels |
Crop Width | 4269 |
Custom Rendered | Normal |
Date Created | 2011:01:23 13:06:57.008+01:00 |
Defringe Green Amount | 0 |
Defringe Green Hue Hi | 60 |
Defringe Green Hue Lo | 40 |
Defringe Purple Amount | 0 |
Defringe Purple Hue Hi | 70 |
Defringe Purple Hue Lo | 30 |
Digital Zoom Ratio | 1 |
Exposure 2012 | 0.00 |
Exposure Compensation | -2 |
Exposure Mode | Manual |
Field Of View | 2.3 deg |
Focal Length In 35mm Format | 900 mm |
Format | image/jpeg |
Gain Control | Low gain up |
Grain Amount | 0 |
Green Hue | 0 |
Green Saturation | 0 |
Has Crop | True |
Has Settings | True |
Highlights 2012 | 0 |
Hue Adjustment Aqua | 0 |
Hue Adjustment Blue | 0 |
Hue Adjustment Green | 0 |
Hue Adjustment Magenta | 0 |
Hue Adjustment Orange | 0 |
Hue Adjustment Purple | 0 |
Hue Adjustment Red | 0 |
Hue Adjustment Yellow | 0 |
Hyperfocal Distance | 2531.31 m |
ISO | 800 |
Image Number | 54652 |
Image Size | 4269x2461 |
Incremental Temperature | 0 |
Incremental Tint | 0 |
Lens | 0.0 mm f/0.0 |
Lens Info | 0mm f/0 |
Lens Manual Distortion Amount | 0 |
Lens Model | 0.0 mm f/0.0 |
Lens Profile Enable | 0 |
Lens Profile Setup | LensDefaults |
Light Source | Unknown |
Light Value | 10.3 |
Luminance Adjustment Aqua | 0 |
Luminance Adjustment Blue | 0 |
Luminance Adjustment Green | 0 |
Luminance Adjustment Magenta | 0 |
Luminance Adjustment Orange | 0 |
Luminance Adjustment Purple | 0 |
Luminance Adjustment Red | 0 |
Luminance Adjustment Yellow | 0 |
Luminance Smoothing | 0 |
Metering Mode | Spot |
Paint Based Corrections Local Clarity 2012 | 0.000000 |
Paint Based Corrections Local Contrast 2012 | 0.000000 |
Paint Based Corrections Local Defringe | 0.000000 |
Paint Based Corrections Local Exposure 2012 | 0.000000 |
Paint Based Corrections Local Highlights 2012 | 0.011760 |
Paint Based Corrections Local Luminance Noise | 0.176470 |
Paint Based Corrections Local Moire | 0.000000 |
Paint Based Corrections Local Shadows 2012 | 0.000000 |
Paint Based Corrections Local Temperature | 0.000000 |
Paint Based Corrections Local Tint | 0.000000 |
Paint Correction Active | true |
Paint Correction Amount | 1.000000 |
Paint Correction Brightness | 0.000000 |
Paint Correction Hue | 0.000000 |
Paint Correction Mask Center Weight | 0.000000 |
Paint Correction Mask Flow | 0.775895 |
Paint Correction Mask Radius | 0.005497 |
Paint Correction Mask Value | 1.000000 |
Paint Correction Mask What | Mask/Paint |
Paint Correction Saturation | 0.000000 |
Paint Correction Sharpness | 0.105880 |
Paint Correction What | Correction |
Parametric Darks | 0 |
Parametric Highlight Split | 75 |
Parametric Highlights | 0 |
Parametric Lights | 0 |
Parametric Midtone Split | 50 |
Parametric Shadow Split | 25 |
Parametric Shadows | 0 |
Perspective Horizontal | 0 |
Perspective Rotate | 0.0 |
Perspective Scale | 100 |
Perspective Vertical | 0 |
Post Crop Vignette Amount | 0 |
Process Version | 6.7 |
Red Hue | 0 |
Red Saturation | 0 |
Saturation | +7 |
Saturation Adjustment Aqua | 0 |
Saturation Adjustment Blue | 0 |
Saturation Adjustment Green | 0 |
Saturation Adjustment Magenta | 0 |
Saturation Adjustment Orange | 0 |
Saturation Adjustment Purple | 0 |
Saturation Adjustment Red | 0 |
Saturation Adjustment Yellow | 0 |
Scale Factor To 35 mm Equivalent | 1.5 |
Scene Capture Type | Standard |
Scene Type | Directly photographed |
Sensing Method | One-chip color area |
Shadow Tint | 0 |
Shadows 2012 | 0 |
Sharpen Detail | 25 |
Sharpen Edge Masking | 0 |
Sharpen Radius | +1.0 |
Sharpness | 0 |
Split Toning Balance | 0 |
Split Toning Highlight Hue | 0 |
Split Toning Highlight Saturation | 0 |
Split Toning Shadow Hue | 0 |
Split Toning Shadow Saturation | 0 |
Subject Distance Range | Unknown |
Tone Curve Name 2012 | Linear |
Tone Curve PV2012 | 0, 0, 255, 255 |
Tone Curve PV2012 Blue | 0, 0, 255, 255 |
Tone Curve PV2012 Green | 0, 0, 255, 255 |
Tone Curve PV2012 Red | 0, 0, 255, 255 |
Version | 7.1 |
Vibrance | 0 |
Vignette Amount | 0 |
White Balance | As Shot |
Whites 2012 | 0 |