Shooting information for this photo
Camera: | FUJIFILM X-Pro2 |
Exposure: | 0.002 sec. (1/500) |
Aperture: | f/3.2 |
Focal Length: | 33.0 mm (35 mm equivalent: 50.0 mm) |
Flash: | No Flash |
Exposure mode: | Manual |
Max Aperture: | 1.4 |
Resolution: | 300 x 300 dpi |
Original Date: | 2022:10:08 11:00:32 |
Created on: | 2022:10:08 11:00:32 |
Modified on: | 2022:10:09 13:23:47 |
Software: | Adobe Photoshop Lightroom Classic 11.5 (Windows) |
Copyright: | Luc Marie MARTIN. |
Already Applied | True |
Artist | diagonalhorizon |
Auto Lateral CA | 1 |
Blacks 2012 | +33 |
Blue Hue | +100 |
Blue Saturation | 0 |
Brightness Value | 6.52 |
Camera Profile | Camera ACROS+R FILTER |
Circle Of Confusion | 0.020 mm |
Clarity 2012 | +100 |
Color Grade Blending | 50 |
Color Grade Global Hue | 0 |
Color Grade Global Lum | 0 |
Color Grade Global Sat | 0 |
Color Grade Highlight Lum | 0 |
Color Grade Midtone Hue | 0 |
Color Grade Midtone Lum | 0 |
Color Grade Midtone Sat | 0 |
Color Grade Shadow Lum | 0 |
Color Noise Reduction | 25 |
Color Noise Reduction Detail | 50 |
Color Noise Reduction Smoothness | 50 |
Color Space | Uncalibrated |
Color Temperature | 5900 |
Contrast 2012 | +13 |
Convert To Grayscale | True |
Creator | diagonalhorizon |
Crop Angle | 0 |
Crop Bottom | 0.990329 |
Crop Constrain To Warp | 0 |
Crop Left | 0.142703 |
Crop Right | 0.988609 |
Crop Top | 0.038685 |
Custom Rendered | Normal |
Date Created | 2022:10:08 11:00:32 |
Dehaze | +40 |
Distortion Correction Already Applied | True |
Exposure 2012 | -0.32 |
Exposure Compensation | 0 |
Exposure Mode | Manual |
Field Of View | 39.6 deg |
Focal Length In 35mm Format | 50 mm |
Format | image/jpeg |
Fuji Rating Already Applied | True |
Grain Amount | 0 |
Green Hue | -100 |
Green Saturation | 0 |
Has Crop | True |
Has Settings | True |
Highlights 2012 | +90 |
Hyperfocal Distance | 17.16 m |
ISO | 200 |
Image Size | 5075x3806 |
Lateral Chromatic Aberration Correction Already Applied | True |
Lens | XF33mmF1.4 R LM WR |
Lens Info | 33mm f/1.4 |
Lens Make | FUJIFILM |
Lens Manual Distortion Amount | 0 |
Lens Model | XF33mmF1.4 R LM WR |
Lens Profile Enable | 1 |
Lens Profile Setup | LensDefaults |
Light Source | Unknown |
Light Value | 11.3 |
Luminance Noise Reduction Contrast | 66 |
Luminance Noise Reduction Detail | 100 |
Luminance Smoothing | 25 |
Metering Mode | Multi-segment |
Override Look Vignette | False |
Parametric Darks | -34 |
Parametric Highlight Split | 75 |
Parametric Highlights | -24 |
Parametric Lights | -56 |
Parametric Midtone Split | 50 |
Parametric Shadow Split | 25 |
Parametric Shadows | +56 |
Perspective Aspect | 0 |
Perspective Horizontal | 0 |
Perspective Rotate | 0.0 |
Perspective Scale | 100 |
Perspective Upright | 5 |
Perspective Vertical | 0 |
Perspective X | 0.00 |
Perspective Y | 0.00 |
Post Crop Vignette Amount | -27 |
Post Crop Vignette Feather | 50 |
Post Crop Vignette Highlight Contrast | 0 |
Post Crop Vignette Midpoint | 8 |
Post Crop Vignette Roundness | 0 |
Post Crop Vignette Style | 1 |
Preserved File Name | _DSF4264.RAF |
Process Version | 11.0 |
Raw File Name | _DSF4264.RAF |
Red Hue | -100 |
Red Saturation | 0 |
Rights | Luc Marie MARTIN. |
Scale Factor To 35 mm Equivalent | 1.5 |
Scene Capture Type | Standard |
Scene Type | Directly photographed |
Sensing Method | One-chip color area |
Sensitivity Type | Standard Output Sensitivity |
Shadow Tint | -17 |
Shadows 2012 | +100 |
Sharpen Detail | 55 |
Sharpen Edge Masking | 71 |
Sharpen Radius | +1.6 |
Sharpness | Normal |
Split Toning Balance | 0 |
Split Toning Highlight Hue | 0 |
Split Toning Highlight Saturation | 0 |
Split Toning Shadow Hue | 0 |
Split Toning Shadow Saturation | 0 |
Subject Distance Range | Unknown |
Texture | +67 |
Tint | +72 |
Tone Curve Name 2012 | Linear |
Tone Curve PV2012 | 0, 0, 255, 255 |
Tone Curve PV2012 Blue | 0, 0, 255, 255 |
Tone Curve PV2012 Green | 0, 0, 255, 255 |
Tone Curve PV2012 Red | 0, 0, 255, 255 |
Version | 14.5 |
Vignette Amount | 0 |
Vignette Correction Already Applied | True |
White Balance | Auto |
Whites 2012 | -89 |