Shooting information for this photo
Camera: | OLYMPUS CORPORATION E-M1MarkII |
Exposure: | 0.02 sec. (1/50) |
Aperture: | f/4.5 |
Focal Length: | 19.0 mm (35 mm equivalent: 38.0 mm) |
Flash: | Off, Did not fire |
Exposure mode: | Manual |
Max Aperture: | 2.8 |
Resolution: | 300 x 300 dpi |
Dimension: | 3368 x 4852 pixels |
Original Date: | 2021:06:14 20:55:59 |
Created on: | 2021:06:14 20:55:59 |
Modified on: | 2021:06:15 22:06:47 |
Software: | Adobe Photoshop 22.0 (Windows) |
Copyright: | Luc Marie MARTIN |
Already Applied | True |
Artist | DiagonalHorizon@yahoo.fr |
Auto Lateral CA | 0 |
Blacks 2012 | 0 |
Blue Hue | 0 |
Blue Saturation | 0 |
CFA Pattern | [Red,Green][Green,Blue] |
Camera Profile | Adobe Standard |
Circle Of Confusion | 0.015 mm |
Clarity 2012 | -27 |
Color Grade Blending | 50 |
Color Grade Global Hue | 0 |
Color Grade Global Lum | 0 |
Color Grade Global Sat | 0 |
Color Grade Highlight Lum | 0 |
Color Grade Midtone Hue | 0 |
Color Grade Midtone Lum | 0 |
Color Grade Midtone Sat | 0 |
Color Grade Shadow Lum | 0 |
Color Mode | Grayscale |
Color Noise Reduction | 25 |
Color Noise Reduction Detail | 50 |
Color Noise Reduction Smoothness | 50 |
Color Space | Uncalibrated |
Color Temperature | 7650 |
Contrast | Normal |
Contrast 2012 | +13 |
Creator | DiagonalHorizon@yahoo.fr |
Crop Angle | 1.030314 |
Crop Bottom | 0.900167 |
Crop Constrain To Warp | 0 |
Crop Left | 0.064258 |
Crop Right | 0.988318 |
Crop Top | 0.011668 |
Custom Rendered | Normal |
Date Created | 2021:06:14 20:55:59 |
Dehaze | +1 |
Description | OLYMPUS DIGITAL CAMERA |
Digital Zoom Ratio | 1 |
Distortion Correction Already Applied | True |
Exposure 2012 | 0.00 |
Exposure Compensation | 0 |
Exposure Mode | Manual |
Field Of View | 50.7 deg |
Flash Compensation | 0 |
Focal Length In 35mm Format | 38 mm |
Format | image/jpeg |
Gain Control | None |
Grain Amount | 0 |
Gray Mixer Aqua | 0 |
Gray Mixer Blue | 0 |
Gray Mixer Green | 0 |
Gray Mixer Magenta | 0 |
Gray Mixer Orange | 0 |
Gray Mixer Purple | 0 |
Gray Mixer Red | 0 |
Gray Mixer Yellow | 0 |
Green Hue | 0 |
Green Saturation | 0 |
Has Crop | True |
Has Extended XMP | C700BCF7E02CCBCB595AD828F4FE64 44 |
Has Settings | True |
Highlights 2012 | 0 |
Hyperfocal Distance | 5.34 m |
ICC Profile Name | Gray Gamma 2.2 |
ISO | 200 |
Image Description | OLYMPUS DIGITAL CAMERA |
Image Size | 3368x4852 |
Lateral Chromatic Aberration Correction Already Applied | True |
Lens | OLYMPUS M.12-40mm F2.8 |
Lens Info | 12-40mm f/2.8 |
Lens Manual Distortion Amount | 0 |
Lens Model | OLYMPUS M.12-40mm F2.8 |
Lens Profile Enable | 0 |
Light Source | Unknown |
Light Value | 9.0 |
Look Amount | 1.000000 |
Look Cluster | Adobe |
Look Copyright | © 2018 Adobe Systems, Inc. |
Look Group | B&W |
Look Name | B&W 03 |
Look Parameters Clarity 2012 | +8 |
Look Parameters Contrast 2012 | +57 |
Look Parameters Convert To Grayscale | True |
Look Parameters Look Table | 62CE423BDCA099FE0B786CA01EB606 B0 |
Look Parameters Process Version | 11.0 |
Look Parameters Tone Curve PV2012 | 0, 0, 29, 25, 128, 128, 192, 196, 255, 255 |
Look Parameters Tone Curve PV2012 Blue | 0, 0, 255, 255 |
Look Parameters Tone Curve PV2012 Green | 0, 0, 255, 255 |
Look Parameters Tone Curve PV2012 Red | 0, 0, 255, 255 |
Look Parameters Version | 13.0 |
Look Sort Name | B&W 03 |
Look Supports Monochrome | false |
Luminance Smoothing | 0 |
Metering Mode | Center-weighted average |
Override Look Vignette | False |
Paint Correction Active | true |
Paint Correction Amount | 1.000000 |
Paint Correction Brightness | 0.000000 |
Paint Correction Clarity | 0.000000 |
Paint Correction Clarity 2012 | -0.320000 |
Paint Correction Contrast | 0.000000 |
Paint Correction Contrast 2012 | 0.010000 |
Paint Correction Correction Range Mask Color Amount | 0.500000 |
Paint Correction Correction Range Mask Depth Feather | 0.500000 |
Paint Correction Correction Range Mask Depth Max | 1.000000 |
Paint Correction Correction Range Mask Depth Min | 0.000000 |
Paint Correction Correction Range Mask Lum Feather | 0.500000 |
Paint Correction Correction Range Mask Lum Max | 1.000000 |
Paint Correction Correction Range Mask Lum Min | 0.000000 |
Paint Correction Correction Range Mask Type | 0 |
Paint Correction Correction Range Mask Version | +2 |
Paint Correction Defringe | 0.000000 |
Paint Correction Exposure | 0.000000 |
Paint Correction Exposure 2012 | -0.025000 |
Paint Correction Highlights 2012 | 0.010000 |
Paint Correction Hue | 0.000000 |
Paint Correction Local Blacks 2012 | 0.050000 |
Paint Correction Local Dehaze | -0.760000 |
Paint Correction Local Hue | -0.901464 |
Paint Correction Local Texture | -1.000000 |
Paint Correction Local Whites 2012 | 0.050000 |
Paint Correction Luminance Noise | 0.000000 |
Paint Correction Mask Center Weight | 0.079702 |
Paint Correction Mask Flow | 0.888889 |
Paint Correction Mask Radius | 0.086101 |
Paint Correction Mask Value | 0.000000 |
Paint Correction Mask What | Mask/Paint |
Paint Correction Moire | 0.000000 |
Paint Correction Saturation | 0.000000 |
Paint Correction Shadows 2012 | 0.070000 |
Paint Correction Sharpness | -0.930000 |
Paint Correction Temperature | 0.180000 |
Paint Correction Tint | 0.130000 |
Paint Correction What | Correction |
Parametric Darks | 0 |
Parametric Highlight Split | 75 |
Parametric Highlights | 0 |
Parametric Lights | 0 |
Parametric Midtone Split | 50 |
Parametric Shadow Split | 25 |
Parametric Shadows | 0 |
Perspective Aspect | +1 |
Perspective Horizontal | +4 |
Perspective Rotate | 0.0 |
Perspective Scale | 100 |
Perspective Upright | 0 |
Perspective Vertical | 0 |
Perspective X | 0.00 |
Perspective Y | 0.00 |
Post Crop Vignette Amount | 0 |
Process Version | 11.0 |
Red Hue | 0 |
Red Saturation | 0 |
Rights | Luc Marie MARTIN |
Saturation | High |
Scale Factor To 35 mm Equivalent | 2.0 |
Scene Capture Type | Standard |
Sensitivity Type | Standard Output Sensitivity |
Shadow Tint | 0 |
Shadows 2012 | 0 |
Sharpen Detail | 25 |
Sharpen Edge Masking | 0 |
Sharpen Radius | +1.0 |
Sharpness | Normal |
Split Toning Balance | 0 |
Split Toning Highlight Hue | 0 |
Split Toning Highlight Saturation | 0 |
Split Toning Shadow Hue | 0 |
Split Toning Shadow Saturation | 0 |
Texture | +13 |
Tint | +25 |
Tone Curve Name 2012 | Linear |
Tone Curve PV2012 | 0, 0, 255, 255 |
Tone Curve PV2012 Blue | 0, 0, 255, 255 |
Tone Curve PV2012 Green | 0, 0, 255, 255 |
Tone Curve PV2012 Red | 0, 0, 255, 255 |
Version | 13.0 |
Vignette Amount | 0 |
White Balance | Auto |
Whites 2012 | 0 |