Shooting information for this photo
Camera: | Panasonic DMC-FZ38 |
Exposure: | 0.04 sec. (1/25) |
Aperture: | f/3.2 |
Focal Length: | 9.2 mm |
Flash: | Off, Did not fire |
Exposure mode: | Shutter speed priority AE |
Max Aperture: | 2.8 |
Resolution: | 300 x 300 dpi |
Dimension: | 2763 x 2073 pixels |
Original Date: | 2016:06:12 19:05:23 |
Created on: | 2016:06:12 19:05:23 |
Modified on: | 2016:06:12 20:22:31+02:00 |
Already Applied | True |
Auto Lateral CA | 0 |
Auto White Version | 134348800 |
Blacks 2012 | +55 |
Blue Hue | +22 |
Blue Saturation | -9 |
Camera Profile | Adobe Standard |
Clarity 2012 | +93 |
Color Mode | RGB |
Color Noise Reduction | 56 |
Color Noise Reduction Detail | 57 |
Color Noise Reduction Smoothness | 63 |
Color Space | Uncalibrated |
Color Temperature | 5250 |
Contrast 2012 | +23 |
Convert To Grayscale | False |
Crop Angle | 0.606919 |
Crop Bottom | 0.965692 |
Crop Constrain To Warp | 1 |
Crop Left | 0.011897 |
Crop Right | 0.697151 |
Crop Top | 0.030724 |
Date Created | 2016:06:12 19:05:23 |
Defringe Green Amount | 0 |
Defringe Green Hue Hi | 60 |
Defringe Green Hue Lo | 40 |
Defringe Purple Amount | 0 |
Defringe Purple Hue Hi | 70 |
Defringe Purple Hue Lo | 30 |
Dehaze | +65 |
Distortion Correction Already Applied | True |
Exposure 2012 | -1.40 |
Exposure Compensation | 0 |
Flash Fired | False |
Flash Function | False |
Flash Mode | Off |
Flash Red Eye Mode | False |
Flash Return | No return detection |
Format | image/png |
Grain Amount | 0 |
Green Hue | -8 |
Green Saturation | +34 |
Has Crop | True |
Has Settings | True |
Highlights 2012 | -74 |
Hue Adjustment Aqua | 0 |
Hue Adjustment Blue | +100 |
Hue Adjustment Green | +89 |
Hue Adjustment Magenta | -100 |
Hue Adjustment Orange | +28 |
Hue Adjustment Purple | -100 |
Hue Adjustment Red | 0 |
Hue Adjustment Yellow | -66 |
ICC Profile Name | Adobe RGB (1998) |
ISO | 100 |
Image Size | 2763x2073 |
Lateral Chromatic Aberration Correction Already Applied | True |
Lens Manual Distortion Amount | 0 |
Lens Profile Enable | 0 |
Lens Profile Setup | LensDefaults |
Light Value | 8.0 |
Luminance Adjustment Aqua | 0 |
Luminance Adjustment Blue | +100 |
Luminance Adjustment Green | -43 |
Luminance Adjustment Magenta | -28 |
Luminance Adjustment Orange | -19 |
Luminance Adjustment Purple | -69 |
Luminance Adjustment Red | -6 |
Luminance Adjustment Yellow | 0 |
Luminance Noise Reduction Contrast | 23 |
Luminance Noise Reduction Detail | 50 |
Luminance Smoothing | 37 |
Metering Mode | Center-weighted average |
Parametric Darks | +21 |
Parametric Highlight Split | 75 |
Parametric Highlights | +18 |
Parametric Lights | +55 |
Parametric Midtone Split | 50 |
Parametric Shadow Split | 25 |
Parametric Shadows | -32 |
Perspective Aspect | 0 |
Perspective Horizontal | 0 |
Perspective Rotate | 0.0 |
Perspective Scale | 100 |
Perspective Upright | 0 |
Perspective Vertical | 0 |
Post Crop Vignette Amount | -33 |
Post Crop Vignette Feather | 50 |
Post Crop Vignette Highlight Contrast | 0 |
Post Crop Vignette Midpoint | 50 |
Post Crop Vignette Roundness | 0 |
Post Crop Vignette Style | 1 |
Process Version | 6.7 |
Rating | 0 |
Raw File Name | P1590078.RW2 |
Red Hue | -43 |
Red Saturation | 0 |
Saturation | 0 |
Saturation Adjustment Aqua | +54 |
Saturation Adjustment Blue | +98 |
Saturation Adjustment Green | +55 |
Saturation Adjustment Magenta | +20 |
Saturation Adjustment Orange | -30 |
Saturation Adjustment Purple | +100 |
Saturation Adjustment Red | +17 |
Saturation Adjustment Yellow | 0 |
Shadow Tint | -76 |
Shadows 2012 | +85 |
Sharpen Detail | 71 |
Sharpen Edge Masking | 29 |
Sharpen Radius | +2.9 |
Sharpness | 148 |
Split Toning Balance | +52 |
Split Toning Highlight Hue | 248 |
Split Toning Highlight Saturation | 69 |
Split Toning Shadow Hue | 222 |
Split Toning Shadow Saturation | 3 |
Tint | -11 |
Tone Curve | 0, 0, 32, 22, 64, 56, 128, 128, 192, 196, 255, 255 |
Tone Curve Blue | 0, 0, 255, 255 |
Tone Curve Green | 0, 0, 255, 255 |
Tone Curve Name | Medium Contrast |
Tone Curve Name 2012 | Linear |
Tone Curve PV2012 | 0, 0, 255, 255 |
Tone Curve PV2012 Blue | 0, 0, 255, 255 |
Tone Curve PV2012 Green | 0, 0, 255, 255 |
Tone Curve PV2012 Red | 0, 0, 255, 255 |
Tone Curve Red | 0, 0, 255, 255 |
Tone Map Strength | 0 |
Version | 9.4 |
Vibrance | +13 |
Vignette Amount | 0 |
White Balance | Custom |
Whites 2012 | -25 |