Shooting information for this photo
Resolution: | 240 x 240 dpi |
Modified on: | 2022:04:17 16:49:59 |
Software: | Adobe Photoshop Lightroom Classic 11.2 (Macintosh) |
Copyright: | 2013 Dan.Leppert Photography |
Already Applied | True |
Auto Lateral CA | 0 |
Blacks 2012 | -49 |
Blue Hue | 0 |
Blue Saturation | 0 |
Camera Profile | Embedded |
Clarity 2012 | +37 |
Color Grade Blending | 50 |
Color Grade Global Hue | 0 |
Color Grade Global Lum | 0 |
Color Grade Global Sat | 0 |
Color Grade Highlight Lum | 0 |
Color Grade Midtone Hue | 0 |
Color Grade Midtone Lum | 0 |
Color Grade Midtone Sat | 0 |
Color Grade Shadow Lum | 0 |
Color Noise Reduction | 0 |
Color Space | sRGB |
Contrast 2012 | +75 |
Convert To Grayscale | True |
Crop Angle | 0 |
Crop Bottom | 1 |
Crop Constrain To Warp | 0 |
Crop Left | 0 |
Crop Right | 1 |
Crop Top | 0 |
Dehaze | +21 |
Exposure 2012 | +0.90 |
Format | image/jpeg |
Grain Amount | 0 |
Gray Mixer Aqua | 0 |
Gray Mixer Blue | 0 |
Gray Mixer Green | 0 |
Gray Mixer Magenta | 0 |
Gray Mixer Orange | 0 |
Gray Mixer Purple | 0 |
Gray Mixer Red | 0 |
Gray Mixer Yellow | 0 |
Green Hue | 0 |
Green Saturation | 0 |
Has Crop | False |
Has Settings | True |
Highlights 2012 | +16 |
Image Size | 5184x3456 |
Incremental Temperature | 0 |
Incremental Tint | 0 |
Lens Manual Distortion Amount | 0 |
Lens Profile Enable | 0 |
Luminance Smoothing | 0 |
Override Look Vignette | False |
Parametric Darks | 0 |
Parametric Highlight Split | 75 |
Parametric Highlights | 0 |
Parametric Lights | 0 |
Parametric Midtone Split | 50 |
Parametric Shadow Split | 25 |
Parametric Shadows | 0 |
Perspective Aspect | 0 |
Perspective Horizontal | 0 |
Perspective Rotate | 0.0 |
Perspective Scale | 100 |
Perspective Upright | 0 |
Perspective Vertical | 0 |
Perspective X | 0.00 |
Perspective Y | 0.00 |
Post Crop Vignette Amount | 0 |
Preserved File Name | IMG_9920.jpg |
Process Version | 11.0 |
Red Hue | 0 |
Red Saturation | 0 |
Rights | 2013 Dan.Leppert Photography |
Shadow Tint | 0 |
Shadows 2012 | +43 |
Sharpness | 0 |
Split Toning Balance | 0 |
Split Toning Highlight Hue | 0 |
Split Toning Highlight Saturation | 0 |
Split Toning Shadow Hue | 0 |
Split Toning Shadow Saturation | 0 |
Texture | -27 |
Tone Curve Name 2012 | Linear |
Tone Curve PV2012 | 0, 0, 255, 255 |
Tone Curve PV2012 Blue | 0, 0, 255, 255 |
Tone Curve PV2012 Green | 0, 0, 255, 255 |
Tone Curve PV2012 Red | 0, 0, 255, 255 |
Version | 14.2 |
Vignette Amount | 0 |
White Balance | As Shot |
Whites 2012 | +53 |