Shooting information for this photo
Camera: | FUJIFILM X100V |
Exposure: | 0.00313 sec. (1/320) |
Aperture: | f/3.6 |
Focal Length: | 23.0 mm (35 mm equivalent: 59.5 mm) |
Flash: | No Flash |
Exposure mode: | Manual |
Max Aperture: | 2.0 |
Resolution: | 240 x 240 dpi |
Original Date: | 2021:10:27 12:20:34 |
Created on: | 2021:10:27 12:20:34 |
Modified on: | 2021:10:27 19:09:17 |
Software: | Adobe Photoshop Lightroom 6.0 (Windows) |
Already Applied | True |
Auto Lateral CA | 0 |
Auto White Version | 134348800 |
Blacks 2012 | -20 |
Blue Hue | 0 |
Blue Saturation | 0 |
Brightness Value | 6.07 |
Camera Profile | Adobe Standard |
Circle Of Confusion | 0.012 mm |
Clarity 2012 | +30 |
Color Noise Reduction | 25 |
Color Noise Reduction Detail | 50 |
Color Noise Reduction Smoothness | 50 |
Color Space | sRGB |
Contrast 2012 | +15 |
Convert To Grayscale | True |
Crop Angle | 0 |
Crop Bottom | 0.960025 |
Crop Constrain To Warp | 0 |
Crop Left | 0.217166 |
Crop Right | 0.721058 |
Crop Top | 0.204187 |
Custom Rendered | Normal |
Exposure 2012 | 0.00 |
Exposure Compensation | 0 |
Exposure Mode | Manual |
Field Of View | 33.6 deg |
Format | image/jpeg |
Grain Amount | 60 |
Grain Frequency | 50 |
Grain Size | 25 |
Gray Mixer Aqua | -14 |
Gray Mixer Blue | +20 |
Gray Mixer Green | -29 |
Gray Mixer Magenta | +5 |
Gray Mixer Orange | -23 |
Gray Mixer Purple | +22 |
Gray Mixer Red | -13 |
Gray Mixer Yellow | -27 |
Green Hue | 0 |
Green Saturation | 0 |
Has Crop | True |
Has Settings | True |
Highlights 2012 | -50 |
Hyperfocal Distance | 12.66 m |
ISO | 320 |
Image Size | 3144x3144 |
Incremental Temperature | 0 |
Incremental Tint | 0 |
Lens Manual Distortion Amount | 0 |
Lens Profile Enable | 0 |
Lens Profile Setup | LensDefaults |
Light Source | Unknown |
Light Value | 10.3 |
Luminance Smoothing | 0 |
Metering Mode | Multi-segment |
Parametric Darks | 0 |
Parametric Highlight Split | 75 |
Parametric Highlights | 0 |
Parametric Lights | 0 |
Parametric Midtone Split | 50 |
Parametric Shadow Split | 25 |
Parametric Shadows | 0 |
Perspective Aspect | 0 |
Perspective Horizontal | 0 |
Perspective Rotate | 0.0 |
Perspective Scale | 100 |
Perspective Upright | 0 |
Perspective Vertical | -9 |
Post Crop Vignette Amount | -9 |
Post Crop Vignette Feather | 50 |
Post Crop Vignette Highlight Contrast | 0 |
Post Crop Vignette Midpoint | 50 |
Post Crop Vignette Roundness | 0 |
Post Crop Vignette Style | 1 |
Process Version | 6.7 |
Raw File Name | DSCF6586-2.JPG |
Red Hue | 0 |
Red Saturation | 0 |
Scale Factor To 35 mm Equivalent | 2.6 |
Scene Capture Type | Standard |
Scene Type | Directly photographed |
Sensing Method | One-chip color area |
Sensitivity Type | Standard Output Sensitivity |
Shadow Tint | 0 |
Shadows 2012 | -30 |
Sharpen Detail | 25 |
Sharpen Edge Masking | 0 |
Sharpen Radius | +1.0 |
Sharpness | Normal |
Split Toning Balance | 0 |
Split Toning Highlight Hue | 0 |
Split Toning Highlight Saturation | 0 |
Split Toning Shadow Hue | 0 |
Split Toning Shadow Saturation | 0 |
Subject Distance Range | Unknown |
Tone Curve | 0, 0, 255, 255 |
Tone Curve Blue | 0, 0, 255, 255 |
Tone Curve Green | 0, 0, 255, 255 |
Tone Curve Name | Linear |
Tone Curve Name 2012 | Strong Contrast |
Tone Curve PV2012 | 0, 0, 32, 16, 64, 50, 128, 128, 192, 202, 255, 255 |
Tone Curve PV2012 Blue | 0, 0, 255, 255 |
Tone Curve PV2012 Green | 0, 0, 255, 255 |
Tone Curve PV2012 Red | 0, 0, 255, 255 |
Tone Curve Red | 0, 0, 255, 255 |
Version | 9.0 |
Vignette Amount | 0 |
White Balance | Auto |
Whites 2012 | 0 |