Shooting information for this photo
Camera: | samsung Galaxy S25 Ultra |
Exposure: | 0.00026 sec. (1/3800) |
Aperture: | f/1.7 |
Focal Length: | 6.3 mm (35 mm equivalent: 23.0 mm) |
Resolution: | 94 x 94 dpi |
Original Date: | 2025:02:02 14:33:10.474 |
Modified on: | 2025:02:07 19:43:56 |
Software: | Adobe Photoshop Lightroom Classic 14.1.1 (Windows) |
Already Applied | True |
Auto Lateral CA | 0 |
Blacks 2012 | -17 |
Blue Hue | 0 |
Blue Saturation | 0 |
Camera Profile | Embedded Galaxy RAW |
Circle Of Confusion | 0.008 mm |
Clarity 2012 | +28 |
Color Grade Blending | 50 |
Color Grade Global Hue | 0 |
Color Grade Global Lum | 0 |
Color Grade Global Sat | 0 |
Color Grade Highlight Lum | 0 |
Color Grade Midtone Hue | 0 |
Color Grade Midtone Lum | 0 |
Color Grade Midtone Sat | 0 |
Color Grade Shadow Lum | 0 |
Color Noise Reduction | 25 |
Color Noise Reduction Detail | 50 |
Color Noise Reduction Smoothness | 50 |
Color Space | sRGB |
Color Temperature | 4750 |
Compatible Version | 234881024 |
Contrast 2012 | +7 |
Crop Angle | 0.68 |
Crop Bottom | 1 |
Crop Constrain To Warp | 0 |
Crop Left | 0.00785 |
Crop Right | 0.99215 |
Crop Top | 0.102389 |
Date Created | 2025:02:02 14:33:10.474+01:00 |
Defringe Green Amount | 0 |
Defringe Green Hue Hi | 60 |
Defringe Green Hue Lo | 40 |
Defringe Purple Amount | 0 |
Defringe Purple Hue Hi | 70 |
Defringe Purple Hue Lo | 30 |
Dehaze | 0 |
Exposure 2012 | +0.01 |
Exposure Compensation | 0 |
Field Of View | 76.1 deg |
Focal Length In 35mm Format | 23 mm |
Format | image/jpeg |
Grain Amount | 0 |
Green Hue | 0 |
Green Saturation | 0 |
HDR Edit Mode | 0 |
Has Crop | True |
Has Settings | True |
Highlights 2012 | -100 |
Hue Adjustment Aqua | 0 |
Hue Adjustment Blue | 0 |
Hue Adjustment Green | 0 |
Hue Adjustment Magenta | 0 |
Hue Adjustment Orange | 0 |
Hue Adjustment Purple | 0 |
Hue Adjustment Red | 0 |
Hue Adjustment Yellow | 0 |
Hyperfocal Distance | 2.84 m |
ISO | 40 |
Image Size | 8097x5398 |
Lens Manual Distortion Amount | 0 |
Lens Profile Enable | 0 |
Light Value | 14.7 |
Look Amount | 1 |
Look Camera Model Restriction | Samsung Galaxy Raw Camera |
Look Copyright | © 2022 Adobe Systems, Inc. |
Look Group | Profiles |
Look Name | Samsung Expert RAW |
Look Parameters Camera Profile | Embedded Galaxy RAW |
Look Parameters Convert To Grayscale | False |
Look Parameters Process Version | 15.4 |
Look Parameters Profile Gain Table Map | 100 |
Look Parameters RGB Tables | 100 |
Look Parameters Version | 17.1 |
Look Supports Monochrome | false |
Look Supports Output Referred | false |
Luminance Adjustment Aqua | 0 |
Luminance Adjustment Blue | -21 |
Luminance Adjustment Green | 0 |
Luminance Adjustment Magenta | 0 |
Luminance Adjustment Orange | 0 |
Luminance Adjustment Purple | 0 |
Luminance Adjustment Red | 0 |
Luminance Adjustment Yellow | 0 |
Luminance Smoothing | 0 |
Override Look Vignette | False |
Parametric Darks | 0 |
Parametric Highlight Split | 75 |
Parametric Highlights | 0 |
Parametric Lights | 0 |
Parametric Midtone Split | 50 |
Parametric Shadow Split | 25 |
Parametric Shadows | 0 |
Perspective Aspect | 0 |
Perspective Horizontal | 0 |
Perspective Rotate | 0.0 |
Perspective Scale | 100 |
Perspective Upright | 0 |
Perspective Vertical | 0 |
Perspective X | 0.00 |
Perspective Y | 0.00 |
Pick | 0 |
Point Colors | -1.000000, -1.000000, -1.000000, -1.000000, -1.000000, -1.000000, -1.000000, -1.000000, -1.000000, -1.000000, -1.000000, -1.000000, -1.000000, -1.000000, -1.000000, -1.000000, -1.000000, -1.000000, -1.000000 |
Post Crop Vignette Amount | 0 |
Preserved File Name | 20250202_143310.dng |
Process Version | 15.4 |
Raw File Name | 20250202_143310.dng |
Red Hue | 0 |
Red Saturation | 0 |
Saturation | +4 |
Saturation Adjustment Aqua | 0 |
Saturation Adjustment Blue | 0 |
Saturation Adjustment Green | 0 |
Saturation Adjustment Magenta | 0 |
Saturation Adjustment Orange | 0 |
Saturation Adjustment Purple | 0 |
Saturation Adjustment Red | 0 |
Saturation Adjustment Yellow | 0 |
Scale Factor To 35 mm Equivalent | 3.7 |
Shadow Tint | 0 |
Shadows 2012 | +100 |
Sharpen Detail | 25 |
Sharpen Edge Masking | 0 |
Sharpen Radius | +1.0 |
Sharpness | 40 |
Split Toning Balance | 0 |
Split Toning Highlight Hue | 0 |
Split Toning Highlight Saturation | 0 |
Split Toning Shadow Hue | 0 |
Split Toning Shadow Saturation | 0 |
Subject | ATS, Alpenregion, Baum, Holz, Natur, Pflanze, Schnee, Winter, Winterlandschaft |
Texture | 0 |
Tint | -22 |
Title | Neureuth 1210 m - Nebel im Tal -HFF |
Tone Curve Name 2012 | Linear |
Tone Curve PV2012 | 0, 0, 255, 255 |
Tone Curve PV2012 Blue | 0, 0, 255, 255 |
Tone Curve PV2012 Green | 0, 0, 255, 255 |
Tone Curve PV2012 Red | 0, 0, 255, 255 |
Version | 17.1 |
Vibrance | +17 |
Vignette Amount | 0 |
Weighted Flat Subject | Pflanze, Natur, Baum, Holz, Schnee, Winter, Winterlandschaft, Alpenregion, ATS |
White Balance | As Shot |
Whites 2012 | +14 |