Shooting information for this photo
Camera: | samsung Galaxy S25 Ultra |
Exposure: | 9.0E-5 sec. (1/10700) |
Aperture: | f/1.7 |
Focal Length: | 6.3 mm (35 mm equivalent: 23.0 mm) |
Resolution: | 94 x 94 dpi |
Original Date: | 2025:02:02 14:38:16.677 |
Modified on: | 2025:02:02 20:50:31 |
Software: | Adobe Photoshop Lightroom Classic 14.1.1 (Windows) |
Already Applied | True |
Auto Lateral CA | 0 |
Blacks 2012 | -23 |
Blue Hue | 0 |
Blue Saturation | 0 |
Camera Profile | Embedded Galaxy RAW |
Circle Of Confusion | 0.008 mm |
Clarity 2012 | 0 |
Color Grade Blending | 50 |
Color Grade Global Hue | 0 |
Color Grade Global Lum | 0 |
Color Grade Global Sat | 0 |
Color Grade Highlight Lum | 0 |
Color Grade Midtone Hue | 0 |
Color Grade Midtone Lum | 0 |
Color Grade Midtone Sat | 0 |
Color Grade Shadow Lum | 0 |
Color Noise Reduction | 25 |
Color Noise Reduction Detail | 50 |
Color Noise Reduction Smoothness | 50 |
Color Space | sRGB |
Color Temperature | 4650 |
Compatible Version | 251920384 |
Contrast 2012 | +6 |
Crop Angle | 2.06 |
Crop Bottom | 1 |
Crop Constrain To Warp | 0 |
Crop Left | 0.045764 |
Crop Right | 0.974258 |
Crop Top | 0 |
Date Created | 2025:02:02 14:38:16.677+01:00 |
Defringe Green Amount | 0 |
Defringe Green Hue Hi | 60 |
Defringe Green Hue Lo | 40 |
Defringe Purple Amount | 0 |
Defringe Purple Hue Hi | 70 |
Defringe Purple Hue Lo | 30 |
Dehaze | 0 |
Exposure 2012 | +0.02 |
Exposure Compensation | -1 |
Field Of View | 76.1 deg |
Focal Length In 35mm Format | 23 mm |
Format | image/jpeg |
Grain Amount | 0 |
Green Hue | 0 |
Green Saturation | 0 |
HDR Edit Mode | 0 |
Has Crop | True |
Has Settings | True |
Highlights 2012 | +4 |
Hue Adjustment Aqua | 0 |
Hue Adjustment Blue | 0 |
Hue Adjustment Green | 0 |
Hue Adjustment Magenta | 0 |
Hue Adjustment Orange | 0 |
Hue Adjustment Purple | 0 |
Hue Adjustment Red | 0 |
Hue Adjustment Yellow | 0 |
Hyperfocal Distance | 2.84 m |
ISO | 12 |
Image Size | 7792x5844 |
Lens Manual Distortion Amount | 0 |
Lens Profile Enable | 0 |
Light Value | 18.0 |
Look Amount | 1 |
Look Camera Model Restriction | Samsung Galaxy Raw Camera |
Look Copyright | © 2022 Adobe Systems, Inc. |
Look Group | Profiles |
Look Name | Samsung Expert RAW |
Look Parameters Camera Profile | Embedded Galaxy RAW |
Look Parameters Convert To Grayscale | False |
Look Parameters Process Version | 15.4 |
Look Parameters Profile Gain Table Map | 100 |
Look Parameters RGB Tables | 100 |
Look Parameters Version | 17.1 |
Look Supports Monochrome | false |
Look Supports Output Referred | false |
Luminance Adjustment Aqua | 0 |
Luminance Adjustment Blue | +57 |
Luminance Adjustment Green | +11 |
Luminance Adjustment Magenta | 0 |
Luminance Adjustment Orange | +2 |
Luminance Adjustment Purple | 0 |
Luminance Adjustment Red | 0 |
Luminance Adjustment Yellow | -2 |
Luminance Smoothing | 0 |
Override Look Vignette | False |
Parametric Darks | +44 |
Parametric Highlight Split | 75 |
Parametric Highlights | 0 |
Parametric Lights | 0 |
Parametric Midtone Split | 50 |
Parametric Shadow Split | 25 |
Parametric Shadows | +3 |
Perspective Aspect | 0 |
Perspective Horizontal | 0 |
Perspective Rotate | 0.0 |
Perspective Scale | 100 |
Perspective Upright | 0 |
Perspective Vertical | 0 |
Perspective X | 0.00 |
Perspective Y | 0.00 |
Pick | 0 |
Point Colors | -1.000000, -1.000000, -1.000000, -1.000000, -1.000000, -1.000000, -1.000000, -1.000000, -1.000000, -1.000000, -1.000000, -1.000000, -1.000000, -1.000000, -1.000000, -1.000000, -1.000000, -1.000000, -1.000000 |
Post Crop Vignette Amount | +4 |
Post Crop Vignette Feather | 50 |
Post Crop Vignette Midpoint | 50 |
Post Crop Vignette Roundness | 0 |
Post Crop Vignette Style | 1 |
Preserved File Name | 20250202_143816.dng |
Process Version | 15.4 |
Raw File Name | 20250202_143816.dng |
Red Hue | 0 |
Red Saturation | 0 |
Saturation | +6 |
Saturation Adjustment Aqua | 0 |
Saturation Adjustment Blue | -1 |
Saturation Adjustment Green | 0 |
Saturation Adjustment Magenta | 0 |
Saturation Adjustment Orange | 0 |
Saturation Adjustment Purple | 0 |
Saturation Adjustment Red | 0 |
Saturation Adjustment Yellow | +2 |
Scale Factor To 35 mm Equivalent | 3.7 |
Shadow Tint | 0 |
Shadows 2012 | +89 |
Sharpen Detail | 25 |
Sharpen Edge Masking | 0 |
Sharpen Radius | +1.0 |
Sharpness | 40 |
Split Toning Balance | 0 |
Split Toning Highlight Hue | 0 |
Split Toning Highlight Saturation | 0 |
Split Toning Shadow Hue | 0 |
Split Toning Shadow Saturation | 0 |
Subject | Baum, Holz, Natur, Nebel, Pflanze, Ungesättigt |
Texture | 0 |
Tint | -20 |
Title | Neureuth 1210 m - sun breaks |
Tone Curve Name 2012 | Linear |
Tone Curve PV2012 | 0, 0, 255, 255 |
Tone Curve PV2012 Blue | 0, 0, 255, 255 |
Tone Curve PV2012 Green | 0, 0, 255, 255 |
Tone Curve PV2012 Red | 0, 0, 255, 255 |
Version | 17.1 |
Vibrance | +20 |
Vignette Amount | 0 |
Weighted Flat Subject | Ungesättigt, Pflanze, Natur, Baum, Holz, Nebel |
White Balance | As Shot |
Whites 2012 | +32 |