Shooting information for this photo
Camera: | PENTAX K20D |
Exposure: | 0.06667 sec. (1/15) |
Aperture: | f/2.8 |
Focal Length: | 19.0 mm (35 mm equivalent: 28.0 mm) |
Flash: | Off, Did not fire |
Exposure mode: | Program AE |
Resolution: | 240 x 240 dpi |
Original Date: | 2010:08:16 21:40:13 |
Created on: | 2010:08:16 21:40:13 |
Modified on: | 2018:09:02 23:44:27 |
Software: | Adobe Photoshop Lightroom Classic 7.5 (Windows) |
Already Applied | True |
Auto Lateral CA | 0 |
Blacks 2012 | -44 |
Blue Hue | 0 |
Blue Saturation | 0 |
Camera Profile | Adobe Standard |
Circle Of Confusion | 0.020 mm |
City | Paris |
Clarity 2012 | +82 |
Color Noise Reduction | 25 |
Color Noise Reduction Detail | 50 |
Color Noise Reduction Smoothness | 50 |
Color Space | sRGB |
Color Temperature | 3300 |
Contrast | Normal |
Contrast 2012 | -20 |
Convert To Grayscale | True |
Country | Frankreich |
Country Code | FR |
Crop Angle | 0 |
Crop Bottom | 0.943165 |
Crop Constrain To Warp | 1 |
Crop Left | 0.15327 |
Crop Right | 0.897394 |
Crop Top | 0.045123 |
Custom Rendered | Normal |
Date Created | 2010:08:16 21:40:13+02:00 |
Dehaze | 0 |
Description | Notre-Dame |
Distortion Correction Already Applied | True |
Exposure 2012 | 0.00 |
Exposure Compensation | 0 |
Exposure Mode | Auto |
Field Of View | 65.5 deg |
Focal Length In 35mm Format | 28 mm |
Format | image/jpeg |
Gradient Based Corr Active | true |
Gradient Based Corr Amount | 1.000000 |
Gradient Based Corr Brightness | 0.000000 |
Gradient Based Corr Correction Range Mask Color Amount | 0.500000 |
Gradient Based Corr Correction Range Mask Lum Feather | 0.500000 |
Gradient Based Corr Correction Range Mask Lum Max | 1.000000 |
Gradient Based Corr Correction Range Mask Lum Min | 0.000000 |
Gradient Based Corr Correction Range Mask Type | 0 |
Gradient Based Corr Correction Range Mask Version | +2 |
Gradient Based Corr Hue | 40.000000 |
Gradient Based Corr Mask Full X | 0.515971 |
Gradient Based Corr Mask Full Y | 1.001840 |
Gradient Based Corr Mask Value | 1.000000 |
Gradient Based Corr Mask What | Mask/Gradient |
Gradient Based Corr Mask Zero X | 0.518428 |
Gradient Based Corr Mask Zero Y | 0.801105 |
Gradient Based Corr Saturation | 0.010000 |
Gradient Based Corr Sharpness | 0.000000 |
Gradient Based Corr What | Correction |
Grain Amount | 0 |
Gray Mixer Aqua | -19 |
Gray Mixer Blue | +10 |
Gray Mixer Green | -23 |
Gray Mixer Magenta | +7 |
Gray Mixer Orange | -13 |
Gray Mixer Purple | +16 |
Gray Mixer Red | -4 |
Gray Mixer Yellow | -16 |
Green Hue | 0 |
Green Saturation | 0 |
Has Crop | True |
Has Settings | True |
Highlights 2012 | -100 |
Hyperfocal Distance | 6.32 m |
ISO | 3200 |
Image Description | Notre-Dame |
Image Size | 2788x3477 |
Lens | smc PENTAX-DA* 16-50mm F2.8 ED AL [IF] SDM |
Lens ID | smc PENTAX-DA* 16-50mm F2.8 ED AL [IF] SDM |
Lens Info | 16-50mm f/2.8 |
Lens Manual Distortion Amount | 0 |
Lens Model | smc PENTAX-DA* 16-50mm F2.8 ED AL [IF] SDM |
Lens Profile Chromatic Aberration Scale | 100 |
Lens Profile Distortion Scale | 100 |
Lens Profile Enable | 1 |
Lens Profile Filename | PENTAX (smc PENTAX-DA 16-50mm F2.8 ED AL [IF] SDM).lcp |
Lens Profile Name | Adobe (smc PENTAX-DA*16-50mm F2.8 ED AL [IF] SDM) |
Lens Profile Setup | LensDefaults |
Lens Profile Vignetting Scale | 100 |
Light Value | 1.9 |
Luminance Noise Reduction Contrast | 0 |
Luminance Noise Reduction Detail | 50 |
Luminance Smoothing | 39 |
Metering Mode | Multi-segment |
Override Look Vignette | False |
Parametric Darks | +24 |
Parametric Highlight Split | 75 |
Parametric Highlights | -73 |
Parametric Lights | +24 |
Parametric Midtone Split | 50 |
Parametric Shadow Split | 25 |
Parametric Shadows | -24 |
Perspective Aspect | 0 |
Perspective Horizontal | 0 |
Perspective Rotate | 0.0 |
Perspective Scale | 100 |
Perspective Upright | 1 |
Perspective Vertical | 0 |
Perspective X | 0.00 |
Perspective Y | 0.00 |
Post Crop Vignette Amount | 0 |
Process Version | 10.0 |
Rating | 1 |
Red Hue | 0 |
Red Saturation | 0 |
Saturation | Normal |
Scale Factor To 35 mm Equivalent | 1.5 |
Scene Capture Type | Standard |
Sensing Method | One-chip color area |
Shadow Tint | 0 |
Shadows 2012 | +100 |
Sharpen Detail | 25 |
Sharpen Edge Masking | 0 |
Sharpen Radius | +1.0 |
Sharpness | Normal |
Split Toning Balance | 0 |
Split Toning Highlight Hue | 216 |
Split Toning Highlight Saturation | 21 |
Split Toning Shadow Hue | 37 |
Split Toning Shadow Saturation | 22 |
State | Île-de-France |
Subject | Frankreich |
Subject Distance Range | Close |
Tint | +21 |
Title | Paris Türe |
Tone Curve | 0, 0, 255, 255 |
Tone Curve Blue | 0, 0, 255, 255 |
Tone Curve Green | 0, 0, 255, 255 |
Tone Curve Name | Linear |
Tone Curve Name 2012 | Linear |
Tone Curve PV2012 | 0, 0, 255, 255 |
Tone Curve PV2012 Blue | 0, 0, 255, 255 |
Tone Curve PV2012 Green | 0, 0, 255, 255 |
Tone Curve PV2012 Red | 0, 0, 255, 255 |
Tone Curve Red | 0, 0, 255, 255 |
Tone Map Strength | 0 |
Version | 10.5 |
Vignette Amount | -83 |
Vignette Correction Already Applied | True |
Vignette Midpoint | 21 |
White Balance | Auto |
Whites 2012 | +21 |
GPS Information |
GPS Altitude | 35.305 m |
GPS Latitude | 48 deg 51' 12.10" N |
GPS Latitude Ref | North |
GPS Longitude | 2 deg 20' 56.82" E |
GPS Longitude Ref | East |
GPS Position | 48 deg 51' 12.10" N, 2 deg 20' 56.82" E |
GPS Version ID | 2.2.0.0 |