Shooting information for this photo
Camera: | Canon EOS 5D Mark IV |
Exposure: | 0.005 sec. (1/200) |
Aperture: | f/16.0 |
Focal Length: | 200.0 mm (35 mm equivalent: 245.6 mm) |
Flash: | Off, Did not fire |
Exposure mode: | Aperture-priority AE |
Max Aperture: | 4.0 |
Resolution: | 240 x 240 dpi |
Original Date: | 2017:04:30 17:59:28 |
Created on: | 2017:04:30 17:59:28.00 |
Modified on: | 2017:11:19 02:21:03 |
Software: | Adobe Photoshop Lightroom Classic 7.0 (Windows) |
Already Applied | True |
Approximate Focus Distance | 25.3 |
Auto Lateral CA | 0 |
Blacks 2012 | -37 |
Blue Hue | 0 |
Blue Saturation | 0 |
Camera Profile | Adobe Standard |
Circle Of Confusion | 0.024 mm |
City | Gmund am Tegernsee |
Clarity 2012 | +38 |
Color Noise Reduction | 25 |
Color Noise Reduction Detail | 50 |
Color Noise Reduction Smoothness | 50 |
Color Space | sRGB |
Color Temperature | 4550 |
Contrast 2012 | +30 |
Convert To Grayscale | True |
Country | Deutschland |
Country Code | DE |
Crop Angle | 0 |
Crop Bottom | 0.96987 |
Crop Constrain To Warp | 0 |
Crop Left | 0.096512 |
Crop Right | 0.949779 |
Crop Top | 0.249926 |
Custom Rendered | Normal |
Date Created | 2017:04:30 17:59:28.00 |
Dehaze | 0 |
Description | "Die Menschenrechte beginnen, wo die Vorurteile enden.".Marie-Joseph Motier, Marquis de La Fayette (1757 - 1834). Am Sonntag 19.11. wird der Toten von Krieg und Gewaltherrschaft aller Völker gedacht. (https://de.wikipedia.org/wiki /Durnbach_War_Cemetery) |
Exposure 2012 | +0.43 |
Exposure Compensation | 0 |
Exposure Mode | Auto |
Field Of View | 8.4 deg |
Firmware | 1.0.4 |
Flash Compensation | 0 |
Format | image/jpeg |
Gradient Based Corr Active | true |
Gradient Based Corr Amount | 1.000000 |
Gradient Based Corr Brightness | 0.000000 |
Gradient Based Corr Clarity 2012 | -1.000000 |
Gradient Based Corr Contrast 2012 | 1.000000 |
Gradient Based Corr Correction Range Mask Color Amount | 0.500000 |
Gradient Based Corr Correction Range Mask Lum Feather | 0.500000 |
Gradient Based Corr Correction Range Mask Lum Max | 1.000000 |
Gradient Based Corr Correction Range Mask Lum Min | 0.000000 |
Gradient Based Corr Correction Range Mask Type | 0 |
Gradient Based Corr Defringe | 0.000000 |
Gradient Based Corr Exposure 2012 | 0.139000 |
Gradient Based Corr Highlights 2012 | -0.555560 |
Gradient Based Corr Hue | 240.000000 |
Gradient Based Corr Local Blacks 2012 | 0.222220 |
Gradient Based Corr Local Dehaze | 0.000000 |
Gradient Based Corr Local Whites 2012 | 0.000000 |
Gradient Based Corr Luminance Noise | 1.000000 |
Gradient Based Corr Mask Center Weight | 0.000000 |
Gradient Based Corr Mask Flow | 1.000000 |
Gradient Based Corr Mask Full X | 0.722577 |
Gradient Based Corr Mask Full Y | 0.274424 |
Gradient Based Corr Mask Radius | 0.036192 |
Gradient Based Corr Mask Value | 0.000000 |
Gradient Based Corr Mask What | Mask/Paint |
Gradient Based Corr Mask Zero X | 0.725816 |
Gradient Based Corr Mask Zero Y | 0.492704 |
Gradient Based Corr Moire | 0.000000 |
Gradient Based Corr Saturation | 0.000000 |
Gradient Based Corr Shadows 2012 | 0.129630 |
Gradient Based Corr Sharpness | 0.000000 |
Gradient Based Corr Temperature | 0.416670 |
Gradient Based Corr Tint | 0.000000 |
Gradient Based Corr What | Correction |
Grain Amount | 0 |
Gray Mixer Aqua | +6 |
Gray Mixer Blue | +60 |
Gray Mixer Green | -34 |
Gray Mixer Magenta | -2 |
Gray Mixer Orange | +56 |
Gray Mixer Purple | -66 |
Gray Mixer Red | +3 |
Gray Mixer Yellow | +9 |
Green Hue | 0 |
Green Saturation | 0 |
Has Crop | True |
Has Extended XMP | 78C81C12BEA6A299C3664D7925C805 2C |
Has Settings | True |
Highlights 2012 | -31 |
Hyperfocal Distance | 102.16 m |
ISO | 400 |
Image Description | "Die Menschenrechte beginnen, wo die Vorurteile enden.".Marie-Joseph Motier, Marquis de La Fayette (1757 - 1834). Am Sonntag 19.11. wird der Toten von Krieg und Gewaltherrschaft aller Völker gedacht. (https://de.wikipedia.org/wiki /Durnbach_War_Cemetery) |
Image Number | 0 |
Image Size | 5733x3225 |
Lens | EF70-200mm f/4L IS USM |
Lens ID | Canon EF 70-200mm f/4L IS |
Lens Info | 70-200mm f/? |
Lens Manual Distortion Amount | 0 |
Lens Model | EF70-200mm f/4L IS USM |
Lens Profile Enable | 0 |
Lens Profile Setup | LensDefaults |
Light Value | 13.6 |
Luminance Smoothing | 0 |
Metering Mode | Multi-segment |
Parametric Darks | +33 |
Parametric Highlight Split | 90 |
Parametric Highlights | -26 |
Parametric Lights | -8 |
Parametric Midtone Split | 69 |
Parametric Shadow Split | 25 |
Parametric Shadows | -45 |
Perspective Aspect | 0 |
Perspective Horizontal | 0 |
Perspective Rotate | 0.0 |
Perspective Scale | 100 |
Perspective Upright | 5 |
Perspective Vertical | 0 |
Perspective X | 0.00 |
Perspective Y | 0.00 |
Post Crop Vignette Amount | 0 |
Process Version | 10.0 |
Recommended Exposure Index | 400 |
Red Hue | 0 |
Red Saturation | 0 |
Scale Factor To 35 mm Equivalent | 1.2 |
Scene Capture Type | Standard |
Sensitivity Type | Recommended Exposure Index |
Shadow Tint | 0 |
Shadows 2012 | +17 |
Sharpen Detail | 53 |
Sharpen Edge Masking | 0 |
Sharpen Radius | +2.0 |
Sharpness | 125 |
Split Toning Balance | 0 |
Split Toning Highlight Hue | 0 |
Split Toning Highlight Saturation | 0 |
Split Toning Shadow Hue | 0 |
Split Toning Shadow Saturation | 0 |
State | Bayern |
Tint | -3 |
Title | Zum Volkstrauertag |
Tone Curve | 0, 0, 255, 255 |
Tone Curve Blue | 0, 0, 255, 255 |
Tone Curve Green | 0, 0, 255, 255 |
Tone Curve Name | Linear |
Tone Curve Name 2012 | Linear |
Tone Curve PV2012 | 0, 0, 255, 255 |
Tone Curve PV2012 Blue | 0, 0, 255, 255 |
Tone Curve PV2012 Green | 0, 0, 255, 255 |
Tone Curve PV2012 Red | 0, 0, 255, 255 |
Tone Curve Red | 0, 0, 255, 255 |
Version | 10.0 |
Vignette Amount | 0 |
White Balance | Auto |
Whites 2012 | 0 |
GPS Information |
GPS Altitude | 761 m Above Sea Level |
GPS Altitude Ref | Above Sea Level |
GPS Date Stamp | 2017:04:30 |
GPS Date/Time | 2017:04:30 15:59:12.877Z |
GPS Dilution Of Precision | 1.8 |
GPS Latitude | 47 deg 46' 42.41" N |
GPS Latitude Ref | North |
GPS Longitude | 11 deg 44' 0.60" E |
GPS Longitude Ref | East |
GPS Map Datum | WGS-84 |
GPS Measure Mode | 3-Dimensional Measurement |
GPS Position | 47 deg 46' 42.41" N, 11 deg 44' 0.60" E |
GPS Satellites | 10 |
GPS Status | Measurement Active |
GPS Time Stamp | 15:59:12.877 |
GPS Version ID | 2.3.0.0 |